Workbook

Sheet A.1
C2: ALOKASI PEMBAGIAN DAN PENYALURAN DANA OTONOMI KHUSUS
C3: ANTARA PROVINSI DAN KABUPATEN/KOTA ATAU NAMA LAIN
C4: TAHUN ANGGARAN 2019
C5: PROVINSI : PAPUA
C6: PENERIMAAN : Rp 5.850.230.158.000,00 | M6: Tabel A.1
C9: NO. | D9: U R A I A N | E9: PERMINTAAN PENYALURAN TAHAP I | H9: PERMINTAAN PENYALURAN TAHAP II | K9: PERMINTAAN PENYALURAN TAHAP I | N9: KET
E10: ALOKASI ANGGARAN (Rp. ) | G10: PROSENTASE ALOKASI ANGGARAN ( % ) | H10: ALOKASI ANGGARAN (Rp.) | I10: REALISASI PENYALURAN (Rp.) | J10: PROSENTASE REALISASI PENYALURAN (%) | K10: ALOKASI ANGGARAN (Rp.) | L10: REALISASI PENYALURAN (Rp.) | M10: PROSENTASE REALISASI PENYALURAN (%)
C12: (1) | D12: (2) | E12: (3) | G12: (4) | H12: (5) | I12: (6) | J12: (7) | K12: (3) | L12: (4) | M12: (5) | N12: (6)
C15: I. | D15: PROVINSI PAPUA | E15: 389351314600 | F15: 5850230158000 | G15: =E15/F15*100 -> 6.6553162 | H15: =+E15 -> 389351314600 | I15: =0.3*E15 -> 116805394380 | J15: =+I15/H15*100 -> 30 | K15: =H15 -> 389351314600 | L15: =+K15 -> 389351314600 | M15: =L15/K15*100 -> 100
C16: II. | D16: KABUPATEN/KOTA | E16: =SUM(E17:E45) -> 1.5574053e+12 | F16: 5850230158000 | G16: =E16/F16*100 -> 26.621265 | H16: =SUM(H17:H45) -> 1.5574053e+12 | I16: =0.3*E16 -> 4.6722158e+11 | J16: =+I16/H16*100 -> 30 | K16: =H16 -> 1.5574053e+12 | L16: =+K16 -> 1.5574053e+12 | M16: =L16/K16*100 -> 100
D17: 1. KABUPATEN MERAUKE | E17: 4.8495887e+10 | F17: 5850230158000 | G17: =E17/F17*100 -> 0.82895691 | H17: 4.8495887e+10 | I17: =0.3*E17 -> 1.4548766e+10 | J17: =+I17/H17*100 -> 30 | K17: =H17 -> 4.8495887e+10 | L17: =+K17 -> 4.8495887e+10 | M17: =L17/K17*100 -> 100
D18: 2. KABUPATEN JAYAWIJAYA | E18: 5.1356988e+10 | F18: 5850230158000 | G18: =E18/F18*100 -> 0.87786268 | H18: 5.1356988e+10 | I18: =0.3*E18 -> 1.5407096e+10 | J18: =+I18/H18*100 -> 30 | K18: =H18 -> 5.1356988e+10 | L18: =+K18 -> 5.1356988e+10 | M18: =L18/K18*100 -> 100
D19: 3. KABUPATEN JAYAPURA | E19: 4.6073464e+10 | F19: 5850230158000 | G19: =E19/F19*100 -> 0.78754959 | H19: 4.6073464e+10 | I19: =0.3*E19 -> 1.3822039e+10 | J19: =+I19/H19*100 -> 30 | K19: =H19 -> 4.6073464e+10 | L19: =+K19 -> 4.6073464e+10 | M19: =L19/K19*100 -> 100
D20: 4. KABUPATEN NABIRE | E20: 4.5756973e+10 | F20: 5850230158000 | G20: =E20/F20*100 -> 0.78213971 | H20: 4.5756973e+10 | I20: =0.3*E20 -> 1.3727092e+10 | J20: =+I20/H20*100 -> 30 | K20: =H20 -> 4.5756973e+10 | L20: =+K20 -> 4.5756973e+10 | M20: =L20/K20*100 -> 100
D21: 5. KABUPATEN KEP. YAPEN | E21: 4.5992775e+10 | F21: 5850230158000 | G21: =E21/F21*100 -> 0.78617036 | H21: 4.5992775e+10 | I21: =0.3*E21 -> 1.3797833e+10 | J21: =+I21/H21*100 -> 30 | K21: =H21 -> 4.5992775e+10 | L21: =+K21 -> 4.5992775e+10 | M21: =L21/K21*100 -> 100
D22: 6. KABUPATEN BIAK NUMFOR | E22: 3.2258637e+10 | F22: 5850230158000 | G22: =E22/F22*100 -> 0.55140799 | H22: 3.2258637e+10 | I22: =0.3*E22 -> 9.677591e+09 | J22: =+I22/H22*100 -> 30 | K22: =H22 -> 3.2258637e+10 | L22: =+K22 -> 3.2258637e+10 | M22: =L22/K22*100 -> 100
D23: 7. KABUPATEN PANIAI | E23: 6.4189783e+10 | F23: 5850230158000 | G23: =E23/F23*100 -> 1.0972181 | H23: 6.4189783e+10 | I23: =0.3*E23 -> 1.9256935e+10 | J23: =+I23/H23*100 -> 30 | K23: =H23 -> 6.4189783e+10 | L23: =+K23 -> 6.4189783e+10 | M23: =L23/K23*100 -> 100
D24: 8. KABUPATEN PUNCAK JAYA | E24: 6.4622624e+10 | F24: 5850230158000 | G24: =E24/F24*100 -> 1.1046168 | H24: 6.4622624e+10 | I24: =0.3*E24 -> 1.9386787e+10 | J24: =+I24/H24*100 -> 30 | K24: =H24 -> 6.4622624e+10 | L24: =+K24 -> 6.4622624e+10 | M24: =L24/K24*100 -> 100
D25: 9. KABUPATEN MIMIKA | E25: 3.1309837e+10 | F25: 5850230158000 | G25: =E25/F25*100 -> 0.53518983 | H25: 3.1309837e+10 | I25: =0.3*E25 -> 9.392951e+09 | J25: =+I25/H25*100 -> 30 | K25: =H25 -> 3.1309837e+10 | L25: =+K25 -> 3.1309837e+10 | M25: =L25/K25*100 -> 100
D26: 10. KABUPATEN BOVEN DIGOEL | E26: 5.9981998e+10 | F26: 5850230158000 | G26: =E26/F26*100 -> 1.025293 | H26: 5.9981998e+10 | I26: =0.3*E26 -> 1.7994599e+10 | J26: =+I26/H26*100 -> 30 | K26: =H26 -> 5.9981998e+10 | L26: =+K26 -> 5.9981998e+10 | M26: =L26/K26*100 -> 100
D27: 11. KABUPATEN MAPPI | E27: 6.1685777e+10 | F27: 5850230158000 | G27: =E27/F27*100 -> 1.0544162 | H27: 6.1685777e+10 | I27: =0.3*E27 -> 1.8505733e+10 | J27: =+I27/H27*100 -> 30 | K27: =H27 -> 6.1685777e+10 | L27: =+K27 -> 6.1685777e+10 | M27: =L27/K27*100 -> 100
D28: 12. KABUPATEN ASMAT | E28: 6.1939362e+10 | F28: 5850230158000 | G28: =E28/F28*100 -> 1.0587509 | H28: 6.1939362e+10 | I28: =0.3*E28 -> 1.8581808e+10 | J28: =+I28/H28*100 -> 30 | K28: =H28 -> 6.1939362e+10 | L28: =+K28 -> 6.1939362e+10 | M28: =L28/K28*100 -> 100
... D45: 29. KOTA JAYAPURA | E45: 31867021099 | F45: 5850230158000 | G45: =E45/F45*100 -> 0.54471397 | H45: 31867021099 | I45: =0.3*E45 -> 9.5601063e+09 | J45: =+I45/H45*100 -> 30 | K45: =H45 -> 31867021099 | L45: =+K45 -> 31867021099 | M45: =L45/K45*100 -> 100
C46: III | D46: URUSAN BERSAMA | E46: =SUM(E47:E67) -> 3861473585000 | F46: 5850230158000 | G46: =+E46/F46*100 -> 66.005499 | H46: =SUM(H47:H67) -> 3861473585000 | I46: =0.3*E46 -> 1158442075500 | J46: =+I46/H46*100 -> 30 | K46: =SUM(K47:K67) -> 3903473585000 | L46: =+K46 -> 3903473585000 | M46: =L46/K46*100 -> 100
D47: DINAS PENDIDIKAN | E47: 1033246526900 | F47: 5850230158000 | G47: =E47/F47*100 -> 17.661639 | H47: 1033246526900 | I47: =0.3*E47 -> 309973958070 | J47: =+I47/H47*100 -> 30 | K47: =H47+42000000000 -> 1075246526900 | L47: =+K47 -> 1075246526900 | M47: =L47/K47*100 -> 100
D48: DINAS KESEHATAN | E48: 156991000000 | F48: 5850230158000 | G48: =E48/F48*100 -> 2.6835013 | H48: 156991000000 | I48: =0.3*E48 -> 47097300000 | J48: =+I48/H48*100 -> 30 | K48: =H48 -> 156991000000 | L48: =+K48 -> 156991000000 | M48: =L48/K48*100 -> 100
D49: RUMAS SAKIT UMUM DAERAH JAYAPURA | E49: 291000000000 | F49: 5850230158000 | G49: =E49/F49*100 -> 4.9741633 | H49: 291000000000 | I49: =0.3*E49 -> 87300000000 | J49: =+I49/H49*100 -> 30 | K49: =H49 -> 291000000000 | L49: =+K49 -> 291000000000 | M49: =L49/K49*100 -> 100
D50: RUMAH SAKIT UMUM DAERAH ABEPURA | E50: 140000000000 | F50: 5850230158000 | G50: =E50/F50*100 -> 2.3930682 | H50: 140000000000 | I50: =0.3*E50 -> 42000000000 | J50: =+I50/H50*100 -> 30 | K50: =H50 -> 140000000000 | L50: =+K50 -> 140000000000 | M50: =L50/K50*100 -> 100
D51: RUMA SAKIT JIWA ABEPURA | E51: 50000000000 | F51: 5850230158000 | G51: =E51/F51*100 -> 0.85466723 | H51: 50000000000 | I51: =0.3*E51 -> 15000000000 | J51: =+I51/H51*100 -> 30 | K51: =H51 -> 50000000000 | L51: =+K51 -> 50000000000 | M51: =L51/K51*100 -> 100
D52: BADAN KESATUAN BANGSA DAN POLITIK | E52: 10000000000 | F52: 5850230158000 | G52: =E52/F52*100 -> 0.17093345 | H52: 10000000000 | I52: =0.3*E52 -> 3000000000 | J52: =+I52/H52*100 -> 30 | K52: =H52 -> 10000000000 | L52: =+K52 -> 10000000000 | M52: =L52/K52*100 -> 100
D53: DINAS SOSIAL, KEPENDUDUKAN DAN CATATAN SIPIL | E53: 1000000000 | F53: 5850230158000 | G53: =E53/F53*100 -> 0.017093345 | H53: 1000000000 | I53: =0.3*E53 -> 300000000 | J53: =+I53/H53*100 -> 30 | K53: =H53 -> 1000000000 | L53: =+K53 -> 1000000000 | M53: =L53/K53*100 -> 100
D54: DINAS KOMUNIKASI DAN INFORMATIKA | E54: 6328812000 | F54: 5850230158000 | G54: =E54/F54*100 -> 0.10818056 | H54: 6328812000 | I54: =0.3*E54 -> 1898643600 | J54: =+I54/H54*100 -> 30 | K54: =H54 -> 6328812000 | L54: =+K54 -> 6328812000 | M54: =L54/K54*100 -> 100
D55: DINAS KOPERASI, USAHA KECIL DAN MENENGAH' | E55: 5000000000 | F55: 5850230158000 | G55: =E55/F55*100 -> 0.085466723 | H55: 5000000000 | I55: =0.3*E55 -> 1500000000 | J55: =+I55/H55*100 -> 30 | K55: =H55 -> 5000000000 | L55: =+K55 -> 5000000000 | M55: =L55/K55*100 -> 100
D56: DINAS PEMUDA DAN OLAHRAGA | E56: 665934875510 | F56: 5850230158000 | G56: =E56/F56*100 -> 11.383054 | H56: 665934875510 | I56: =0.3*E56 -> 199780462653 | J56: =+I56/H56*100 -> 30 | K56: =H56 -> 665934875510 | L56: =+K56 -> 665934875510 | M56: =L56/K56*100 -> 100
D57: DINAS KELAUTAN DAN PERIKANAN | E57: 8000000000 | F57: 5850230158000 | G57: =E57/F57*100 -> 0.13674676 | H57: 8000000000 | I57: =0.3*E57 -> 2400000000 | J57: =+I57/H57*100 -> 30 | K57: =H57 -> 8000000000 | L57: =+K57 -> 8000000000 | M57: =L57/K57*100 -> 100
D58: DINAS PARIWISATA | E58: 5000000000 | F58: 5850230158000 | G58: =E58/F58*100 -> 0.085466723 | H58: 5000000000 | I58: =0.3*E58 -> 1500000000 | J58: =+I58/H58*100 -> 30 | K58: =H58 -> 5000000000 | L58: =+K58 -> 5000000000 | M58: =L58/K58*100 -> 100
D59: DINAS TANAMAN PANGAN DAN HOLTIKULTURA | E59: 10000000000 | F59: 5850230158000 | G59: =E59/F59*100 -> 0.17093345 | H59: 10000000000 | I59: =0.3*E59 -> 3000000000 | J59: =+I59/H59*100 -> 30 | K59: =H59 -> 10000000000 | L59: =+K59 -> 10000000000 | M59: =L59/K59*100 -> 100
... D67: BPKAD (BTL) | E67: 1129203534590 | F67: 5850230158000 | G67: =E67/F67*100 -> 19.301865 | H67: 1129203534590 | I67: =0.3*E67 -> 338761060377 | J67: =+I67/H67*100 -> 30 | K67: =H67 -> 1129203534590 | L67: =+K67 -> 1129203534590 | M67: =L67/K67*100 -> 100
D68: JUMLAH | E68: =+E46+E16+E15 -> 5808230158000 | F68: 5580152407000 | G68: =E68/E68*100 -> 100 | H68: =+H15+H16+H46 -> 5808230158000 | I68: =+I15+I16+I46 -> 1742469047400 | J68: =I68/H68*100 -> 30 | K68: =+K15+K16+K46 -> 5850230158000 | L68: =+L15+L16+L46 -> 5850230158000 | M68: =L68/K68*100 -> 100

Sheet Sheet1
B3: REKAPITULASI REVIU LAP OTSUS TA 2019
B4: KABUPATEN DAN KOTA SE-PROV PAPUA
B6: PROVINSI PAPUA
B7: 1. KABUPATEN MERAUKE
B8: 2. KABUPATEN JAYAWIJAYA
B9: 3. KABUPATEN JAYAPURA
B10: 4. KABUPATEN NABIRE
B11: 5. KABUPATEN KEP. YAPEN
B12: 6. KABUPATEN BIAK NUMFOR
B13: 7. KABUPATEN PANIAI
B14: 8. KABUPATEN PUNCAK JAYA
B15: 9. KABUPATEN MIMIKA
... B35: 29. KOTA JAYAPURA

Sheet A.2
C1: ALOKASI PEMBAGIAN DAN PENYALURAN DANA OTONOMI KHUSUS
C2: ANTARA PROVINSI DAN KABUPATEN/KOTA ATAU NAMA LAIN
C3: TAHUN ANGGARAN 2020
C5: PROVINSI : PAPUA
C6: PENERIMAAN : Rp5.288.694.844,00 | M6: Tabel A.2
C9: NO. | D9: U R A I A N | E9: PERMINTAAN PENYALURAN TAHAP I | H9: PERMINTAAN PENYALURAN TAHAP II | K9: PERMINTAAN PENYALURAN TAHAP III | N9: KET
E10: ALOKASI ANGGARAN (Rp. ) | G10: PROSENTASE ALOKASI ANGGARAN ( % ) | H10: ALOKASI ANGGARAN (Rp.) | I10: REALISASI PENYALURAN (Rp.) | J10: PROSENTASE REALISASI PENYALURAN (%) | K10: ALOKASI ANGGARAN (Rp.) | L10: REALISASI PENYALURAN (Rp.) | M10: PROSENTASE REALISASI PENYALURAN (%)
C12: (1) | D12: (2) | E12: (3) | G12: (4) | H12: (5) | I12: (6) | J12: (7) | K12: (8) | L12: (9) | M12: (10) | N12: (11)
C14: I. | D14: PROVINSI PAPUA | E14: =+A.4!E14 -> 389351314600 | F14: 5861910600000 | G14: =E14/F14*100 -> 6.6420548
C15: II. | D15: KABUPATEN/KOTA | E15: =SUM(E16:E44) -> 1.5574053e+12 | F15: 5861910600000 | G15: =E15/F15*100 -> 26.568219
D16: 1. KABUPATEN MERAUKE | E16: 4.8495887e+10 | F16: 5861910600000 | G16: =E16/F16*100 -> 0.82730513
D17: 2. KABUPATEN JAYAWIJAYA | E17: 5.1356988e+10 | F17: 5861910600000 | G17: =E17/F17*100 -> 0.87611346
D18: 3. KABUPATEN JAYAPURA | E18: 4.6073464e+10 | F18: 5861910600000 | G18: =E18/F18*100 -> 0.78598032
D19: 4. KABUPATEN NABIRE | E19: 4.5756973e+10 | F19: 5861910600000 | G19: =E19/F19*100 -> 0.78058122
D20: 5. KABUPATEN KEP. YAPEN | E20: 4.5992775e+10 | F20: 5861910600000 | G20: =E20/F20*100 -> 0.78460383
D21: 6. KABUPATEN BIAK NUMFOR | E21: 3.2258637e+10 | F21: 5861910600000 | G21: =E21/F21*100 -> 0.55030926
D22: 7. KABUPATEN PANIAI | E22: 6.4189783e+10 | F22: 5861910600000 | G22: =E22/F22*100 -> 1.0950318
D23: 8. KABUPATEN PUNCAK JAYA | E23: 6.4622624e+10 | F23: 5861910600000 | G23: =E23/F23*100 -> 1.1024157
D24: 9. KABUPATEN MIMIKA | E24: 3.1309837e+10 | F24: 5861910600000 | G24: =E24/F24*100 -> 0.53412341
D25: 10. KABUPATEN BOVEN DIGOEL | E25: 5.9981998e+10 | F25: 5861910600000 | G25: =E25/F25*100 -> 1.02325
D26: 11. KABUPATEN MAPPI | E26: 6.1685777e+10 | F26: 5861910600000 | G26: =E26/F26*100 -> 1.0523152
D27: 12. KABUPATEN ASMAT | E27: 6.1939362e+10 | F27: 5861910600000 | G27: =E27/F27*100 -> 1.0566412
... D44: 29. KOTA JAYAPURA | E44: 31867021099 | F44: 5861910600000 | G44: =E44/F44*100 -> 0.54362858
C45: III | D45: URUSAN BERSAMA | E45: =SUM(E46:E58) -> 3341938271000 | F45: 5861910600000 | G45: =+E45/F45*100 -> 57.011075
D46: DINAS PENDIDIKAN | E46: 976929140000 | F46: 5861910600000 | G46: =E46/F46*100 -> 16.665712
D47: DINAS KESEHATAN | E47: =+A.4!E3545 -> 92991000000 | F47: 5861910600000 | G47: =E47/F47*100 -> 1.5863599
D48: RUMAS SAKIT UMUM DAERAH JAYAPURA | E48: =+A.4!E3552 -> 200000000000 | F48: 5861910600000 | G48: =E48/F48*100 -> 3.4118569
D49: RUMAH SAKIT UMUM DAERAH ABEPURA | E49: =+A.4!E3583 -> 141700000000 | F49: 5861910600000 | G49: =E49/F49*100 -> 2.4173006
D50: RUMA SAKIT JIWA ABEPURA | E50: =+A.4!E3595 -> 52250000000 | F50: 5861910600000 | G50: =E50/F50*100 -> 0.89134761
D51: =+A.4!D3615 -> Dinas Olah Raga dan Pemuda | E51: =+A.4!E3615 -> 39070860000 | F51: 5861910600000 | G51: =E51/F51*100 -> 0.66652091
D52: Dinas Kebudayaan dan Pariwisata | E52: 5000000000 | F52: 5861910600000 | G52: =E52/F52*100 -> 0.085296422
D53: Dinas Kelautan dan Perikanan | E53: 8000000000 | F53: 5861910600000 | G53: =E53/F53*100 -> 0.13647428
D54: Dinas Pertanian dan Pangan | E54: 32000000000 | F54: 5861910600000 | G54: =E54/F54*100 -> 0.5458971
D55: Dinas Kehutanan dan Lingkungan Hidup | E55: 8000000000 | F55: 5861910600000 | G55: =E55/F55*100 -> 0.13647428
D56: Dinas Perindustrian, Perdagangan, Koperasi, Usaha Kecil Menengah dan Tenaga Kerja | E56: 32154027000 | F56: 5861910600000 | G56: =E56/F56*100 -> 0.54852469
D57: SEKRETARIAT MRP | E57: 232400000000 | F57: 5861910600000 | G57: =E57/F57*100 -> 3.9645777
D58: SATUAN KERJA PENGELOLA KEUANGANCDAERAH ( BPKAD (BTL) | E58: 1521443244000 | F58: 5861910600000 | G58: =E58/F58*100 -> 25.954733
D59: JUMLAH | E59: =+E14+E15+E45 -> 5288694844000 | F59: 5861910600000 | G59: =E59/E59*100 -> 100

Sheet A.3
C3: REKAPITULASI ALOKASI DAN REALISASI PENGGUNAAN DANA OTONOMI KHUSUS
C4: DIURAIKAN BERDASARKAN, ORGANISASI, PROGRAM/KEGIATAN PROVINSI DAN KABUPATEN/KOTA ATAU NAMA LAIN
C5: TAHUN ANGGARAN 2019
C7: PROVINSI : PAPUA | H7: Tabel A.3
C8: PENERIMAAN : Rp 5.850.230.158.000,00
C10: NO. | D10: U R A I A N | E10: PERMINTAAN PENYALURAN TAHAP I | I10: KET
E11: ALOKASI ANGGARAN (Rp.) | F11: REALISASI ANGGARAN (Rp.) | G11: PROSENTASE REALISASI ANGGARAN (%) | H11: CAPAIAN OUTPUT ( %)
C12: (1) | D12: (2) | E12: (3) | F12: (4) | G12: (5) | H12: (6) | I12: (7)
C15: A | D15: PROVINSI | E15: =+E16+E55+E144+E159+E174+E185+E206+E217+E226+E241+E261+E277+E292+E307+E321+E328+E337+E343 -> 389351314600 | F15: =+F16+F55+F144+F159+F174+F185+F206+F217+F226+F241+F261+F277+F292+F307+F321+F328+F337+F343 -> 3.4885767e+11 | G15: =+F15/E15*100 -> 89.599716 | H15: =(H16+H55+H144+H159+H174+H185+H206+H217+H226+H241+H261+H277+H292+H307+H321+H328+H337+H343)/18 -> 94.144396
D16: Dinas Pendidikan | E16: =+E17+E25+E27+E33+E36+E45 -> 97490000000 | F16: 92808762732 | G16: =+F16/E16*100 -> 95.198239 | H16: =(H17+H25+H27+H33+H36+H45)/6 -> 85.205357
D17: Program Pendidikan Menengah Atas | E17: =+E18+E19+E20+E21+E22+E23+E24 -> 25533038150 | F17: 23493410295 | G17: =+F17/E17*100 -> 92.011809 | H17: =SUM((H18:H24))/7 -> 97.857143
D18: Lomba Debat Bahasa Inggris, Bahasa Indonesia dan Bahasa Jerman | E18: 545200000 | F18: 545200000 | G18: =+F18/E18*100 -> 100 | H18: =+G18 -> 100
D19: Lomba Kompetensi Siswa SMA Tingkat Prov dan Tk.Nasional | E19: 400000000 | F19: 390000000 | G19: =+F19/E19*100 -> 97.5 | H19: 100
D20: Pengadaan mebeluer sekolah | E20: 520000000 | F20: 516932800 | G20: =+F20/E20*100 -> 99.410154 | H20: 100
D21: Pembangunan Ruang Kelas Baru (SMA) | E21: 3776105220 | F21: 3695575000 | G21: =+F21/E21*100 -> 97.867374 | H21: 100
D22: DAK Reguler SMA ( Utang TA 2017) | E22: 17515982930 | F22: 15843510695 | G22: =+F22/E22*100 -> 90.451736 | H22: 100
D23: Lomba Kompetensi Siswa SMA | E23: 1731250000 | F23: 1551150000 | G23: =+F23/E23*100 -> 89.597112 | H23: 90
D24: Pendidikan Pengelolaan Dana Pendidikan SMA dan SMK | E24: 1044500000 | F24: 951041800 | G24: =+F24/E24*100 -> 91.05235 | H24: 95
D25: Program Peningkatan Mutu Pendidik dan Tenaga Kependidikan | E25: 2349300000 | F25: 2152500000 | G25: =+F25/E25*100 -> 91.623037 | H25: 95
D26: Pelaksanaan sertifikasi pendidik | E26: 2349300000 | F26: 2152500000 | G26: =+F26/E26*100 -> 91.623037 | H26: 95
D27: Program Manajemen Pelayanan Pendidikan | E27: 52655056280 | F27: 52612230250 | G27: =+F27/E27*100 -> 99.918667 | H27: 100
D28: Pelaksanaan evaluasi hasil kinerja bidang pendidikan | E28: 243100000 | F28: 237386400 | G28: =+F28/E28*100 -> 97.649691 | H28: 100
D29: Penerapan sistem dan informasi manajemen pendidikan | E29: 1245800000 | F29: 1237544800 | G29: =+F29/E29*100 -> 99.337358 | H29: 100
D30: Pelaksanaan Rapat Kerja Teknis | E30: 943700000 | F30: 915078300 | G30: =+F30/E30*100 -> 96.967076 | H30: 100
D31: Biaya Operasi Sekolah | E31: 50022456280 | F31: 50022240750 | G31: =+F31/E31*100 -> 99.999569 | H31: =+G31 -> 99.999569
D32: Pengelolaan Buletin/Majalah Pendidikan Papua | E32: 200000000 | F32: 199980000 | G32: =+F32/E32*100 -> 99.99 | H32: 100
D33: Program Peningkatan SDM Pendidikan Tinggi | E33: 530000000 | F33: 477142000 | G33: =+F33/E33*100 -> 90.026792 | H33: 50
D34: Beasiswa Pendidikan Pascasarjana (S2) | E34: 50000000 | F34: 0 | G34: =+F34/E34*100 -> 0 | H34: =+G34 -> 0
D35: Pembangunan Asrama Putri STT GIDI STAKIN Sentani | E35: 480000000 | F35: 477142000 | G35: =+F35/E35*100 -> 99.404583 | H35: 100
D36: Program Pendidikan Khusus dan Layanan Khusus | E36: 5187467070 | F36: 4704206704 | G36: =+F36/E36*100 -> 90.684078 | H36: =SUM((H37:H44))/8 -> 79.625
D37: Makan dan Minum Siswa SMA N 3 dan SMANKOR | E37: 6000000 | F37: 0 | G37: =+F37/E37*100 -> 0 | H37: =+G37 -> 0
D38: Fasilitasi lomba O2SN SD tk Provinsi | E38: 1802567070 | F38: 1635890000 | G38: =+F38/E38*100 -> 90.75335 | H38: 92
D39: Pengadaan dan Pembelian Buku Panduan Kurikulum Muatan Lokal | E39: 1000000000 | F39: 1000000000 | G39: =+F39/E39*100 -> 100 | H39: =+G39 -> 100
D40: Sosialisasi Pendidikan Inklusif | E40: 290000000 | F40: 216710500 | G40: =+F40/E40*100 -> 74.727759 | H40: 75
D41: Biaya Seleksi Siswa di 29 Kabupaten/Kota | E41: 313200000 | F41: 313200000 | G41: =+F41/E41*100 -> 100 | H41: =+G41 -> 100
D42: Fasilitasi Kegiatan PON XX Tahun 2020 | E42: 535000000 | F42: 535000000 | G42: =+F42/E42*100 -> 100 | H42: =+G42 -> 100
D43: Revitalisasi KPG Papua | E43: 443200000 | F43: 388601100 | G43: =+F43/E43*100 -> 87.680754 | H43: 90
D44: Sosialisasi Paradigma Kurikulum Holistik Terintegratif Jenjang SMA/SMK | E44: 797500000 | F44: 614805104 | G44: =+F44/E44*100 -> 77.091549 | H44: 80
D45: Program Pendidikan Menengah Kejuruan | E45: 11235138500 | F45: 9369273483 | G45: =+F45/E45*100 -> 83.392594 | H45: =SUM((H46:H53))/8 -> 88.75
D46: Pembangunan Sarana dan Prasarana Olahraga SMK | E46: 4336200000 | F46: 3749550000 | G46: =+F46/E46*100 -> 86.470873 | H46: 90
...

Sheet A.4
C3: REKAPITULASI ALOKASI DAN REALISASI PENGGUNAAN DANA OTONOMI KHUSUS
C4: DIURAIKAN BERDASARKAN, ORGANISASI, PROGRAM/KEGIATAN PROVINSI DAN KABUPATEN/KOTA ATAU NAMA LAIN
C5: TAHUN ANGGARAN 2020
C7: PROVINSI : PAPUA | P7: Tabel A.4
C8: PENERIMAAN : Rp5.861.910.600.000,00
C10: NO. | D10: U R A I A N | E10: PERMINTAAN PENYALURAN TAHAP I | H10: PERMINTAAN PENYALURAN TAHAP II | L10: PERMINTAAN PENYALURAN TAHAP III | P10: KET
E11: ALOKASI ANGGARAN (Rp.) | G11: PROSENTASE (%) | H11: ALOKASI ANGGARAN (Rp.) | I11: REALISASI ANGGARAN (Rp.) | J11: PROSENTASE REALISASI ANGGARAN (%) | K11: CAPAIAN OUTPUT ( %) | L11: ALOKASI ANGGARAN (Rp.) | M11: REALISASI ANGGARAN (Rp.) | N11: PROSENTASE REALISASI ANGGARAN (%) | O11: CAPAIAN OUTPUT ( %)
C12: (1) | D12: (2) | E12: (3) | G12: (4) | H12: (5) | I12: (6) | J12: (7) | K12: (8) | L12: (9) | M12: (10) | N12: (11) | O12: (12) | P12: (13)
C14: A | D14: PROVINSI | E14: =+E15+E83+E172+E185+E201+E213+E233+E269+E285+E291+E297+E301+E305+E320+E312 -> 389351314600 | F14: 5861910600000 | G14: =+E14/F14*100 -> 6.6420548
D15: Dinas Pendidikan, Perpustakaan dan Arsip Daerah | E15: =E16+E27+E29+E37+E45+E52+E66+E70+E72 -> 97405000000 | F15: 389351314600 | G15: =+E15/F15*100 -> 25.017252
D16: Program Pendidikan Menengah Atas | E16: =E17+E18+E19+E20+E21+E22+E23+E24+E25+E26 -> 16069685465 | F16: 389351314600 | G16: =+E16/F16*100 -> 4.1272971
D17: Pembangunan Sekolah Unggulan Berasrama | E17: 7110290000 | F17: 389351314600 | G17: =+E17/F17*100 -> 1.8261888
D18: Penerapan dan Pelatihan MBS SMA | E18: 1053466400 | F18: 389351314600 | G18: =+E18/F18*100 -> 0.27056963
D19: Lomba Debat Bahasa Inggris, Bahasa Indonesia dan Bahasa Jerman | E19: 1573457065 | F19: 389351314600 | G19: =+E19/F19*100 -> 0.40412271
D20: Pelatihan Kepala Tata Usaha Sekolah SMA | E20: 652300000 | F20: 389351314600 | G20: =+E20/F20*100 -> 0.16753507
D21: pelatihan penyusunan rencana kerja anggaran sekolah (RKAS) SMA | E21: 943042560 | F21: 389351314600 | G21: =+E21/F21*100 -> 0.24220865
D22: pelaksanaan evaluasi diri sekolah (EDS) SMA | E22: 1639300000 | F22: 389351314600 | G22: =+E22/F22*100 -> 0.42103364
D23: Lomba Kompetensi Siswa SMA | E23: 1857237500 | F23: 389351314600 | G23: =+E23/F23*100 -> 0.47700815
D24: Lomba Adiwiyata SMA | E24: 270099340 | F24: 389351314600 | G24: =+E24/F24*100 -> 0.069371627
D25: Lomba Karya Ilmiah siswa SMA | E25: 474392600 | F25: 389351314600 | G25: =+E25/F25*100 -> 0.12184179
D26: Penyediaan Bantuan Biaya Musyarawarah Kerja Kepala Sekolah (MKKS) SMA di lima wilayah adat | E26: 496100000 | F26: 389351314600 | G26: =+E26/F26*100 -> 0.12741706
D27: Program Pendidikan Non Formal | E27: =E28 -> 2007000000 | F27: 389351314600 | G27: =+E27/F27*100 -> 0.51547277
D28: Penguatan KKN Tematik untuk Pemberantasan Buta Aksara | E28: 2007000000 | F28: 389351314600 | G28: =+E28/F28*100 -> 0.51547277
D29: Program Peningkatan Mutu Pendidik dan Tenaga Kependidikan | E29: =E30+E31+E32+E33+E34+E35+E36 -> 14648211325 | F29: 389351314600 | G29: =+E29/F29*100 -> 3.7622093
D30: Pelaksanaan sertifikasi pendidik | E30: 2644673875 | F30: 389351314600 | G30: =+E30/F30*100 -> 0.6792513
D31: Pelaksanaan uji kompetensi pendidik dan tenaga kependidikan | E31: 1538600000 | F31: 389351314600 | G31: =+E31/F31*100 -> 0.39517011
D32: Penyediaan Bantuan Biaya MGMP (Musyawarah Guru Mata Pelajaran) | E32: 1753600000 | F32: 389351314600 | G32: =+E32/F32*100 -> 0.45039016
D33: SERTIFIKASI GURU DAN PROGRAM KEAHLIAN SMK | E33: 2689597110 | F33: 389351314600 | G33: =+E33/F33*100 -> 0.69078927
D34: Magang Guru Produktif SMK | E34: 3805100000 | F34: 389351314600 | G34: =+E34/F34*100 -> 0.97729219
D35: Workshop Musyawarah Kompetensi Kepala Sekolah SMA/SMK | E35: 1605920340 | F35: 389351314600 | G35: =+E35/F35*100 -> 0.41246049
D36: Pemetaan Guru dan Tenaga Kependidikan SMA/SMK/PKLK | E36: 610720000 | F36: 389351314600 | G36: =+E36/F36*100 -> 0.15685577
D37: Program Manajemen Pelayanan Pendidikan | E37: =E38+E39+E40+E41+E42+E43+E44 -> 14016742600 | F37: 389351314600 | G37: =+E37/F37*100 -> 3.6000245
D38: Pelaksanaan evaluasi hasil kinerja bidang pendidikan | E38: 2369332600 | F38: 389351314600 | G38: =+E38/F38*100 -> 0.60853335
D39: Pelaksanaan kerjasama secara kelembagaan di bidang pendidikan | E39: 2009750000 | F39: 389351314600 | G39: =+E39/F39*100 -> 0.51617907
D40: Penerapan sistem dan informasi manajemen pendidikan | E40: 1216224500 | F40: 389351314600 | G40: =+E40/F40*100 -> 0.312372
D41: Pelaksanaan Ujian Nasional dan Ujian Sekolah | E41: 4411687500 | F41: 389351314600 | G41: =+E41/F41*100 -> 1.1330866
D42: Pengelolaan PAK (pengelolaan angka kredit) guru, pengawas sekolah, dan pamong belajar | E42: 1283372250 | F42: 389351314600 | G42: =+E42/F42*100 -> 0.32961806
D43: Supervisi dan Monitoring PBM di Sekolah | E43: 2161485000 | F43: 389351314600 | G43: =+E43/F43*100 -> 0.5551503
D44: Pelaksanaan RAKOR dan Sosialisasi USBN dan UNBK | E44: 564890750 | F44: 389351314600 | G44: =+E44/F44*100 -> 0.1450851
D45: Program Pendidikan Khusus dan Layanan Khusus | E45: =E46+E47+E48+E49+E50+E51 -> 24288561070 | F45: 389351314600 | G45: =+E45/F45*100 -> 6.2382122
...

Sheet A.5
C3: REKAPITULASI ALOKASI DAN REALISASI PENGGUNAAN DANA OTONOMI KHUSUS UNTUK PENDIDIKAN
C4: DIURAIKAN BERDASARKAN, ORGANISASI, PROGRAM/KEGIATAN PROVINSI DAN KABUPATEN/KOTA ATAU NAMA LAIN
C5: TAHUN ANGGARAN 2019
C7: PROVINSI : PAPUA | H7: Tabel A.5
C8: PENERIMAAN : Rp 5.850.230.158.00,00
C10: NO. | D10: U R A I A N | E10: PERMINTAAN PENYALURAN TAHAP I | I10: KET
E11: ALOKASI ANGGARAN (Rp.) | F11: REALISASI ANGGARAN (Rp.) | G11: PROSENTASE REALISASI ANGGARAN (%) | H11: CAPAIAN OUTPUT ( %)
C12: (1) | D12: (2) | E12: (3) | F12: (4) | G12: (5) | H12: (6) | I12: (7)
C13: A | D13: PROVINSI | E13: =E14+E53+E71+E85+E92 -> 266016422415 | F13: =F14+F53+F71+F85+F92 -> 236970748636 | G13: =F13/E13*100 -> 89.081248 | H13: =(H14+H53+H71+H85+H92)/5 -> 89.404708
D14: Dinas Pendidikan | E14: =+E15+E23+E25+E31+E34+E43 -> 97490000000 | F14: 92808762732 | G14: =+F14/E14*100 -> 95.198239 | H14: =(H15+H23+H25+H31+H34+H43)/6 -> 85.205357
D15: Program Pendidikan Menengah Atas | E15: =+E16+E17+E18+E19+E20+E21+E22 -> 25533038150 | F15: 23493410295 | G15: =+F15/E15*100 -> 92.011809 | H15: =SUM((H16:H22))/7 -> 97.857143
D16: Lomba Debat Bahasa Inggris, Bahasa Indonesia dan Bahasa Jerman | E16: 545200000 | F16: 545200000 | G16: =+F16/E16*100 -> 100 | H16: =+G16 -> 100
D17: Lomba Kompetensi Siswa SMA Tingkat Prov dan Tk.Nasional | E17: 400000000 | F17: 390000000 | G17: =+F17/E17*100 -> 97.5 | H17: 100
D18: Pengadaan mebeluer sekolah | E18: 520000000 | F18: 516932800 | G18: =+F18/E18*100 -> 99.410154 | H18: 100
D19: Pembangunan Ruang Kelas Baru (SMA) | E19: 3776105220 | F19: 3695575000 | G19: =+F19/E19*100 -> 97.867374 | H19: 100
D20: DAK Reguler SMA ( Utang TA 2017) | E20: 17515982930 | F20: 15843510695 | G20: =+F20/E20*100 -> 90.451736 | H20: 100
D21: Lomba Kompetensi Siswa SMA | E21: 1731250000 | F21: 1551150000 | G21: =+F21/E21*100 -> 89.597112 | H21: 90
D22: Pendidikan Pengelolaan Dana Pendidikan SMA dan SMK | E22: 1044500000 | F22: 951041800 | G22: =+F22/E22*100 -> 91.05235 | H22: 95
D23: Program Peningkatan Mutu Pendidik dan Tenaga Kependidikan | E23: 2349300000 | F23: 2152500000 | G23: =+F23/E23*100 -> 91.623037 | H23: 95
D24: Pelaksanaan sertifikasi pendidik | E24: 2349300000 | F24: 2152500000 | G24: =+F24/E24*100 -> 91.623037 | H24: 95
D25: Program Manajemen Pelayanan Pendidikan | E25: 52655056280 | F25: 52612230250 | G25: =+F25/E25*100 -> 99.918667 | H25: 100
D26: Pelaksanaan evaluasi hasil kinerja bidang pendidikan | E26: 243100000 | F26: 237386400 | G26: =+F26/E26*100 -> 97.649691 | H26: 100
D27: Penerapan sistem dan informasi manajemen pendidikan | E27: 1245800000 | F27: 1237544800 | G27: =+F27/E27*100 -> 99.337358 | H27: 100
D28: Pelaksanaan Rapat Kerja Teknis | E28: 943700000 | F28: 915078300 | G28: =+F28/E28*100 -> 96.967076 | H28: 100
D29: Biaya Operasi Sekolah | E29: 50022456280 | F29: 50022240750 | G29: =+F29/E29*100 -> 99.999569 | H29: =+G29 -> 99.999569
D30: Pengelolaan Buletin/Majalah Pendidikan Papua | E30: 200000000 | F30: 199980000 | G30: =+F30/E30*100 -> 99.99 | H30: 100
D31: Program Peningkatan SDM Pendidikan Tinggi | E31: 530000000 | F31: 477142000 | G31: =+F31/E31*100 -> 90.026792 | H31: 50
D32: Beasiswa Pendidikan Pascasarjana (S2) | E32: 50000000 | F32: 0 | G32: =+F32/E32*100 -> 0 | H32: =+G32 -> 0
D33: Pembangunan Asrama Putri STT GIDI STAKIN Sentani | E33: 480000000 | F33: 477142000 | G33: =+F33/E33*100 -> 99.404583 | H33: 100
D34: Program Pendidikan Khusus dan Layanan Khusus | E34: 5187467070 | F34: 4704206704 | G34: =+F34/E34*100 -> 90.684078 | H34: =SUM((H35:H42))/8 -> 79.625
D35: Makan dan Minum Siswa SMA N 3 dan SMANKOR | E35: 6000000 | F35: 0 | G35: =+F35/E35*100 -> 0 | H35: =+G35 -> 0
D36: Fasilitasi lomba O2SN SD tk Provinsi | E36: 1802567070 | F36: 1635890000 | G36: =+F36/E36*100 -> 90.75335 | H36: 92
D37: Pengadaan dan Pembelian Buku Panduan Kurikulum Muatan Lokal | E37: 1000000000 | F37: 1000000000 | G37: =+F37/E37*100 -> 100 | H37: =+G37 -> 100
D38: Sosialisasi Pendidikan Inklusif | E38: 290000000 | F38: 216710500 | G38: =+F38/E38*100 -> 74.727759 | H38: 75
D39: Biaya Seleksi Siswa di 29 Kabupaten/Kota | E39: 313200000 | F39: 313200000 | G39: =+F39/E39*100 -> 100 | H39: =+G39 -> 100
D40: Fasilitasi Kegiatan PON XX Tahun 2020 | E40: 535000000 | F40: 535000000 | G40: =+F40/E40*100 -> 100 | H40: =+G40 -> 100
D41: Revitalisasi KPG Papua | E41: 443200000 | F41: 388601100 | G41: =+F41/E41*100 -> 87.680754 | H41: 90
D42: Sosialisasi Paradigma Kurikulum Holistik Terintegratif Jenjang SMA/SMK | E42: 797500000 | F42: 614805104 | G42: =+F42/E42*100 -> 77.091549 | H42: 80
D43: Program Pendidikan Menengah Kejuruan | E43: 11235138500 | F43: 9369273483 | G43: =+F43/E43*100 -> 83.392594 | H43: =SUM((H44:H51))/8 -> 88.75
D44: Pembangunan Sarana dan Prasarana Olahraga SMK | E44: 4336200000 | F44: 3749550000 | G44: =+F44/E44*100 -> 86.470873 | H44: 90
...

Sheet A.6
A3: REKAPITULASI ALOKASI DAN REALISASI PENGGUNAAN DANA OTONOMI KHUSUS UNTUK PENDIDIKAN
A4: DIURAIKAN BERDASARKAN, ORGANISASI, PROGRAM/KEGIATAN PROVINSI DAN KABUPATEN/KOTA
A5: TAHUN ANGGARAN 2020
A7: PROVINSI : PAPUA
A8: PENERIMAAN : Rp5.861.910.600.000,00 | M8: Tabel A.6
A10: NO. | B10: U R A I A N | C10: PERMINTAAN PENYALURAN TAHAP I | F10: PERMINTAAN PENYALURAN TAHAP II | J10: PERMINTAAN PENYALURAN TAHAP III | N10: KET
C11: ALOKASI ANGGARAN (Rp.) | E11: PROSENTASE ALOKASI ANGGARAN (%) | F11: ALOKASI ANGGARAN (Rp.) | G11: REALISASI ANGGARAN (Rp.) | H11: PROSENTASE REALISASI ANGGARAN (%) | I11: CAPAIAN OUTPUT (%) | J11: ALOKASI ANGGARAN (Rp.) | K11: REALISASI ANGGARAN (Rp.) | L11: PROSENTASE REALISASI ANGGARAN (%) | M11: CAPAIAN OUTPUT (%)
A12: (1) | B12: (2) | C12: (3) | E12: (4) | F12: (5) | G12: (6) | H12: (7) | I12: (8) | J12: (9) | K12: (10) | L12: (11) | M12: (12) | N12: (13)
A13: A | B13: PROVINSI | C13: =C14 -> 97405000000 | D13: 389351314600 | E13: =+C13/D13*100 -> 25.017252
B14: Dinas Pendidikan, Perpustakaan dan Arsip Daerah | C14: =C15+C26+C28+C36+C44+C51+C65+C69+C71 -> 97405000000 | D14: 389351314600 | E14: =+C14/D14*100 -> 25.017252
B15: Program Pendidikan Menengah Atas | C15: =C16+C17+C18+C19+C20+C21+C22+C23+C24+C25 -> 16069685465 | D15: 97405000000 | E15: =+C15/D15*100 -> 16.497803
B16: Pembangunan Sekolah Unggulan Berasrama | C16: 7110290000 | D16: 97405000000 | E16: =+C16/D16*100 -> 7.2997177
B17: Penerapan dan Pelatihan MBS SMA | C17: 1053466400 | D17: 97405000000 | E17: =+C17/D17*100 -> 1.0815322
B18: Lomba Debat Bahasa Inggris, Bahasa Indonesia dan Bahasa Jerman | C18: 1573457065 | D18: 97405000000 | E18: =+C18/D18*100 -> 1.6153761
B19: Pelatihan Kepala Tata Usaha Sekolah SMA | C19: 652300000 | D19: 97405000000 | E19: =+C19/D19*100 -> 0.66967815
B20: pelatihan penyusunan rencana kerja anggaran sekolah (RKAS) SMA | C20: 943042560 | D20: 97405000000 | E20: =+C20/D20*100 -> 0.96816648
B21: pelaksanaan evaluasi diri sekolah (EDS) SMA | C21: 1639300000 | D21: 97405000000 | E21: =+C21/D21*100 -> 1.6829732
B22: Lomba Kompetensi Siswa SMA | C22: 1857237500 | D22: 97405000000 | E22: =+C22/D22*100 -> 1.9067168
B23: Lomba Adiwiyata SMA | C23: 270099340 | D23: 97405000000 | E23: =+C23/D23*100 -> 0.27729515
B24: Lomba Karya Ilmiah siswa SMA | C24: 474392600 | D24: 97405000000 | E24: =+C24/D24*100 -> 0.48703106
B25: Penyediaan Bantuan Biaya Musyarawarah Kerja Kepala Sekolah (MKKS) SMA di lima wilayah adat | C25: 496100000 | D25: 97405000000 | E25: =+C25/D25*100 -> 0.50931677
B26: Program Pendidikan Non Formal | C26: =C27 -> 2007000000 | D26: 97405000000 | E26: =+C26/D26*100 -> 2.0604692
B27: Penguatan KKN Tematik untuk Pemberantasan Buta Aksara | C27: 2007000000 | D27: 97405000000 | E27: =+C27/D27*100 -> 2.0604692
B28: Program Peningkatan Mutu Pendidik dan Tenaga Kependidikan | C28: =C29+C30+C31+C32+C33+C34+C35 -> 14648211325 | D28: 97405000000 | E28: =+C28/D28*100 -> 15.038459
B29: Pelaksanaan sertifikasi pendidik | C29: 2644673875 | D29: 97405000000 | E29: =+C29/D29*100 -> 2.7151315
B30: Pelaksanaan uji kompetensi pendidik dan tenaga kependidikan | C30: 1538600000 | D30: 97405000000 | E30: =+C30/D30*100 -> 1.5795904
B31: Penyediaan Bantuan Biaya MGMP (Musyawarah Guru Mata Pelajaran) | C31: 1753600000 | D31: 97405000000 | E31: =+C31/D31*100 -> 1.8003183
B32: SERTIFIKASI GURU DAN PROGRAM KEAHLIAN SMK | C32: 2689597110 | D32: 97405000000 | E32: =+C32/D32*100 -> 2.7612516
B33: Magang Guru Produktif SMK | C33: 3805100000 | D33: 97405000000 | E33: =+C33/D33*100 -> 3.906473
B34: Workshop Musyawarah Kompetensi Kepala Sekolah SMA/SMK | C34: 1605920340 | D34: 97405000000 | E34: =+C34/D34*100 -> 1.6487042
B35: Pemetaan Guru dan Tenaga Kependidikan SMA/SMK/PKLK | C35: 610720000 | D35: 97405000000 | E35: =+C35/D35*100 -> 0.6269904
B36: Program Manajemen Pelayanan Pendidikan | C36: =C37+C38+C39+C40+C41+C42+C43 -> 14016742600 | D36: 97405000000 | E36: =+C36/D36*100 -> 14.390167
B37: Pelaksanaan evaluasi hasil kinerja bidang pendidikan | C37: 2369332600 | D37: 97405000000 | E37: =+C37/D37*100 -> 2.4324548
B38: Pelaksanaan kerjasama secara kelembagaan di bidang pendidikan | C38: 2009750000 | D38: 97405000000 | E38: =+C38/D38*100 -> 2.0632924
B39: Penerapan sistem dan informasi manajemen pendidikan | C39: 1216224500 | D39: 97405000000 | E39: =+C39/D39*100 -> 1.2486264
B40: Pelaksanaan Ujian Nasional dan Ujian Sekolah | C40: 4411687500 | D40: 97405000000 | E40: =+C40/D40*100 -> 4.5292208
B41: Pengelolaan PAK (pengelolaan angka kredit) guru, pengawas sekolah, dan pamong belajar | C41: 1283372250 | D41: 97405000000 | E41: =+C41/D41*100 -> 1.317563
B42: Supervisi dan Monitoring PBM di Sekolah | C42: 2161485000 | D42: 97405000000 | E42: =+C42/D42*100 -> 2.2190699
B43: Pelaksanaan RAKOR dan Sosialisasi USBN dan UNBK | C43: 564890750 | D43: 97405000000 | E43: =+C43/D43*100 -> 0.5799402
B44: Program Pendidikan Khusus dan Layanan Khusus | C44: =C45+C46+C47+C48+C49+C50 -> 24288561070 | D44: 97405000000 | E44: =+C44/D44*100 -> 24.935641
...

Sheet A.7 
C3: REKAPITULASI ALOKASI DAN REALISASI PENGGUNAAN DANA OTONOMI KHUSUS UNTUK KESEHATAN
C4: DIURAIKAN BERDASARKAN, ORGANISASI, PROGRAM/KEGIATAN PROVINSI DAN KABUPATEN/KOTA ATAU NAMA LAIN
C5: TAHUN ANGGARAN 2019
C7: PROVINSI : PAPUA | H7: Tabel A.7
C8: PENERIMAAN : Rp 5.850.230.158.000,00
C10: NO. | D10: U R A I A N | E10: PERMINTAAN PENYALURAN TAHAP I | I10: KET
E11: ALOKASI ANGGARAN (Rp.) | F11: REALISASI ANGGARAN (Rp.) | G11: PROSENTASE REALISASI ANGGARAN (%) | H11: CAPAIAN OUTPUT ( %)
C12: (1) | D12: (2) | E12: (3) | F12: (4) | G12: (5) | H12: (6) | I12: (7)
C13: A | D13: PROVINSI | E13: 69470000000 | F13: =F14 -> 5.8371e+10 | G13: =G14 -> 84.023319 | H13: =H14 -> 83.297811
D14: Dinas Kesehatan | E14: 69470000000 | F14: 5.8371e+10 | G14: =+F14/E14*100 -> 84.023319 | H14: =(H15+H18+H29+H35+H37+H43+H45+H47+H50+H62+H64+H66+H68+H72+H74+H86+H92+H95)/18 -> 83.297811
D15: Program Pelayanan Administrasi Perkantoran | E15: 4169210000 | F15: 3768102542 | G15: =+F15/E15*100 -> 90.379293 | H15: =185/2 -> 92.5
D16: Penyediaan jasa komunikasi, sumber daya air dan listrik | E16: 1624450000 | F16: 1320322822 | G16: =+F16/E16*100 -> 81.278145 | H16: 85
D17: Penyediaan jasa kebersihan kantor | E17: 2544760000 | F17: 2447779720 | G17: =+F17/E17*100 -> 96.189021 | H17: 100
D18: Program Obat dan Perbekalan Kesehatan | E18: 6745531225 | F18: 4342866305 | G18: =+F18/E18*100 -> 64.381383 | H18: =SUM((H19:H28))/10 -> 62.3
D19: Peningkatan mutu pelayanan farmasi komunitas dan rumah sakit | E19: 403375800 | F19: 222265700 | G19: =+F19/E19*100 -> 55.101397 | H19: 60
D20: Pengiriman dan Relokasi Obat buffer stok dan program provinsi ke Kab dan 14 titik terisolir | E20: 2300000000 | F20: 2161165875 | G20: =+F20/E20*100 -> 93.963734 | H20: 95
D21: Monitoring pemanfaatan buffer stock di GFK/RS/PKM dan pos obat kampung serta evaluasi hasil magang tenaga GF kab/kota | E21: 338814000 | F21: 288474072 | G21: =+F21/E21*100 -> 85.142312 | H21: 90
D22: Pengadaan obat buffer stock provinsi | E22: 1681552000 | F22: 888973010 | G22: =+F22/E22*100 -> 52.866222 | H22: 55
D23: Pengadaan obat-obatan untuk program HIV/AIDS | E23: 471779000 | F23: 12950000 | G23: =+F23/E23*100 -> 2.7449293 | H23: 5
D24: Pengadaan Obat-obatan Program P2M | E24: 488144000 | F24: 293116000 | G24: =+F24/E24*100 -> 60.047035 | H24: 60
D25: Pengadaan logistik Non Oat Provinsi Papua | E25: 480602000 | F25: 6000000 | G25: =+F25/E25*100 -> 1.2484343 | H25: 3
D26: Pengadaan reagen IMS Provinsi Papua | E26: 123178800 | F26: 113200000 | G26: =+F26/E26*100 -> 91.898931 | H26: 95
D27: Pengelolaan Perbekalan Farmasi/Gudang Obat Buffer Stock Provinsi | E27: 165100000 | F27: 117099875 | G27: =+F27/E27*100 -> 70.926635 | H27: 75
D28: Peningkatan Kapasitas SDM Kefarmasian di Apotek | E28: 292985625 | F28: 239621773 | G28: =+F28/E28*100 -> 81.786188 | H28: 85
D29: Program Upaya Kesehatan Masyarakat | E29: 6535791200 | F29: 3911679708 | G29: =+F29/E29*100 -> 59.850133 | H29: =SUM((H30:H34))/5 -> 71
D30: Peningkatan pelayanan dan penanggulangan masalah kesehatan | E30: 3670000000 | F30: 1862236126 | G30: =+F30/E30*100 -> 50.742129 | H30: 55
D31: penyediaan biaya operasional dan pemeliharaan | E31: 1764461200 | F31: 1216460350 | G31: =+F31/E31*100 -> 68.942312 | H31: 70
D32: Pembinaan Akreditasi Puskesmas | E32: 641930000 | F32: 482207750 | G32: =+F32/E32*100 -> 75.118432 | H32: 80
D33: Pertemuan Koordinasi Akreditasi FKTP | E33: 284150000 | F33: 238809148 | G33: =+F33/E33*100 -> 84.043339 | H33: 85
D34: Monitoring pelayanan kesehatan primer | E34: 175250000 | F34: 111966334 | G34: =+F34/E34*100 -> 63.889492 | H34: 65
D35: Program Pengawasan Obat dan Makanan | E35: 103800000 | F35: 44000000 | G35: =+F35/E35*100 -> 42.38921 | H35: 45
D36: Peningkatan pengawasan keamanan pangan dan bahan berbahaya | E36: 103800000 | F36: 44000000 | G36: =+F36/E36*100 -> 42.38921 | H36: 45
D37: Program Pengembangan Obat Asli Indonesia | E37: 917473800 | F37: 698263900 | G37: =+F37/E37*100 -> 76.107231 | H37: =SUM((H38:H42))/5 -> 83
D38: Pengembangan Obat Asli Daerah | E38: 168818000 | F38: 113253000 | G38: =+F38/E38*100 -> 67.085856 | H38: 70
D39: Workshop Obat Tradisional Berbasis Wilayah Adat | E39: 114900000 | F39: 99077400 | G39: =+F39/E39*100 -> 86.229243 | H39: 90
D40: Penilaian Pemanfaatan TOGA | E40: 319176000 | F40: 212663700 | G40: =+F40/E40*100 -> 66.628976 | H40: 70
D41: Pertemuan data jaringan informasi dan dokumentasi SP3T | E41: 255179800 | F41: 213889800 | G41: =+F41/E41*100 -> 83.819252 | H41: 85
D42: ADMINISTRASI KEGIATAN SP3T | E42: 59400000 | F42: 59380000 | G42: =+F42/E42*100 -> 99.96633 | H42: 100
D43: Program Promosi Kesehatan dan Pemberdayaan masyarakat | E43: 307897000 | F43: 160578400 | G43: =+F43/E43*100 -> 52.153285 | H43: 55
D44: Pengembangan media promosi dan informasi sadar hidup sehat | E44: 307897000 | F44: 160578400 | G44: =+F44/E44*100 -> 52.153285 | H44: 55
...

Sheet A.8
B3: REKAPITULASI ALOKASI DAN REALISASI PENGGUNAAN DANA OTONOMI KHUSUS UNTUK KESEHATAN
B4: DIURAIKAN BERDASARKAN, ORGANISASI, PROGRAM/KEGIATAN PROVINSI DAN KABUPATEN/KOTA
B5: TAHUN ANGGARAN 2020
B7: PROVINSI : PAPUA
B8: PENERIMAAN : Rp5.861.910.600.000,00 | N8: Tabel A.8
B10: NO. | C10: U R A I A N | D10: PERMINTAAN PENYALURAN TAHAP I | G10: PERMINTAAN PENYALURAN TAHAP II | K10: PERMINTAAN PENYALURAN TAHAP III | O10: KET
D11: ALOKASI ANGGARAN (Rp.) | F11: PROSENTASE ALOKASI ANGGARAN (%) | G11: ALOKASI ANGGARAN (Rp.) | H11: REALISASI ANGGARAN (Rp.) | I11: PROSENTASE REALISASI ANGGARAN (%) | J11: CAPAIAN OUTPUT (%) | K11: ALOKASI ANGGARAN (Rp.) | L11: REALISASI ANGGARAN (Rp.) | M11: PROSENTASE REALISASI ANGGARAN (%) | N11: CAPAIAN OUTPUT (%)
B12: (1) | C12: (2) | D12: (3) | F12: (4) | G12: (5) | H12: (6) | I12: (7) | J12: (8) | K12: (9) | L12: (10) | M12: (11) | N12: (12) | O12: (13)
B14: A | C14: PROVINSI | D14: =D15+D92 -> 78479999993 | E14: 389351314600 | F14: =+D14/E14*100 -> 20.156603
C15: Dinas Kesehatan | D15: =D16+D27+D31+D33+D40+D44+D46+D50+D64+D66+D69+D73+D75+D89+D94+D97+D99 -> 77869999993 | E15: 78479999993 | F15: =+D15/E15*100 -> 99.222732
C16: Program Obat dan Perbekalan Kesehatan | D16: =D17+D18+D19+D20+D21+D22+D23+D24+D25+D26 -> 7071610255 | E16: 78479999993 | F16: =+D16/E16*100 -> 9.0107164
C17: Peningkatan mutu pelayanan farmasi komunitas dan rumah sakit | D17: 675605600 | E17: 78479999993 | F17: =+D17/E17*100 -> 0.8608634
C18: Pengiriman dan Relokasi Obat buffer stok dan program provinsi ke Kab dan 14 titik terisolir | D18: 163050000 | E18: 78479999993 | F18: =+D18/E18*100 -> 0.20775994
C19: Monitoring pemanfaatan buffer stock di GFK/RS/PKM dan pos obat kampung serta evaluasi hasil magang tenaga GF kab/kota | D19: 335900000 | E19: 78479999993 | F19: =+D19/E19*100 -> 0.42800714
C20: Pengadaan obat buffer stock provinsi | D20: 2769364563 | E20: 78479999993 | F20: =+D20/E20*100 -> 3.528752
C21: Pengadaan obat-obatan untuk program HIV/AIDS | D21: 371077787 | E21: 78479999993 | F21: =+D21/E21*100 -> 0.47283102
C22: Pengadaan Obat-obatan Program P2M | D22: 380710750 | E22: 78479999993 | F22: =+D22/E22*100 -> 0.48510544
C23: Pengadaan logistik Non Oat Provinsi Papua | D23: 297652250 | E23: 78479999993 | F23: =+D23/E23*100 -> 0.37927147
C24: Pengadaan reagen IMS Provinsi Papua | D24: 91997950 | E24: 78479999993 | F24: =+D24/E24*100 -> 0.11722471
C25: Peningkatan Kapasitas SDM Kefarmasian di Apotek | D25: 132300000 | E25: 78479999993 | F25: =+D25/E25*100 -> 0.16857798
C26: Penyediaan Dana Distribusi Obat,Vaksin dan Reagen dari Instalasi Farmasi Provinsi Ke IFK dan RS | D26: 1853951355 | E26: 78479999993 | F26: =+D26/E26*100 -> 2.3623233
C27: Program Upaya Kesehatan Masyarakat | D27: =D28+D29+D30 -> 850000000 | E27: 78479999993 | F27: =+D27/E27*100 -> 1.0830785
C28: Pembinaan Akreditasi Puskesmas | D28: 338853500 | E28: 78479999993 | F28: =+D28/E28*100 -> 0.43177051
C29: Pertemuan Koordinasi Akreditasi FKTP | D29: 283580000 | E29: 78479999993 | F29: =+D29/E29*100 -> 0.36134047
C30: Pembinaan Teknis Program Pelayanan Primer | D30: 227566500 | E30: 78479999993 | F30: =+D30/E30*100 -> 0.28996751
C31: Program Pengawasan Obat dan Makanan | D31: =D32 -> 69200000 | E31: 78479999993 | F31: =+D31/E31*100 -> 0.088175331
C32: Peningkatan pengawasan keamanan pangan dan bahan berbahaya | D32: 69200000 | E32: 78479999993 | F32: =+D32/E32*100 -> 0.088175331
C33: Program Pengembangan Obat Asli Indonesia | D33: =D34+D35+D36+D37+D38+D39 -> 1629127650 | E33: 78479999993 | F33: =+D33/E33*100 -> 2.0758507
C34: Pengembangan standarisasi tanaman obat bahan alam indonesia | D34: 118050000 | E34: 78479999993 | F34: =+D34/E34*100 -> 0.15042049
C35: Pengembangan Obat Asli Daerah | D35: 75600000 | E35: 78479999993 | F35: =+D35/E35*100 -> 0.096330275
C36: Workshop Obat Tradisional Berbasis Wilayah Adat | D36: 378432500 | E36: 78479999993 | F36: =+D36/E36*100 -> 0.48220247
C37: Penilaian Pemanfaatan TOGA | D37: 261000000 | E37: 78479999993 | F37: =+D37/E37*100 -> 0.33256881
C38: Pertemuan data jaringan informasi dan dokumentasi SP3T | D38: 396376850 | E38: 78479999993 | F38: =+D38/E38*100 -> 0.50506734
C39: PELATIHAN AKUPRESSUR BAGI TENAGA MEDIS PUSKESMAS | D39: 399668300 | E39: 78479999993 | F39: =+D39/E39*100 -> 0.50926134
C40: Program Promosi Kesehatan dan Pemberdayaan masyarakat | D40: =D41+D42+D43 -> 1490000000 | E40: 78479999993 | F40: =+D40/E40*100 -> 1.8985729
C41: Pengembangan media promosi dan informasi sadar hidup sehat | D41: 1300000000 | E41: 78479999993 | F41: =+D41/E41*100 -> 1.656473
C42: Pengembangan Saka Bhakti Husada ( SBH ) | D42: 90000000 | E42: 78479999993 | F42: =+D42/E42*100 -> 0.1146789
C43: Pendataan Pengembangan Upaya Kesehatan Berbasis Masyarakat ( UKBM ) | D43: 100000000 | E43: 78479999993 | F43: =+D43/E43*100 -> 0.127421
C44: Program Perbaikan Gizi Masyarakat | D44: =D45 -> 669236735 | E44: 78479999993 | F44: =+D44/E44*100 -> 0.85274813
C45: Pertemuan pencatatan dan pelaporan program gizi | D45: 669236735 | E45: 78479999993 | F45: =+D45/E45*100 -> 0.85274813
...

Sheet A.9
B2: REKAPITULASI ALOKASI DAN REALISASI PENGGUNAAN DANA TAMBAHAN INFRASTRUKTUR
B3: DIURAIKAN BERDASARKAN, ORGANISASI, PROGRAM/KEGIATAN
B4: TAHUN ANGGARAN 2019
B6: PROVINSI : PAPUA
B7: PENERIMAAN : Rp 2.824.446.537.000 | F7: Tabel A.9
B9: NO. | C9: U R A I A N | D9: PERMINTAAN PENYALURAN TAHAP I | H9: KET
D10: ALOKASI ANGGARAN (Rp.) | E10: REALISASI ANGGARAN (Rp.) | F10: PROSENTASE REALISASI ANGGARAN (%) | G10: CAPAIAN OUTPUT (%)
B11: (1) | C11: (2) | D11: (3) | E11: (4) | F11: (5) | G11: (6) | H11: (7)
B13: A | C13: PROVINSI | D13: 2824446537000 | E13: =+E14+E18+E144+E177+E188+E203+E210+E214 -> 2.2102055e+12 | F13: =+E13/D13*100 -> 78.252693 | G13: =(G14+G18+G144+G177+G188+G203+G210+G214)/8 -> 69.950846
C14: Rumah Sakit Umum Daerah Jayapura | D14: 5000000000 | E14: 0 | F14: =+E14/D14*100 -> 0 | G14: =+F14 -> 0
C15: Program pengadaan, peningkatan sarana dan prasarana rumah sakit/rumah sakit jiwa/rumah sakit paru-paru/rumah sakit mata | D15: 5000000000 | E15: 0 | F15: =+E15/D15*100 -> 0 | G15: =+F15 -> 0
C16: Pelebaran Dan Pengaspalan Jalan RSUD Jayapura | D16: 5000000000 | E16: 0 | F16: =+E16/D16*100 -> 0 | G16: =+F16 -> 0
C18: Dinas Pekerjaan Umum dan Penataan Ruang | D18: =+D19+D40+D46+D49+D54+D56+D68+D78+D95+D127+D130 -> 1734446537000 | E18: 1.268334e+12 | F18: =+E18/D18*100 -> 73.126152 | G18: =(G19+G40+G46+G49+G54+G56+G68+G78+G95+G127+G130)/11 -> 58.449211
C19: Program Pembangunan Jalan dan Jembatan | D19: =SUM(D20:D39) -> 428345498495 | E19: 3.2986112e+11 | F19: =+E19/D19*100 -> 77.00819 | G19: =SUM((G20:G39))/20 -> 59.250037 | J19: =+#REF!/J13*100 -> #REF!
C20: Pembangunan Jalan Burmeso - Gesa - Barapasi (118), 194,60 Km | D20: 40000000000 | E20: 37996134593 | F20: =+E20/D20*100 -> 94.990336 | G20: 100
C21: Pembangunan Jalan Burmeso - Sikari (119) | D21: 20000000000 | E21: 1.8381719e+10 | F21: =+E21/D21*100 -> 91.908597 | G21: 95
C22: Pembangunan Jalan Keppi - Bade (181) | D22: 21650000000 | E22: 20311387200 | F22: =+E22/D22*100 -> 93.817031 | G22: 95
C23: Pembangunan Jalan Nume - Tiom | D23: 40000000000 | E23: 2.9739174e+10 | F23: =+E23/D23*100 -> 74.347936 | G23: 75
C24: Pembangunan Jalan Mamit -Umagi | D24: 35000000000 | E24: 33250261725 | F24: =+E24/D24*100 -> 95.000748 | G24: =+F24 -> 95.000748
C25: Pembangunan Jalan Arso XIV (Keerom) - Sawia - Kwarja (114) 60 Km | D25: 20000000000 | E25: 1.7578523e+10 | F25: =+E25/D25*100 -> 87.892616 | G25: 90
C26: Pembangunan Jembatan Liba Kampung Harapan Dalam (PON XX) | D26: 6907468000 | E26: 2.0687023e+09 | F26: =+E26/D26*100 -> 29.948779 | G26: 30
C27: Pembangunan Jalan dan Jembatan Prov Papua | D27: 200985188495 | E27: 1.5365147e+11 | F27: =+E27/D27*100 -> 76.44915 | G27: 80
C28: Pembangunan Jembatan Liba II Kampung Harapan Dalam | D28: 3671072000 | E28: 1.7700503e+09 | F28: =+E28/D28*100 -> 48.21617 | G28: 50
C29: Pembangunan Jembatan Yabaso II | D29: 3721072000 | E29: 1.6208709e+09 | F29: =+E29/D29*100 -> 43.559247 | G29: 45
C30: Pembangunan Jembatan Yabaso III | D30: 3821232000 | E30: 1727706000 | F30: =+E30/D30*100 -> 45.213324 | G30: 50
C31: Pembangunan Jembatan Doyo | D31: 634708000 | E31: 500000000 | F31: =+E31/D31*100 -> 78.776382 | G31: 80
C32: Pemasangan Lampu Lighting Art Jembatan Holtekamp | D32: 3821072000 | E32: 0 | F32: =+E32/D32*100 -> 0 | G32: =+F32 -> 0
C33: Pembangunan Jembatan Penyebrangan Orang (JPO) Kab/Kota Jayapura | D33: 3745000000 | E33: 1.7710014e+09 | F33: =+E33/D33*100 -> 47.289756 | G33: 50
C34: Pembangunan Jalan Holtecamp (PLTD) - Pantai Pasir III | D34: 1818090000 | E34: 3.6006063e+08 | F34: =+E34/D34*100 -> 19.804335 | G34: 20
C35: Pembangunan Jalan Buper - Kampung Harapan | D35: 5271072000 | E35: 5000000000 | F35: =+E35/D35*100 -> 94.857365 | G35: 100
C36: Pembangunan Jalan Angkasa Indah | D36: 5271072000 | E36: 2.5490419e+09 | F36: =+E36/D36*100 -> 48.35908 | G36: 50
C37: Pemasangan Lampu Art Ligting Ucapan Selamat PON di Jayapura | D37: 626308000 | E37: 2.8905268e+08 | F37: =+E37/D37*100 -> 46.151842 | G37: 50
C38: Pembangunan Jalan Irimuli - Wanduri - Pilia - Witile | D38: 4326072000 | E38: 1295960850 | F38: =+E38/D38*100 -> 29.956988 | G38: 30
C39: Pembangunan Jalan Tiom - Melagaineri - Jigemili | D39: 7076072000 | E39: 0 | F39: =+E39/D39*100 -> 0 | G39: =+F39 -> 0
C40: Program Pembangunan saluran drainase/gorong-gorong | D40: 58272566000 | E40: 1.8569772e+10 | F40: =+E40/D40*100 -> 31.867092 | G40: =SUM((G41:G45))/5 -> 28
C41: Perencanaan Pembangunan saluran drainase/gorong-gorong | D41: 2200000000 | E41: 961880000 | F41: =+E41/D41*100 -> 43.721818 | G41: 50
C42: Pembangunan Drainase di Provinsi Papua | D42: 49107296000 | E42: 1.6513724e+10 | F42: =+E42/D42*100 -> 33.627841 | G42: 35
C43: Pembangunan Drainase GOR Futsal | D43: 2255090000 | E43: 7.5926683e+08 | F43: =+E43/D43*100 -> 33.669026 | G43: 35
C44: Pembangunan Gorong - Gorong Sekolah Alkitab Muli/Kali Yagawari | D44: 2355090000 | E44: 184952000 | F44: =+E44/D44*100 -> 7.853288 | G44: 10
C45: Pembangunan Gorong - Gorong Gereja Gidi Mulia/Kali Wuyu | D45: 2355090000 | E45: 149950000 | F45: =+E45/D45*100 -> 6.3670603 | G45: 10
...

Sheet A.10
B2: REKAPITULASI ALOKASI DAN REALISASI PENGGUNAAN DANA TAMBAHAN INFRASTRUKTUR
B3: DIURAIKAN BERDASARKAN, ORGANISASI, PROGRAM/KEGIATAN
B4: TAHUN ANGGARAN 2020
B6: PROVINSI : PAPUA
B7: PENERIMAAN : Rp 2.853.973.800.000 | M7: Tabel A.10
B9: NO. | C9: U R A I A N | D9: PERMINTAAN PENYALURAN TAHAP I | G9: PERMINTAAN PENYALURAN TAHAP II | K9: PERMINTAAN PENYALURAN TAHAP III | O9: KET
D10: ALOKASI ANGGARAN (Rp.) | F10: PROSENTASE ALOKASI ANGGARAN (%) | G10: ALOKASI ANGGARAN (Rp.) | H10: REALISASI ANGGARAN (Rp.) | I10: PROSENTASE REALISASI ANGGARAN (%) | J10: CAPAIAN OUTPUT (%) | K10: ALOKASI ANGGARAN (Rp.) | L10: REALISASI ANGGARAN (Rp.) | M10: PROSENTASE REALISASI ANGGARAN (%) | N10: CAPAIAN OUTPUT (%)
B11: (1) | C11: (2) | D11: (3) | F11: (4) | G11: (5) | H11: (6) | I11: (7) | J11: (8) | K11: (9) | L11: (10) | M11: (11) | N11: (12) | O11: (13)
B12: A | C12: PROVINSI | D12: =+D13+D17+D21+D127+D153 -> 2711275076000 | E12: 2853973800000 | F12: =D12/E12*100 -> 94.999999
C13: Rumah Sakit Umum Daerah Jayapura | D13: =+D14 -> 45239040000 | E13: 2853973800000 | F13: =D13/E13*100 -> 1.5851246
C14: Program pengadaan, peningkatan sarana dan prasarana rumah sakit/rumah sakit jiwa/rumah sakit paru-paru/rumah sakit mata | D14: 45239040000 | E14: 2853973800000 | F14: =D14/E14*100 -> 1.5851246
C15: Pembangunan Gedung Jantung Terpadu | D15: 45239040000 | E15: 2853973800000 | F15: =D15/E15*100 -> 1.5851246
E16: 2853973800000
C17: Rumah Sakit Jiwa | D17: =+D18 -> 4000000000 | E17: 2853973800000 | F17: =D17/E17*100 -> 0.14015546
C18: Program pengadaan, peningkatan sarana dan prasarana rumah sakit/rumah sakit jiwa/rumah sakit paru-paru/rumah sakit mata | D18: 4000000000 | E18: 2853973800000 | F18: =D18/E18*100 -> 0.14015546
C19: Pembangunan rumah sakit | D19: 4000000000 | E19: 2853973800000 | F19: =D19/E19*100 -> 0.14015546
E20: 2853973800000
C21: Dinas Pekerjaan Umum, Penataan Ruang, Perumahan dan Kawasan Permukiman | D21: =+D22+D52+D54+D56+D60+D63+D70+D73+D86+D88+D118+D121 -> 970860814488 | E21: 2853973800000 | F21: =D21/E21*100 -> 34.01786
C22: Program Pembangunan Jalan dan Jembatan | D22: 308308132690 | E22: 2853973800000 | F22: =D22/E22*100 -> 10.802767
C23: Pembangunan Jalan Burmeso - Gesa - Barapasi (118), 194,60 Km | D23: 10022315056 | E23: 2853973800000 | F23: =D23/E23*100 -> 0.35117053
C24: Pembangunan Jalan Karubaga - Wunim - Bokondini (154) | D24: 5212119056 | E24: 2853973800000 | F24: =D24/E24*100 -> 0.18262673
C25: Pembangunan Jalan Kobakma - Megambilis (120), 112 Km | D25: 15034590056 | E25: 2853973800000 | F25: =D25/E25*100 -> 0.52679496
C26: Pembangunan Jalan Nume - Tiom | D26: 15034590056 | E26: 2853973800000 | F26: =D26/E26*100 -> 0.52679496
C27: Pembangunan Jalan Panaga - Taive | D27: 20003970406 | E27: 2853973800000 | F27: =D27/E27*100 -> 0.7009164
C28: Pembangunan Jalan Muliama-Wame-Makki | D28: 10025315056 | E28: 2853973800000 | F28: =D28/E28*100 -> 0.35127565
C29: Pembangunan Jalan Lingkar Danau Tigi | D29: 10001483146 | E29: 2853973800000 | F29: =D29/E29*100 -> 0.35044061
C30: Pembangunan Jalan Elelim (Yalimo) - Apalapsili - Anggruk (Yahukimo) | D30: 10022315056 | E30: 2853973800000 | F30: =D30/E30*100 -> 0.35117053
C31: Pembangunan Jalan Oksibil - Tarup - Denomngatupbin | D31: 10025315056 | E31: 2853973800000 | F31: =D31/E31*100 -> 0.35127565
C32: Pembangunan Jembatan Liba II Kampung Harapan Dalam | D32: 14050972146 | E32: 2853973800000 | F32: =D32/E32*100 -> 0.4923301
C33: Pembangunan Jembatan Yabaso II | D33: 9993597146 | E33: 2853973800000 | F33: =D33/E33*100 -> 0.35016429
... C125: Pelatihan Ketrampilan Tenaga Kerja Konstruksi dengn Mobile Traning Unit (MTU) | D125: 344337312 | E125: 2853973800000 | F125: =D125/E125*100 -> 0.012065188
E126: 2853973800000
C127: Dinas Perhubungan | D127: =+D128+D133+D135+D143+D149 -> 50000000000 | E127: 2853973800000 | F127: =D127/E127*100 -> 1.7519432
C128: Program Pembangunan Prasarana dan Fasilitas Perhubungan | D128: 5350000000 | E128: 2853973800000 | F128: =D128/E128*100 -> 0.18745792
C129: Penyusunan Master Plan dan RTT Sisi Udara, Sisi Darat Bandar Udara Bogabaida di Kabupaten Paniai | D129: 2500000000 | E129: 2853973800000 | F129: =D129/E129*100 -> 0.08759716
C130: Review Tataran Transportasi Wilayah (Tatrawil) Provinsi Papua | D130: 1200000000 | E130: 2853973800000 | F130: =D130/E130*100 -> 0.042046637
C131: Penyusunan UKL/UPL Pembangunan Bandara Fawi di Kabupaten Puncak Jaya | D131: 750000000 | E131: 2853973800000 | F131: =D131/E131*100 -> 0.026279148
C132: Studi Pemilihan Lokasi dan Kelayakan Pelabuhan Perintis | D132: 900000000 | E132: 2853973800000 | F132: =D132/E132*100 -> 0.031534978
C133: Program Rehabilitasi dan Pemeliharaan Prasarana dan Fasilitas LLAJ | D133: 3894000000 | E133: 2853973800000 | F133: =D133/E133*100 -> 0.13644134
C134: Rehabilitasi/Pemeliharaan Lampu APILL | D134: 3894000000 | E134: 2853973800000 | F134: =D134/E134*100 -> 0.13644134
...
