Workbook

Sheet A.1
A1: ALOKASI PEMBAGIAN DAN PENYALURAN DANA OTONOMI KHUSUS
A2: ANTARA PROVINSI DAN KABUPATEN/KOTA ATAU NAMA LAIN
A3: TAHUN ANGGARAN 2018
A5: PROVINSI : PAPUA
A6: PENERIMAAN : Rp5.620.854.115.000 | K6: Tabel A.1
A9: NO. | B9: U R A I A N | C9: PERMINTAAN PENYALURAN TAHAP I | F9: PERMINTAAN PENYALURAN TAHAP II | I9: PERMINTAAN PENYALURAN TAHAP I | L9: KET
C10: ALOKASI ANGGARAN (Rp. ) | E10: PROSENTASE ALOKASI ANGGARAN ( % ) | F10: ALOKASI ANGGARAN (Rp.) | G10: REALISASI PENYALURAN (Rp.) | H10: PROSENTASE REALISASI PENYALURAN (%) | I10: ALOKASI ANGGARAN (Rp.) | J10: REALISASI PENYALURAN (Rp.) | K10: PROSENTASE REALISASI PENYALURAN (%)
A12: (1) | B12: (2) | C12: (3) | E12: (4) | F12: (5) | G12: (6) | H12: (7) | I12: (8) | J12: (9) | K12: (10) | L12: (11)
A13: I. | B13: PROVINSI PAPUA | C13: 772294717000 | D13: 5580152407000 | E13: =C13/D13*100 -> 13.840029 | F13: 772294717000 | G13: =30/100*F13 -> 231688415100 | H13: =+G13/F13*100 -> 30 | I13: 772294717000 | J13: =I13 -> 772294717000 | K13: =J13/I13*100 -> 100
A14: II. | B14: KABUPATEN/KOTA | C14: =SUM(C15:C43) -> 3089178868000 | D14: 5580152407000 | E14: =C14/D14*100 -> 55.360116 | F14: =SUM(F15:F43) -> 3089178868000 | G14: =30/100*F14 -> 926753660400 | H14: =+G14/F14*100 -> 30 | I14: 3089178868000 | J14: =I14 -> 3089178868000 | K14: =J14/I14*100 -> 100
B15: 1. KABUPATEN MERAUKE | C15: 102513472000 | D15: 5580152407000 | E15: =C15/D15*100 -> 1.8371088 | F15: 102513472000 | G15: =30/100*F15 -> 30754041600 | H15: =+G15/F15*100 -> 30 | I15: 102513472000 | J15: =I15 -> 102513472000 | K15: =J15/I15*100 -> 100
B16: 2. KABUPATEN JAYAWIJAYA | C16: 117040104000 | D16: 5580152407000 | E16: =C16/D16*100 -> 2.0974356 | F16: 117040104000 | G16: =30/100*F16 -> 35112031200 | H16: =+G16/F16*100 -> 30 | I16: 117040104000 | J16: =I16 -> 117040104000 | K16: =J16/I16*100 -> 100
B17: 3. KABUPATEN JAYAPURA | C17: 103583972000 | D17: 5580152407000 | E17: =C17/D17*100 -> 1.8562929 | F17: 103583972000 | G17: =30/100*F17 -> 31075191600 | H17: =+G17/F17*100 -> 30 | I17: 103583972000 | J17: =I17 -> 103583972000 | K17: =J17/I17*100 -> 100
B18: 4. KABUPATEN NABIRE | C18: 100989297000 | D18: 5580152407000 | E18: =C18/D18*100 -> 1.8097946 | F18: 100989297000 | G18: =30/100*F18 -> 30296789100 | H18: =+G18/F18*100 -> 30 | I18: 100989297000 | J18: =I18 -> 100989297000 | K18: =J18/I18*100 -> 100
B19: 5. KABUPATEN KEP. YAPEN | C19: 94656505000 | D19: 5580152407000 | E19: =C19/D19*100 -> 1.6963068 | F19: 94656505000 | G19: =30/100*F19 -> 28396951500 | H19: =+G19/F19*100 -> 30 | I19: 94656505000 | J19: =I19 -> 94656505000 | K19: =J19/I19*100 -> 100
B20: 6. KABUPATEN BIAK NUMFOR | C20: 100104193000 | D20: 5580152407000 | E20: =C20/D20*100 -> 1.793933 | F20: 100104193000 | G20: =30/100*F20 -> 30031257900 | H20: =+G20/F20*100 -> 30 | I20: 100104193000 | J20: =I20 -> 100104193000 | K20: =J20/I20*100 -> 100
B21: 7. KABUPATEN PANIAI | C21: 115559753000 | D21: 5580152407000 | E21: =C21/D21*100 -> 2.0709068 | F21: 115559753000 | G21: =30/100*F21 -> 34667925900 | H21: =+G21/F21*100 -> 30 | I21: 115559753000 | J21: =I21 -> 115559753000 | K21: =J21/I21*100 -> 100
B22: 8. KABUPATEN PUNCAK JAYA | C22: 128559753000 | D22: 5580152407000 | E22: =C22/D22*100 -> 2.3038753 | F22: 128559753000 | G22: =30/100*F22 -> 38567925900 | H22: =+G22/F22*100 -> 30 | I22: 128559753000 | J22: =I22 -> 128559753000 | K22: =J22/I22*100 -> 100
B23: 9. KABUPATEN MIMIKA | C23: 100956195000 | D23: 5580152407000 | E23: =C23/D23*100 -> 1.8092014 | F23: 100956195000 | G23: =30/100*F23 -> 30286858500 | H23: =+G23/F23*100 -> 30 | I23: 100956195000 | J23: =I23 -> 100956195000 | K23: =J23/I23*100 -> 100
B24: 10. KABUPATEN BOVEN DIGOEL | C24: 100456545000 | D24: 5580152407000 | E24: =C24/D24*100 -> 1.8002473 | F24: 100456545000 | G24: =30/100*F24 -> 30136963500 | H24: =+G24/F24*100 -> 30 | I24: 100456545000 | J24: =I24 -> 100456545000 | K24: =J24/I24*100 -> 100
B25: 11. KABUPATEN MAPPI | C25: 104091290000 | D25: 5580152407000 | E25: =C25/D25*100 -> 1.8653844 | F25: 104091290000 | G25: =30/100*F25 -> 31227387000 | H25: =+G25/F25*100 -> 30 | I25: 104091290000 | J25: =I25 -> 104091290000 | K25: =J25/I25*100 -> 100
B26: 12. KABUPATEN ASMAT | C26: 105686147000 | D26: 5580152407000 | E26: =C26/D26*100 -> 1.8939652 | F26: 105686147000 | G26: =30/100*F26 -> 31705844100 | H26: =+G26/F26*100 -> 30 | I26: 105686147000 | J26: =I26 -> 105686147000 | K26: =J26/I26*100 -> 100
... B43: 29. KOTA JAYAPURA | C43: 95555051000 | D43: 5580152407000 | E43: =C43/D43*100 -> 1.7124093 | F43: 95555051000 | G43: =30/100*F43 -> 28666515300 | H43: =+G43/F43*100 -> 30 | I43: 95555051000 | J43: =I43 -> 95555051000 | K43: =J43/I43*100 -> 100
A44: III | B44: PROSPEK | C44: 522710000000 | D44: 5580152407000 | E44: =C44/D44*100 -> 9.3673069 | F44: 522710000000 | G44: =30%*C44 -> 156813000000 | H44: =+G44/F44*100 -> 30 | I44: 522710000000 | J44: =I44 -> 522710000000 | K44: =J44/I44*100 -> 100
B45: KPS | C45: 270000000000 | D45: 5580152407000 | E45: =C45/D45*100 -> 4.8385775 | F45: 270000000000 | G45: =30%*C45 -> 81000000000 | H45: =+G45/F45*100 -> 30 | I45: 270000000000 | J45: =I45 -> 270000000000 | K45: =J45/I45*100 -> 100
B46: GERBANGMAS | C46: 200000000000 | D46: 5580152407000 | E46: =C46/D46*100 -> 3.5841315 | F46: 200000000000 | G46: =30%*C46 -> 60000000000 | H46: =+G46/F46*100 -> 30 | I46: 200000000000 | J46: =I46 -> 200000000000 | K46: =J46/I46*100 -> 100
B47: PERUMAHAN RAKYAT | C47: 80000000000 | D47: 5580152407000 | E47: =C47/D47*100 -> 1.4336526 | F47: 80000000000 | G47: =30%*C47 -> 24000000000 | H47: =+G47/F47*100 -> 30 | I47: 80000000000 | J47: =I47 -> 80000000000 | K47: =J47/I47*100 -> 100
B48: PENDIDIKAN | C48: 495968822000 | D48: 5580152407000 | E48: =C48/D48*100 -> 8.8880874 | F48: 495968822000 | G48: =30%*C48 -> 148790646600 | H48: =+G48/F48*100 -> 30 | I48: 536670530000 | J48: =I48 -> 536670530000 | K48: =J48/I48*100 -> 100
B49: BANGGA PAPUA | C49: 150000000000 | D49: 5580152407000 | E49: =C49/D49*100 -> 2.6880986 | F49: 150000000000 | G49: =30%*C49 -> 45000000000 | H49: =+G49/F49*100 -> 30 | I49: 150000000000 | J49: =I49 -> 150000000000 | K49: =J49/I49*100 -> 100
B50: JUMLAH | C50: =+C44+C45+C46+C47+C48+C49+C14+C13+#REF! -> #REF! | D50: 5580152407000 | E50: =C50/C50*100 -> #REF! | F50: =+F44+F45+F46+F47+F48+F49+F14+F13+#REF! -> #REF! | G50: =+#REF!+G49+G48+G47+G46+G45+G44+G14+G13 -> #REF! | H50: =+G50/F50*100 -> #REF! | I50: 5620854115000 | J50: =I50 -> 5620854115000 | K50: =J50/I50*100 -> 100

Sheet A.2
C1: ALOKASI PEMBAGIAN DAN PENYALURAN DANA OTONOMI KHUSUS
C2: ANTARA PROVINSI DAN KABUPATEN/KOTA ATAU NAMA LAIN
C3: TAHUN ANGGARAN 2019
C5: PROVINSI : PAPUA
C6: PENERIMAAN : Rp 5.850.230.158.000,00 | M6: Tabel A.2
C9: NO. | D9: U R A I A N | E9: PERMINTAAN PENYALURAN TAHAP I | H9: PERMINTAAN PENYALURAN TAHAP II | K9: PERMINTAAN PENYALURAN TAHAP III | N9: KET
E10: ALOKASI ANGGARAN (Rp. ) | G10: PROSENTASE ALOKASI ANGGARAN ( % ) | H10: ALOKASI ANGGARAN (Rp.) | I10: REALISASI PENYALURAN (Rp.) | J10: PROSENTASE REALISASI PENYALURAN (%) | K10: ALOKASI ANGGARAN (Rp.) | L10: REALISASI PENYALURAN (Rp.) | M10: PROSENTASE REALISASI PENYALURAN (%)
C12: (1) | D12: (2) | E12: (3) | G12: (4) | H12: (5) | I12: (6) | J12: (7) | K12: (8) | L12: (9) | M12: (10) | N12: (11)
C15: I. | D15: PROVINSI PAPUA | E15: =+A.4!E15 -> 389351314600 | F15: 5850230158000 | G15: =E15/F15*100 -> 6.6553162
C16: II. | D16: KABUPATEN/KOTA | E16: =SUM(E17:E45) -> 1.5574053e+12 | F16: 5850230158000 | G16: =E16/F16*100 -> 26.621265
D17: 1. KABUPATEN MERAUKE | E17: 4.8495887e+10 | F17: 5850230158000 | G17: =E17/F17*100 -> 0.82895691
D18: 2. KABUPATEN JAYAWIJAYA | E18: 5.1356988e+10 | F18: 5850230158000 | G18: =E18/F18*100 -> 0.87786268
D19: 3. KABUPATEN JAYAPURA | E19: 4.6073464e+10 | F19: 5850230158000 | G19: =E19/F19*100 -> 0.78754959
D20: 4. KABUPATEN NABIRE | E20: 4.5756973e+10 | F20: 5850230158000 | G20: =E20/F20*100 -> 0.78213971
D21: 5. KABUPATEN KEP. YAPEN | E21: 4.5992775e+10 | F21: 5850230158000 | G21: =E21/F21*100 -> 0.78617036
D22: 6. KABUPATEN BIAK NUMFOR | E22: 3.2258637e+10 | F22: 5850230158000 | G22: =E22/F22*100 -> 0.55140799
D23: 7. KABUPATEN PANIAI | E23: 6.4189783e+10 | F23: 5850230158000 | G23: =E23/F23*100 -> 1.0972181
D24: 8. KABUPATEN PUNCAK JAYA | E24: 6.4622624e+10 | F24: 5850230158000 | G24: =E24/F24*100 -> 1.1046168
D25: 9. KABUPATEN MIMIKA | E25: 3.1309837e+10 | F25: 5850230158000 | G25: =E25/F25*100 -> 0.53518983
D26: 10. KABUPATEN BOVEN DIGOEL | E26: 5.9981998e+10 | F26: 5850230158000 | G26: =E26/F26*100 -> 1.025293
D27: 11. KABUPATEN MAPPI | E27: 6.1685777e+10 | F27: 5850230158000 | G27: =E27/F27*100 -> 1.0544162
D28: 12. KABUPATEN ASMAT | E28: 6.1939362e+10 | F28: 5850230158000 | G28: =E28/F28*100 -> 1.0587509
... D45: 29. KOTA JAYAPURA | E45: 31867021099 | F45: 5850230158000 | G45: =E45/F45*100 -> 0.54471397
C46: III | D46: URUSAN BERSAMA | E46: =SUM(E47:E67) -> 3861473585000 | F46: 5850230158000 | G46: =+E46/F46*100 -> 66.005499
D47: DINAS PENDIDIKAN | E47: 1033246526900 | F47: 5850230158000 | G47: =E47/F47*100 -> 17.661639
D48: DINAS KESEHATAN | E48: 156991000000 | F48: 5850230158000 | G48: =E48/F48*100 -> 2.6835013
D49: RUMAS SAKIT UMUM DAERAH JAYAPURA | E49: 291000000000 | F49: 5850230158000 | G49: =E49/F49*100 -> 4.9741633
D50: RUMAH SAKIT UMUM DAERAH ABEPURA | E50: 140000000000 | F50: 5850230158000 | G50: =E50/F50*100 -> 2.3930682
D51: RUMA SAKIT JIWA ABEPURA | E51: 50000000000 | F51: 5850230158000 | G51: =E51/F51*100 -> 0.85466723
D52: BADAN KESATUAN BANGSA DAN POLITIK | E52: 10000000000 | F52: 5850230158000 | G52: =E52/F52*100 -> 0.17093345
D53: DINAS SOSIAL, KEPENDUDUKAN DAN CATATAN SIPIL | E53: 1000000000 | F53: 5850230158000 | G53: =E53/F53*100 -> 0.017093345
D54: DINAS KOMUNIKASI DAN INFORMATIKA | E54: 6328812000 | F54: 5850230158000 | G54: =E54/F54*100 -> 0.10818056
D55: DINAS KOPERASI, USAHA KECIL DAN MENENGAH' | E55: 5000000000 | F55: 5850230158000 | G55: =E55/F55*100 -> 0.085466723
D56: DINAS PEMUDA DAN OLAHRAGA | E56: 665934875510 | F56: 5850230158000 | G56: =E56/F56*100 -> 11.383054
D57: DINAS KELAUTAN DAN PERIKANAN | E57: 8000000000 | F57: 5850230158000 | G57: =E57/F57*100 -> 0.13674676
D58: DINAS PARIWISATA | E58: 5000000000 | F58: 5850230158000 | G58: =E58/F58*100 -> 0.085466723
... D67: BPKAD (BTL) | E67: 1129203534590 | F67: 5850230158000 | G67: =E67/F67*100 -> 19.301865
C68: IV | D68: YANG BELUM DI JABARKAN DALAM PROG/KEG | E68: =+A.4!E713 -> 42000000000 | F68: 5850230158000 | G68: =E68/F68*100 -> 0.71792047
D69: JUMLAH | E69: =+E15+E16+E46+E68 -> 5850230158000 | F69: 5580152407000 | G69: =E69/E69*100 -> 100

Sheet A.3
C3: REKAPITULASI ALOKASI DAN REALISASI PENGGUNAAN DANA OTONOMI KHUSUS
C4: DIURAIKAN BERDASARKAN, ORGANISASI, PROGRAM/KEGIATAN PROVINSI DAN KABUPATEN/KOTA ATAU NAMA LAIN
C5: TAHUN ANGGARAN 2018
C7: PROVINSI : PAPUA | H7: Tabel A.3
C8: PENERIMAAN : Rp5.620.854.115.000
C10: NO. | D10: U R A I A N | E10: PERMINTAAN PENYALURAN TAHAP I | I10: KET
E11: ALOKASI ANGGARAN 2018 (Rp.) | F11: REALISASI ANGGARAN 2018 (Rp.) | G11: PROSENTASE REALISASI ANGGARAN (%) | H11: CAPAIAN OUTPUT ( %)
C12: (1) | D12: (2) | E12: (9) | F12: (10) | G12: (11) | H12: (12)
C15: A | D15: PROVINSI | E15: =E16+E85+E162+E182+E197+E216+E233+E258+E277+E291+E311+E327+E345+E358+E362+E384+E403+E425+E462+E490+E516+E537+E555+E566+E570+E574+E606+E624+E631+E645+E659+E663+E670+E675 -> 772294717000 | F15: =+F16+F85+F162+F182+F197+F216+F233+F258+F277+F291+F311+F327+F345+F358+F362+F384+F403+F425+F462+F490+F516+F537+F555+F566+F570+F574+F606+F624+F631+F645+F659+F670+F675 -> 6.8369114e+11 | G15: =+F15/E15*100 -> 88.527233 | H15: =(H16+H85+H162+H182+H197+H216+H233+H258+H277+H291+H311+H327+H345+H358+H362+H384+H403+H425+H462+H490+H516+H537+H555+H566+H570+H574+H606+H624+H645+H659+H663+H670+H675)/33 -> 91.361503
D16: Dinas Pendidikan | E16: =+E17+E29+E26+E34+E43+E60+E63+E71 -> 113555068526 | F16: =+F17+F26+F29+F34+F43+F60+F63+F71 -> 77732318264 | G16: =+F16/E16*100 -> 68.453411 | H16: =(H17+H26+H29+H34+H43+H60+H63+H71)/8 -> 77.075861
D17: Program Pendidikan Menengah Atas | E17: 7770200000 | F17: =SUM(F18:F25) -> 6916445112 | G17: =+F17/E17*100 -> 89.012446 | H17: =SUM((H18:H25))/8 -> 87.499748
D18: Penerapan dan Pelatihan MBS SMA | E18: 704000000 | F18: 704000000 | G18: =+F18/E18*100 -> 100 | H18: =+G18 -> 100
D19: Lomba Debat Bahasa Inggris dan bahasa Indonesia | E19: 724300000 | F19: 724285400 | G19: =+F19/E19*100 -> 99.997984 | H19: =+G19 -> 99.997984
D20: Pengembangan Materi Belajar Mengajar Menggunakan Teknologi Informasi dan Komunikasi | E20: 705250000 | G20: =+F20/E20*100 -> 0 | H20: =+G20 -> 0
D21: Lomba Kompetensi Siswa SMA Tingkat Prov dan Tk.Nasional | E21: 3209750000 | F21: 3061259712 | G21: =+F21/E21*100 -> 95.373774 | H21: 100
D22: TOT Guru BIdang Studi SMA | E22: 700400000 | F22: 700400000 | G22: =+F22/E22*100 -> 100 | H22: =+G22 -> 100
D23: Penyelenggaraan akreditasi sekolah menengah | E23: 767000000 | F23: 767000000 | G23: =+F23/E23*100 -> 100 | H23: =+G23 -> 100
D24: Pelatihan Kepala Tata Usaha Sekolah SMA | E24: 559500000 | F24: 559500000 | G24: =+F24/E24*100 -> 100 | H24: =+G24 -> 100
D25: Penyusunan Road Map SMA | E25: 400000000 | F25: 400000000 | G25: =+F25/E25*100 -> 100 | H25: =+G25 -> 100
D26: Program Pendidikan Non Formal | E26: 656600000 | F26: =+F27+F28 -> 656600000 | G26: =+F26/E26*100 -> 100 | H26: =SUM((H27:H28))/2 -> 50
D27: Rapat Koordinasi Tim Pengendali Percepatan Tuntas Buta Aksara Provinsi | E27: 656600000 | F27: 656600000 | G27: =+F27/E27*100 -> 100 | H27: =+G27 -> 100
D28: Pembekalan KKN Tematik Percepatan Tuntas Buta Aksara di PKBM | E28: 0
D29: Program Pendidikan Luar Biasa | E29: 1356000000 | F29: =SUM(F30:F33) -> 1333677378 | G29: =+F29/E29*100 -> 98.353789 | H29: =SUM((H30:H33))/4 -> 100
D30: Pelatihan kompetensi tenaga pendidik | E30: 500000000 | F30: 488080378 | G30: =+F30/E30*100 -> 97.616076 | H30: 100
D31: Pelatihan penyusunan kurikulum | E31: 200000000 | F31: 200000000 | G31: =+F31/E31*100 -> 100 | H31: =+G31 -> 100
D32: Pengawasan penyelenggaraan pendidikan | E32: 156000000 | F32: 154875000 | G32: =+F32/E32*100 -> 99.278846 | H32: 100
D33: Pembinaan minat, bakat dan kreativitas siswa | E33: 500000000 | F33: 490722000 | G33: =+F33/E33*100 -> 98.1444 | H33: 100
D34: Program Peningkatan Mutu Pendidik dan Tenaga Kependidikan | E34: 14368211250 | F34: =SUM(F35:F42) -> 13931503804 | G34: =+F34/E34*100 -> 96.9606 | H34: =SUM((H35:H42))/8 -> 98.75
D35: Pelaksanaan sertifikasi pendidik | E35: 2000000000 | F35: 2000000000 | G35: =+F35/E35*100 -> 100 | H35: =+G35 -> 100
D36: Pelaksanaan uji kompetensi pendidik dan tenaga kependidikan | E36: 2000000000 | F36: 1939630900 | G36: =+F36/E36*100 -> 96.981545 | H36: 100
D37: Pembinaan kelompok kerja guru (MGMP dan MKKS) | E37: 1000000000 | F37: 1000000000 | G37: =+F37/E37*100 -> 100 | H37: =+G37 -> 100
D38: Seleksi dan Pembekalan Guru, Kepsek SMA/SMK/PKLK Berprestasi dan Berdedikasi | E38: 2000000000 | F38: 1831301400 | G38: =+F38/E38*100 -> 91.56507 | H38: 95
D39: SERTIFIKASI GURU DAN PROGRAM KEAHLIAN SMK | E39: 3000000000 | F39: 2999432300 | G39: =+F39/E39*100 -> 99.981077 | H39: 100
D40: Seleksi dan Pengiriman Mahasiswa Calon Guru Produktif SMK | E40: 840000000 | F40: 838519200 | G40: =+F40/E40*100 -> 99.823714 | H40: 100
D41: Magang Guru Produktif SMK | E41: 1728211250 | F41: 1567990528 | G41: =+F41/E41*100 -> 90.729101 | H41: 95
D42: Pelatihan Kompetensi Pendidik Tenaga Kependidikan SMA/SMK/PKLK(Laboratorium, Pustakawan, Arsiparis dan Pengawas Sekolah | E42: 1800000000 | F42: 1754629476 | G42: =+F42/E42*100 -> 97.479415 | H42: 100
D43: Program Manajemen Pelayanan Pendidikan | E43: =SUM(E44:E59) -> 49431488750 | F43: =SUM(F44:F59) -> 16716917218 | G43: =+F43/E43*100 -> 33.818357 | H43: =SUM((H44:H59))/16 -> 92.5
D44: Penerapan sistem dan informasi manajemen pendidikan | E44: 1334920000 | F44: 1222723000 | G44: =+F44/E44*100 -> 91.595227 | H44: 95
D45: Pelaksanaan Rapat Kerja Teknis | E45: 1806390000 | F45: 1755764700 | G45: =+F45/E45*100 -> 97.197432 | H45: 100
D46: Pelaksanaan Ujian Nasional dan Ujian Sekolah | E46: 5693390000 | F46: 5436869058 | G46: =+F46/E46*100 -> 95.494408 | H46: 95
...

Sheet A.4
C3: REKAPITULASI ALOKASI DAN REALISASI PENGGUNAAN DANA OTONOMI KHUSUS
C4: DIURAIKAN BERDASARKAN, ORGANISASI, PROGRAM/KEGIATAN PROVINSI DAN KABUPATEN/KOTA ATAU NAMA LAIN
C5: TAHUN ANGGARAN 2019
C7: PROVINSI : PAPUA | P7: Tabel A.4
C8: PENERIMAAN : Rp 5.850.230.158.00,00
C10: NO. | D10: U R A I A N | E10: PERMINTAAN PENYALURAN TAHAP I | H10: PERMINTAAN PENYALURAN TAHAP II | L10: PERMINTAAN PENYALURAN TAHAP III | P10: KET
E11: ALOKASI ANGGARAN (Rp.) | G11: PROSENTASE (%) | H11: ALOKASI ANGGARAN (Rp.) | I11: REALISASI ANGGARAN (Rp.) | J11: PROSENTASE REALISASI ANGGARAN (%) | K11: CAPAIAN OUTPUT ( %) | L11: ALOKASI ANGGARAN (Rp.) | M11: REALISASI ANGGARAN (Rp.) | N11: PROSENTASE REALISASI ANGGARAN (%) | O11: CAPAIAN OUTPUT ( %)
C12: (1) | D12: (2) | E12: (3) | G12: (4) | H12: (5) | I12: (6) | J12: (7) | K12: (8) | L12: (9) | M12: (10) | N12: (11) | O12: (12) | P12: (13)
C15: A | D15: PROVINSI | E15: =+E16+E39+E133+E148+E163+E174+E195+E206+E215+E230+E250+E266+E285+E300+E314+E321+E330+E337 -> 389351314600 | F15: 389351314600 | G15: =+F15/E15*100 -> 100
D16: Dinas Pendidikan | E16: =+E17+E21+E25+E27+E31 -> 97405000000 | F16: 389351314600 | G16: =E16/F16*100 -> 25.017252
D17: Program Pendidikan Menengah Atas | E17: =SUM(E18:E20) -> 19807432930 | F17: 389351314600 | G17: =E17/F17*100 -> 5.0872906
D18: Lomba Debat Bahasa Inggris, Bahasa Indonesia dan Bahasa Jerman | E18: 545200000 | F18: 389351314600 | G18: =E18/F18*100 -> 0.14002778
D19: DAK Reguler SMA ( Utang TA 2017) | E19: 17515982930 | F19: 389351314600 | G19: =E19/F19*100 -> 4.4987604
D20: Lomba Kompetensi Siswa SMA | E20: 1746250000 | F20: 389351314600 | G20: =E20/F20*100 -> 0.4485024
D21: Program Manajemen Pelayanan Pendidikan | E21: 64602800000 | F21: 389351314600 | G21: =E21/F21*100 -> 16.592419
D22: Penerapan sistem dan informasi manajemen pendidikan | E22: 1245800000 | F22: 389351314600 | G22: =E22/F22*100 -> 0.3199681
D23: Biaya Operasi Sekolah | E23: 62050000000 | F23: 389351314600 | G23: =E23/F23*100 -> 15.936764
D24: Fasilitasi pembiayaan akreditasi sekolah SMA dan SMK | E24: 1307000000 | F24: 389351314600 | G24: =E24/F24*100 -> 0.33568655
D25: Program Peningkatan SDM Pendidikan Tinggi | E25: 0 | F25: 389351314600 | G25: =E25/F25*100 -> 0
D26: Beasiswa Pendidikan Pascasarjana (S2) | E26: 0 | F26: 389351314600 | G26: =E26/F26*100 -> 0
D27: Program Pendidikan Khusus dan Layanan Khusus | E27: 6808567070 | F27: 389351314600 | G27: =E27/F27*100 -> 1.748695
D28: Makan dan Minum Siswa SMA N 3 dan SMANKOR | E28: 6000000 | F28: 389351314600 | G28: =E28/F28*100 -> 0.0015410247
D29: Fasilitasi lomba O2SN SD tk Provinsi | E29: 1802567070 | F29: 389351314600 | G29: =E29/F29*100 -> 0.46296674
... D37: Pengembangan unit Produksi untuk SMK | E37: 724400000 | F37: 389351314600 | G37: =E37/F37*100 -> 0.18605305
F38: 389351314600 | G38: =E38/F38*100 -> 0
D39: Dinas Kesehatan | E39: =+E40+E43+E45+E56+E62+E64+E70+E72+E74+E77+E89+E91+E94+E96+E100+E102+E116+E122+E125+E127 -> 69470000000 | F39: 389351314600 | G39: =E39/F39*100 -> 17.842498
D40: Program Pelayanan Administrasi Perkantoran | E40: 4169210000 | F40: 389351314600 | G40: =E40/F40*100 -> 1.0708093
D41: Penyediaan jasa komunikasi, sumber daya air dan listrik | E41: 1624450000 | F41: 389351314600 | G41: =E41/F41*100 -> 0.4172196
D42: Penyediaan jasa kebersihan kantor | E42: 2544760000 | F42: 389351314600 | G42: =E42/F42*100 -> 0.65358968
D43: Program peningkatan sarana dan prasarana aparatur | E43: 0 | F43: 389351314600 | G43: =E43/F43*100 -> 0
D44: Pembangunan gedung kantor | E44: 0 | F44: 389351314600 | G44: =E44/F44*100 -> 0
D45: Program Obat dan Perbekalan Kesehatan | E45: 6745531225 | F45: 389351314600 | G45: =E45/F45*100 -> 1.7325051
D46: Peningkatan mutu pelayanan farmasi komunitas dan rumah sakit | E46: 403375800 | F46: 389351314600 | G46: =E46/F46*100 -> 0.10360201
D47: Pengiriman dan Relokasi Obat buffer stok dan program provinsi ke Kab dan 14 titik terisolir | E47: 2300000000 | F47: 389351314600 | G47: =E47/F47*100 -> 0.59072614
D48: Monitoring pemanfaatan buffer stock di GFK/RS/PKM dan pos obat kampung serta evaluasi hasil magang tenaga GF kab/kota | E48: 338814000 | F48: 389351314600 | G48: =E48/F48*100 -> 0.087020125
D49: Pengadaan obat buffer stock provinsi | E49: 1681552000 | F49: 389351314600 | G49: =E49/F49*100 -> 0.43188553
D50: Pengadaan obat-obatan untuk program HIV/AIDS | E50: 471779000 | F50: 389351314600 | G50: =E50/F50*100 -> 0.12117052
D51: Pengadaan Obat-obatan Program P2M | E51: 488144000 | F51: 389351314600 | G51: =E51/F51*100 -> 0.12537366
... D131: Monitoring dan Evaluasi Pelaksanaan ASPAK dan SIRS Online di Kab/Kota | E131: 246350000 | F131: 389351314600 | G131: =E131/F131*100 -> 0.063271907
F132: 389351314600 | G132: =E132/F132*100 -> 0
...

Sheet A.5
A2: REKAPITULASI ALOKASI DAN REALISASI PENGGUNAAN DANA OTONOMI KHUSUS UNTUK PENDIDIKAN
A3: DIURAIKAN BERDASARKAN, ORGANISASI, PROGRAM/KEGIATAN PROVINSI DAN KABUPATEN/KOTA
A4: TAHUN ANGGARAN 2018
A6: PROVINSI : PAPUA
A7: =+A.3!C8 -> PENERIMAAN : Rp5.620.854.115.000 | E7: Tabel A.5
A9: NO. | B9: U R A I A N | C9: PERMINTAAN PENYALURAN TAHAP III | G9: KET
C10: ALOKASI ANGGARAN (Rp.) | D10: REALISASI ANGGARAN (Rp.) | E10: PROSENTASE REALISASI ANGGARAN (%) | F10: CAPAIAN OUTPUT (%)
A11: (1) | B11: (2) | C11: (3) | D11: (4) | E11: (5) | F11: (6) | G11: (7)
A13: A | B13: PROVINSI | C13: =+C14+C83+C97+C105+C110+C114+C125+C137+C145+C151+C155+C159+C172+C178+C185+C189+C193+C197+C215+C219 -> 707425763694 | D13: =+D14+D83+D97+D110+D114+D125+D137+D145+D151+D155+D159+D172+D178+D185+D189+D193+D197+D215+D105+D219 -> 668079893327 | E13: =+D13/C13*100 -> 94.438163 | F13: =+E13 -> 94.438163
B14: Dinas Pendidikan | C14: =+C15+C27+C24+C32+C41+C58+C61+C69 -> 113863368526 | D14: =+D15+D24+D27+D32+D41+D58+D61+D69 -> 78004968264 | E14: =+D14/C14*100 -> 68.507519 | F14: =+E14 -> 68.507519
B15: Program Pendidikan Menengah Atas | C15: 7770200000 | D15: =SUM(D16:D23) -> 6916445112 | E15: =+D15/C15*100 -> 89.012446 | F15: =+E15 -> 89.012446
B16: Penerapan dan Pelatihan MBS SMA | C16: 704000000 | D16: 704000000 | E16: =+D16/C16*100 -> 100 | F16: =+E16 -> 100
B17: Lomba Debat Bahasa Inggris dan bahasa Indonesia | C17: 724300000 | D17: 724285400 | E17: =+D17/C17*100 -> 99.997984 | F17: =+E17 -> 99.997984
B18: Pengembangan Materi Belajar Mengajar Menggunakan Teknologi Informasi dan Komunikasi | C18: 705250000 | E18: =+D18/C18*100 -> 0 | F18: =+E18 -> 0
B19: Lomba Kompetensi Siswa SMA Tingkat Prov dan Tk.Nasional | C19: 3209750000 | D19: 3061259712 | E19: =+D19/C19*100 -> 95.373774 | F19: =+E19 -> 95.373774
B20: TOT Guru BIdang Studi SMA | C20: 700400000 | D20: 700400000 | E20: =+D20/C20*100 -> 100 | F20: =+E20 -> 100
B21: Penyelenggaraan akreditasi sekolah menengah | C21: 767000000 | D21: 767000000 | E21: =+D21/C21*100 -> 100 | F21: =+E21 -> 100
B22: Pelatihan Kepala Tata Usaha Sekolah SMA | C22: 559500000 | D22: 559500000 | E22: =+D22/C22*100 -> 100 | F22: =+E22 -> 100
B23: Penyusunan Road Map SMA | C23: 400000000 | D23: 400000000 | E23: =+D23/C23*100 -> 100 | F23: =+E23 -> 100
B24: Program Pendidikan Non Formal | C24: 656600000 | D24: =+D25+D26 -> 656600000 | E24: =+D24/C24*100 -> 100 | F24: =+E24 -> 100
B25: Rapat Koordinasi Tim Pengendali Percepatan Tuntas Buta Aksara Provinsi | C25: 656600000 | D25: 656600000 | E25: =+D25/C25*100 -> 100 | F25: =+E25 -> 100
B26: Pembekalan KKN Tematik Percepatan Tuntas Buta Aksara di PKBM | C26: 0 | F26: =+E26 -> 0
B27: Program Pendidikan Luar Biasa | C27: 1356000000 | D27: =SUM(D28:D31) -> 1333677378 | E27: =+D27/C27*100 -> 98.353789 | F27: =+E27 -> 98.353789
B28: Pelatihan kompetensi tenaga pendidik | C28: 500000000 | D28: 488080378 | E28: =+D28/C28*100 -> 97.616076 | F28: =+E28 -> 97.616076
B29: Pelatihan penyusunan kurikulum | C29: 200000000 | D29: 200000000 | E29: =+D29/C29*100 -> 100 | F29: =+E29 -> 100
B30: Pengawasan penyelenggaraan pendidikan | C30: 156000000 | D30: 154875000 | E30: =+D30/C30*100 -> 99.278846 | F30: =+E30 -> 99.278846
B31: Pembinaan minat, bakat dan kreativitas siswa | C31: 500000000 | D31: 490722000 | E31: =+D31/C31*100 -> 98.1444 | F31: =+E31 -> 98.1444
B32: Program Peningkatan Mutu Pendidik dan Tenaga Kependidikan | C32: =+C33+C34+C35+C36+C37+C38+C39+C40 -> 14368211250 | D32: =SUM(D33:D40) -> 13931503804 | E32: =+D32/C32*100 -> 96.9606 | F32: =+E32 -> 96.9606
B33: Pelaksanaan sertifikasi pendidik | C33: 2000000000 | D33: 2000000000 | E33: =+D33/C33*100 -> 100 | F33: =+E33 -> 100
B34: Pelaksanaan uji kompetensi pendidik dan tenaga kependidikan | C34: 2000000000 | D34: 1939630900 | E34: =+D34/C34*100 -> 96.981545 | F34: =+E34 -> 96.981545
B35: Pembinaan kelompok kerja guru (MGMP dan MKKS) | C35: 1000000000 | D35: 1000000000 | E35: =+D35/C35*100 -> 100 | F35: =+E35 -> 100
B36: Seleksi dan Pembekalan Guru, Kepsek SMA/SMK/PKLK Berprestasi dan Berdedikasi | C36: 2000000000 | D36: 1831301400 | E36: =+D36/C36*100 -> 91.56507 | F36: =+E36 -> 91.56507
B37: SERTIFIKASI GURU DAN PROGRAM KEAHLIAN SMK | C37: 3000000000 | D37: 2999432300 | E37: =+D37/C37*100 -> 99.981077 | F37: =+E37 -> 99.981077
B38: Seleksi dan Pengiriman Mahasiswa Calon Guru Produktif SMK | C38: 840000000 | D38: 838519200 | E38: =+D38/C38*100 -> 99.823714 | F38: =+E38 -> 99.823714
B39: Magang Guru Produktif SMK | C39: 1728211250 | D39: 1567990528 | E39: =+D39/C39*100 -> 90.729101 | F39: =+E39 -> 90.729101
B40: Pelatihan Kompetensi Pendidik Tenaga Kependidikan SMA/SMK/PKLK(Laboratorium, Pustakawan, Arsiparis dan Pengawas Sekolah | C40: 1800000000 | D40: 1754629476 | E40: =+D40/C40*100 -> 97.479415 | F40: =+E40 -> 97.479415
B41: Program Manajemen Pelayanan Pendidikan | C41: =SUM(C42:C57) -> 49725688750 | D41: =SUM(D42:D57) -> 16989567218 | E41: =+D41/C41*100 -> 34.16658 | F41: =+E41 -> 34.16658
B42: Penerapan sistem dan informasi manajemen pendidikan | C42: 1334920000 | D42: 1222723000 | E42: =+D42/C42*100 -> 91.595227 | F42: =+E42 -> 91.595227
B43: Pelaksanaan Rapat Kerja Teknis | C43: 1806390000 | D43: 1755764700 | E43: =+D43/C43*100 -> 97.197432 | F43: =+E43 -> 97.197432
B44: Pelaksanaan Ujian Nasional dan Ujian Sekolah | C44: 5693390000 | D44: 5436869058 | E44: =+D44/C44*100 -> 95.494408 | F44: =+E44 -> 95.494408
...

Sheet A.7
B3: REKAPITULASI ALOKASI DAN REALISASI PENGGUNAAN DANA OTONOMI KHUSUS UNTUK KESEHATAN
B4: DIURAIKAN BERDASARKAN, ORGANISASI, PROGRAM/KEGIATAN PROVINSI DAN KABUPATEN/KOTA
B5: TAHUN ANGGARAN 2018
B7: PROVINSI : PAPUA
B8: =+A.3!C8 -> PENERIMAAN : Rp5.620.854.115.000 | H8: Tabel A.7
B10: NO. | C10: U R A I A N | D10: PERMINTAAN PENYALURAN TAHAP III | H10: KET
D11: ALOKASI ANGGARAN (Rp.) | E11: REALISASI ANGGARAN (Rp.) | F11: PROSENTASE REALISASI ANGGARAN (%) | G11: CAPAIAN OUTPUT (%)
B12: (1) | C12: (2) | D12: (3) | E12: (4) | F12: (5) | G12: (6) | H12: (7)
B14: A | C14: PROVINSI | D14: =+D15+D92+D112+D127 -> 161500000000 | E14: =+E15+E92+E112+E127 -> 1.4547337e+11 | F14: =+E14/D14*100 -> 90.076391 | G14: =(G15+G92+G112+G127)/5 -> 72.9881
C15: Dinas Kesehatan | D15: =+D16+D18+D21+D31+D33+D40+D42+D44+D47+D59+D61+D63+D67+D78+D82+D86+D88 -> 61500000000 | E15: =+E16+E18+E21+E31+E33+E40+E44+E42+E47+E59+E61+E63+E67+E78+E82+E86 -> 49746587743 | F15: =+E15/D15*100 -> 80.888761 | G15: =+F15 -> 80.888761
C16: Program peningkatan sarana dan prasarana aparatur | D16: 20547000000 | E16: =+E17 -> 14318810000 | F16: =E16/D16*100 -> 69.688081 | G16: =+F16 -> 69.688081
C17: Pembangunan gedung kantor | D17: 20547000000 | E17: 14318810000 | F17: =+E17/D17*100 -> 69.688081 | G17: =+F17 -> 69.688081
C18: Program peningkatan kapasitas sumber daya aparatur | D18: 1820500000 | E18: =+E19+E20 -> 1510173306 | F18: =+E18/D18*100 -> 82.953766 | G18: =+F18 -> 82.953766
C19: Pendidikan dan pelatihan formal | D19: 866000000 | E19: 578154400 | F19: =+E19/D19*100 -> 66.761478 | G19: =+F19 -> 66.761478
C20: Pendidikan dan Pelatihan Non Formal | D20: 954500000 | E20: 932018906 | F20: =+E20/D20*100 -> 97.644726 | G20: =+F20 -> 97.644726
C21: Program Obat dan Perbekalan Kesehatan | D21: 4057932507 | E21: =SUM(E22:E30) -> 3584707072 | F21: =+E21/D21*100 -> 88.338263 | G21: =+F21 -> 88.338263
C22: Peningkatan mutu pelayanan farmasi komunitas dan rumah sakit | D22: 459645000 | E22: 394949340 | F22: =+E22/D22*100 -> 85.924864 | G22: =+F22 -> 85.924864
C23: Monitoring pemanfaatan buffer stock di GFK/RS/PKM dan pos obat kampung serta evaluasi hasil magang tenaga GF kab/kota | D23: 360750000 | E23: 258392400 | F23: =+E23/D23*100 -> 71.626445 | G23: =+F23 -> 71.626445
C24: Pengadaan obat buffer stock provinsi | D24: 1476262880 | E24: 1370512945 | F24: =+E24/D24*100 -> 92.836646 | G24: =+F24 -> 92.836646
C25: Pengadaan obat-obatan untuk program HIV/AIDS | D25: 410243320 | E25: 395177943 | F25: =+E25/D25*100 -> 96.327697 | G25: =+F25 -> 96.327697
C26: Pengadaan Obat-obatan Program P2M | D26: 424473600 | E26: 260892604 | F26: =+E26/D26*100 -> 61.462622 | G26: =+F26 -> 61.462622
C27: Pengadaan logistik Non Oat Provinsi Papua | D27: 417915000 | E27: 414190000 | F27: =+E27/D27*100 -> 99.10867 | G27: =+F27 -> 99.10867
C28: Pengadaan reagen IMS Provinsi Papua | D28: 107112000 | E28: 107082460 | F28: =+E28/D28*100 -> 99.972421 | G28: =+F28 -> 99.972421
C29: Pengelolaan Perbekalan Farmasi/Gudang Obat Buffer Stock Provinsi | D29: 158600000 | E29: 150744500 | F29: =+E29/D29*100 -> 95.046974 | G29: =+F29 -> 95.046974
C30: Pembekalan Penanggung Jawab Sarana Distribusi Obat (PBF) Tingkat Provinsi | D30: 242930707 | E30: 232764880 | F30: =+E30/D30*100 -> 95.815339 | G30: =+F30 -> 95.815339
C31: Program Upaya Kesehatan Masyarakat | D31: 433166000 | E31: =+E32 -> 325331040 | F31: =+E31/D31*100 -> 75.105396 | G31: =+F31 -> 75.105396
C32: Pembinaan Akreditasi Puskesmas | D32: 433166000 | E32: 325331040 | F32: =+E32/D32*100 -> 75.105396 | G32: =+F32 -> 75.105396
C33: Program Pengembangan Obat Asli Indonesia | D33: 479658326 | E33: =SUM(E34:E39) -> 341920000 | F33: =+E33/D33*100 -> 71.284075 | G33: =+F33 -> 71.284075
C34: Workshop Obat Tradisional Berbasis Wilayah Adat | D34: 125000000 | E34: 122391500 | F34: =+E34/D34*100 -> 97.9132 | G34: =+F34 -> 97.9132
C35: Pertemuan data jaringan informasi dan dokumentasi SP3T | D35: 102600000 | E35: 83096000 | F35: =+E35/D35*100 -> 80.990253 | G35: =+F35 -> 80.990253
C36: RAPAT RUTIN SP3T | D36: 69533326 | E36: 42032500 | F36: =+E36/D36*100 -> 60.449431 | G36: =+F36 -> 60.449431
C37: ADMINISTRASI KEGIATAN SP3T | D37: 59400000 | E37: 59400000 | F37: =+E37/D37*100 -> 100 | G37: =+F37 -> 100
C38: BIMTEK YANKES TRADKOM INTEGRASI DI FKTP DAN FKTL | D38: 84500000 | E38: 0 | F38: =+E38/D38*100 -> 0 | G38: =+F38 -> 0
C39: VERIFIKASI DOKUMEN DAN PENILAIAN KE LAPANGAN PENILAIAN PEMANFAATAN TOGA | D39: 38625000 | E39: 35000000 | F39: =+E39/D39*100 -> 90.614887 | G39: =+F39 -> 90.614887
C40: Program Promosi Kesehatan dan Pemberdayaan masyarakat | D40: 402397000 | E40: =SUM(E41) -> 256528300 | F40: =+E40/D40*100 -> 63.750053 | G40: =+F40 -> 63.750053
C41: Pengembangan media promosi dan informasi sadar hidup sehat | D41: 402397000 | E41: 256528300 | F41: =+E41/D41*100 -> 63.750053 | G41: =+F41 -> 63.750053
C42: Program Perbaikan Gizi Masyarakat | D42: 266030500 | E42: 0 | F42: =+E42/D42*100 -> 0 | G42: =+F42 -> 0
C43: Pertemuan pencatatan dan pelaporan program gizi | D43: 266030500 | E43: 0 | F43: =+E43/D43*100 -> 0 | G43: =+F43 -> 0
C44: Program Pengembangan Lingkungan Sehat | D44: 481025000 | E44: =+E45+E46 -> 210390980 | F44: =+E44/D44*100 -> 43.738055 | G44: =+F44 -> 43.738055
C45: Pengawasan Kualitas Air | D45: 377325000 | E45: 210390980 | F45: =+E45/D45*100 -> 55.758558 | G45: =+F45 -> 55.758558
...

Sheet A.9
B2: REKAPITULASI ALOKASI DAN REALISASI PENGGUNAAN DANA TAMBAHAN INFRASTRUKTUR
B3: DIURAIKAN BERDASARKAN, ORGANISASI, PROGRAM/KEGIATAN
B4: TAHUN ANGGARAN 2018
B6: PROVINSI : PAPUA
B7: PENERIMAAN : Rp 2.400.000.000.000 | H7: Tabel A.9
C8: PENERIMAAN : Rp 2.400.000.000.000
B9: NO. | C9: U R A I A N | D9: PERMINTAAN PENYALURAN TAHAP III | H9: KET
D10: ALOKASI ANGGARAN (Rp.) | E10: REALISASI ANGGARAN (Rp.) | F10: PROSENTASE REALISASI ANGGARAN (%) | G10: CAPAIAN OUTPUT (%)
B11: (1) | C11: (2) | D11: (3) | E11: (4) | F11: (5) | G11: (6) | H11: (7)
B13: A | C13: PROVINSI | D13: =+D14+D79+D91+D138+D149+D164+D185+D190 -> 2400000000000 | E13: =+E14+E79+E91+E138+E149+E164+E185+E190 -> 1.8620452e+12 | F13: =+E13/D13*100 -> 77.585217 | G13: =(G14+G65+G91+G121+G138+G164+G185+G190)/8 -> 74.78726
C14: Dinas Pekerjaan Umum dan Penataan Ruang | D14: =+D15+D34+D36+D38+D43+D50+D56+D58+D76 -> 991491242000 | E14: =+E15+E34+E36+E38+E43+E50+E56+E58+E60+E76 -> 6.6113031e+11 | F14: =+E14/D14*100 -> 66.680399 | G14: =+F14 -> 66.680399
C15: Program Pembangunan Jalan dan Jembatan | D15: =SUM(D16:D33) -> 628296659119 | E15: 4.2592523e+11 | F15: =+E15/D15*100 -> 67.790465 | G15: =+F15 -> 67.790465
C16: Pembangunan Ring Road Jayapura - Sentani (Lingkar Dalam), Jbt | D16: 181377691560 | E16: 1.2851389e+11 | F16: =+E16/D16*100 -> 70.854298 | G16: =+F16 -> 70.854298
C17: Pembangunan Jalan Enarotali (Paniai) - Sugapa, (139) (50 Km) | D17: 23000000000 | E17: 1.7353973e+10 | F17: =+E17/D17*100 -> 75.452057 | G17: =+F17 -> 75.452057
C18: Pembangunan Jalan Burmeso - Gesa - Barapasi (118), 194,60 Km | D18: 15000000000 | E18: 1.0918232e+10 | F18: =+E18/D18*100 -> 72.788211 | G18: =+F18 -> 72.788211
C19: Pembangunan Jalan Taja - SP V - Kwarja (106) | D19: 20000000000 | E19: 1.3567553e+10 | F19: =+E19/D19*100 -> 67.837767 | G19: =+F19 -> 67.837767
C20: Pembangunan Jembatan Holtekamp Jayapura (Landmark Papua) | D20: 201728613565 | E20: 190702099924 | F20: =+E20/D20*100 -> 94.533986 | G20: =+F20 -> 94.533986
C21: Pembangunan Jalan Keppi - Bade (181) | D21: 25000000000 | E21: 107536707 | F21: =+E21/D21*100 -> 0.43014683 | G21: =+F21 -> 0.43014683
C22: Pembangunan Jalan Karubaga - Wunim - Bokondini (154) | D22: 20000000000 | E22: 3.383397e+09 | F22: =+E22/D22*100 -> 16.916985 | G22: =+F22 -> 16.916985
C23: Pembangunan Jalan Elelim - Kobakma | D23: 45000000000 | E23: 1.958585e+10 | F23: =+E23/D23*100 -> 43.524112 | G23: =+F23 -> 43.524112
C24: Pembangunan Jembatan Kauga (60 M'') (Kaugapu - SP V) | D24: 17000000000 | E24: 109471756 | F24: =+E24/D24*100 -> 0.64395151 | G24: =+F24 -> 0.64395151
C25: Pembangunan Jembatan Sanoba (di ruas jalan Samabusa - Nabarua Bawah) | D25: 7322308440 | E25: 5.3881204e+09 | F25: =+E25/D25*100 -> 73.584997 | G25: =+F25 -> 73.584997
C26: Pembangunan Jembatan Kali Ubiyong (25 M'') (Arso XIV - Sawia - kwarja (114)) | D26: 1253337829 | E26: 48927644 | F26: =+E26/D26*100 -> 3.9037874 | G26: =+F26 -> 3.9037874
C27: Pembangunan Jembatan Pun (Bolakme - Kelila - Bokondini (167)) | D27: 15000000000 | E27: 116216307 | F27: =+E27/D27*100 -> 0.77477538 | G27: =+F27 -> 0.77477538
... C29: Pembebasan Lahan Jembatan Wosi | D29: 638625000 | E29: 38220000 | F29: =+E29/D29*100 -> 5.9847328 | G29: =+F29 -> 5.9847328
C30: Pembangunan Jalan SP II - Napan (138) 20,00 Km (KEWAJIBAN) | D30: 19944836877 | E30: 19944836877 | F30: =+E30/D30*100 -> 100 | G30: 100
C31: Pembangunan Jalan Tengon - Lereh (KEWAJIBAN) | D31: 4472600000 | E31: 4472600000 | F31: =+E31/D31*100 -> 100 | G31: 100
C32: Pembangunan Jalan Nume - Tiom (KEWAJIBAN) | D32: 9397766789 | E32: 9397766789 | F32: =+E32/D32*100 -> 100 | G32: =+F32 -> 100
C33: Pengadaan Rangka/Tiang Pancang Jembatan (KEWAJIBAN) | D33: 2160879059 | E33: 2160879059 | F33: =+E33/D33*100 -> 100 | G33: =+F33 -> 100
C34: Program rehabilitasi/pemeliharaan Jalan dan Jembatan | D34: 71554861654 | E34: 28849163695 | F34: =+E34/D34*100 -> 40.317545 | G34: =+F34 -> 40.317545
C35: Pemeliharaan Jalan dan Jembatan Provinsi Papua | D35: 71554861654 | E35: 28849163695 | F35: =+E35/D35*100 -> 40.317545 | G35: =+F35 -> 40.317545
C36: Program pengembangan dan pengelolaan jaringan irigasi, rawa dan jaringan pengairan lainnya | D36: =+D37 -> 5303324311 | E36: 23059316 | F36: =+E36/D36*100 -> 0.43480871 | G36: =+F36 -> 0.43480871
C37: Peningkatan Jaringan Irigasi DI. Lereh SP 5 | D37: 5303324311 | E37: 23059316 | F37: =+E37/D37*100 -> 0.43480871 | G37: =+F37 -> 0.43480871
C38: Program penyediaan dan pengolahan air baku | D38: =+D39+D40+D41+D42 -> 22070218847 | E38: 9469614903 | F38: =+E38/D38*100 -> 42.906756 | G38: =+F38 -> 42.906756
C39: Pembangunan Infrastruktur Air Bersih/Baku Kabupaten Tolikara | D39: 5550883874 | E39: 5004487968 | F39: =+E39/D39*100 -> 90.156596 | G39: =+F39 -> 90.156596
C40: Pembangunan Infrastruktur Air Bersih/Baku Kabupaten Yahukimo | D40: 5880939283 | E40: 60169687 | F40: =+E40/D40*100 -> 1.0231306 | G40: =+F40 -> 1.0231306
C41: Pembangunan Infrastruktur Air Bersih/Baku Kabupaten Nduga | D41: 5815618701 | E41: 75548437 | F41: =+E41/D41*100 -> 1.299061 | G41: =+F41 -> 1.299061
C42: Pembangunan Infrastruktur Air Bersih/Baku Kabupaten Lanny Jaya | D42: 4822776989 | E42: 4329408811 | F42: =+E42/D42*100 -> 89.77004 | G42: =+F42 -> 89.77004
C43: Program pengembangan kinerja pengelolaan air minum dan air limbah | D43: =+D44+D45+D46+D47+D48+D49 -> 62489904512 | E43: 2.1757891e+10 | F43: =+E43/D43*100 -> 34.818249 | G43: =+F43 -> 34.818249
C44: Pembangunan SPAM Kabupaten Jayawijaya | D44: 223869241 | E44: 61026350 | F44: =+E44/D44*100 -> 27.259819 | G44: =+F44 -> 27.259819
...

Sheet A.10 
B2: REKAPITULASI ALOKASI DAN REALISASI PENGGUNAAN DANA TAMBAHAN INFRASTRUKTUR
B3: DIURAIKAN BERDASARKAN, ORGANISASI, PROGRAM/KEGIATAN
B4: TAHUN ANGGARAN 2019
B6: PROVINSI : PAPUA
B7: PENERIMAAN : Rp 2.824.446.537.000 | M7: Tabel A.10
B9: NO. | C9: U R A I A N | D9: PERMINTAAN PENYALURAN TAHAP I | G9: PERMINTAAN PENYALURAN TAHAP II | K9: PERMINTAAN PENYALURAN TAHAP III | O9: KET
D10: ALOKASI ANGGARAN (Rp.) | F10: PROSENTASE ALOKASI ANGGARAN (%) | G10: ALOKASI ANGGARAN (Rp.) | H10: REALISASI ANGGARAN (Rp.) | I10: PROSENTASE REALISASI ANGGARAN (%) | J10: CAPAIAN OUTPUT (%) | K10: ALOKASI ANGGARAN (Rp.) | L10: REALISASI ANGGARAN (Rp.) | M10: PROSENTASE REALISASI ANGGARAN (%) | N10: CAPAIAN OUTPUT (%)
B11: (1) | C11: (2) | D11: (3) | F11: (4) | G11: (5) | H11: (6) | I11: (7) | J11: (8) | K11: (9) | L11: (10) | M11: (11) | N11: (12) | O11: (13)
B13: A | C13: PROVINSI | D13: =+D14+D84+D119+D130+D145+D149 -> 2824446537000 | E13: 2824446537000 | F13: =D13/E13*100 -> 100
C14: Dinas Pekerjaan Umum | D14: =+D15+D24+D26+D28+D31+D33+D38+D46+D55+D67+D70 -> 1724446537000 | E14: 2824446537000 | F14: =D14/E14*100 -> 61.054317
C15: Program Pembangunan Jalan dan Jembatan | D15: 484292816495 | E15: 2824446537000 | F15: =D15/E15*100 -> 17.146468
C16: Pembangunan Jalan Burmeso - Gesa - Barapasi (118), 194,60 Km | D16: 40000000000 | E16: 2824446537000 | F16: =D16/E16*100 -> 1.4162067
C17: Pembangunan Jalan Burmeso - Sikari (119) | D17: 20000000000 | E17: 2824446537000 | F17: =D17/E17*100 -> 0.70810333
C18: Pembangunan Jalan Keppi - Bade (181) | D18: 21650000000 | E18: 2824446537000 | F18: =D18/E18*100 -> 0.76652186
C19: Pembangunan Jalan Nume - Tiom | D19: 40000000000 | E19: 2824446537000 | F19: =D19/E19*100 -> 1.4162067
C20: Pembangunan Jalan Mamit -Umagi | D20: 35000000000 | E20: 2824446537000 | F20: =D20/E20*100 -> 1.2391808
C21: Pembangunan Jalan Arso XIV (Keerom) - Sawia - Kwarja (114) 60 Km | D21: 20000000000 | E21: 2824446537000 | F21: =D21/E21*100 -> 0.70810333
C22: Pembangunan Jembatan Liba Kampung Harapan Dalam (PON XX) | D22: 19957628000 | E22: 2824446537000 | F22: =D22/E22*100 -> 0.70660314
C23: Pembangunan Jalan dan Jembatan Prov Papua | D23: 287685188495 | E23: 2824446537000 | F23: =D23/E23*100 -> 10.185542
C24: Program Pembangunan saluran drainase/gorong-gorong | D24: 46367296000 | E24: 2824446537000 | F24: =D24/E24*100 -> 1.6416418
C25: Pembangunan Drainase di Provinsi Papua | D25: 46367296000 | E25: 2824446537000 | F25: =D25/E25*100 -> 1.6416418
C26: Program Pembangunan turap/talud/brojong | D26: 40998900000 | E26: 2824446537000 | F26: =D26/E26*100 -> 1.4515729
... C82: Persiapan Akreditaasi Laboratorium | D82: 400000000 | E82: 2824446537000 | F82: =D82/E82*100 -> 0.014162067
E83: 2824446537000 | F83: =D83/E83*100 -> 0
C84: Dinas Perhubungan | D84: =+D85+D89+D91+D93+D107+D116 -> 100000000000 | E84: 2824446537000 | F84: =D84/E84*100 -> 3.5405167
C85: Program Pembangunan Prasarana dan Fasilitas Perhubungan | D85: 3794250000 | E85: 2824446537000 | F85: =D85/E85*100 -> 0.13433605
C86: Penyusunan RTT Sisi Udara dan Sisi Darat Pembangunan Bandar Udara Fawi di Kabupaten Puncak Jaya | D86: 1690500000 | E86: 2824446537000 | F86: =D86/E86*100 -> 0.059852434
C87: Studi Pemilihan Lokasi dan Kelayakan Pelabuhan Perintis | D87: 894250000 | E87: 2824446537000 | F87: =D87/E87*100 -> 0.03166107
C88: Penyusunan Masterplan Angkutan Penunjang PON | D88: 1209500000 | E88: 2824446537000 | F88: =D88/E88*100 -> 0.042822549
C89: Program Rehabilitasi dan Pemeliharaan Prasarana dan Fasilitas LLAJ | D89: 515000000 | E89: 2824446537000 | F89: =D89/E89*100 -> 0.018233661
C90: Rehabilitasi/Pemeliharaan Lampu APILL | D90: 515000000 | E90: 2824446537000 | F90: =D90/E90*100 -> 0.018233661
C91: Program peningkatan pelayanan angkutan | D91: 5263500000 | E91: 2824446537000 | F91: =D91/E91*100 -> 0.18635509
C92: Pengadaan Angkutan Umum | D92: 5263500000 | E92: 2824446537000 | F92: =D92/E92*100 -> 0.18635509
C93: Program Pembangunan Sarana dan Prasarana Perhubungan | D93: 75944600000 | E93: 2824446537000 | F93: =D93/E93*100 -> 2.6888312
C94: Pembangunan Pelabuhan Laut Waren di Kabupaten Waropen | D94: 4402200000 | E94: 2824446537000 | F94: =D94/E94*100 -> 0.15586062
C95: Pembangunan Bandar Udara Botawa di Kabupaten Waropen | D95: 4044350000 | E95: 2824446537000 | F95: =D95/E95*100 -> 0.14319089
C96: Pembangunan Bandar Udara Mamit di Kabupaten Tolikara | D96: 10617500000 | E96: 2824446537000 | F96: =D96/E96*100 -> 0.37591436
... C117: Penyusunan PEP RAD-GRK dan Inventarisasi Emisi GRK sektor Transportasi | D117: 234400000 | E117: 2824446537000 | F117: =D117/E117*100 -> 0.008298971
E118: 2824446537000 | F118: =D118/E118*100 -> 0
C119: Dinas Komunikasi dan Informatika | D119: =+D120+D124 -> 47000000000 | E119: 2824446537000 | F119: =D119/E119*100 -> 1.6640428
...

Sheet Sheet1
C2: PROVINSI PAPUA
C3: KABUPATEN/KOTA
C4: 1. KABUPATEN MERAUKE
C5: 2. KABUPATEN JAYAWIJAYA
C6: 3. KABUPATEN JAYAPURA
C7: 4. KABUPATEN NABIRE | H7: 1557405258400
C8: 5. KABUPATEN KEP. YAPEN | H8: 389351314600
C9: 6. KABUPATEN BIAK NUMFOR | H9: =SUM(H7:H8) -> 1946756573000
C10: 7. KABUPATEN PANIAI
C11: 8. KABUPATEN PUNCAK JAYA
C12: 9. KABUPATEN MIMIKA
C13: 10. KABUPATEN BOVEN DIGOEL
C14: 11. KABUPATEN MAPPI
C15: 12. KABUPATEN ASMAT
C16: 13. KABUPATEN YAHUKIMO
C17: 14. KABUPATEN PEG. BINTANG
C18: 15. KABUPATEN TOLIKARA
C19: 16. KABUPATEN SARMI
C20: 17. KABUPATEN KEEROM
C21: 18. KABUPATEN WAROPEN
... C32: 29. KOTA JAYAPURA
G41: Belanja Urusan Bersama HITUNG ULANG PERGUB | H41: =+H42+H43+H44+H45+H46+H47+H48+H49+H50 -> 3869954897490
G42: Pendidikan (Bea Siswa Unggulan Papua dan Pendidikan Lainnya | H42: 510880370590
G43: KPS dan Rs | H43: 724991000000
G44: Ekonomi | H44: 60229000000
G45: Perumahan dan Fasilitasm Umum | H45: 100844000000
G46: Bangga Papua | H46: 163303000000
G47: Keagamaan | H47: 70200000000
G48: Pengalihan Kewenangan | H48: 915606526900
G49: PON XX | H49: 1059901000000
G50: Perencanaan dan Kelmbagaan Khusus | H50: 264000000000 | I50: =SUM(H42:H50) -> 3869954897490
G51: TOTAl UB | H51: =SUM(H42:H50) -> 3869954897490
G53: Kab/kota 80 % | H53: 1557405258400
G54: provinsi 20 % | H54: 389351314600
G55: TOTAL | H55: 1946756573000 | I55: =+H55+I50 -> 5816711470490
G57: pergub urusan bersama DI PERGUB | H57: 3861473585000 | I57: =+I55-H61 -> 8481312490
H58: =+H51-H57 -> 8481312490
G60: HITUNG ULANG DI PERGUB | H60: =+H51+H55 -> 5816711470490
G61: PAGU PERDA APBD | H61: 5808230158000
G62: SELISIH ANTARA PERGUB DAN PERDA | H62: =+H60-H61 -> 8481312490
