Workbook

Sheet OPINI Total
A1: PERKEMBANGAN DATA OPINI LKPD
A2: POSISI PER 27 AGUSTUS 2020 JAM 09.42
A3: NO | B3: TAHUN | C3: WTP | D3: WDP | E3: TW | F3: TMP | G3: JUMLAH
A4: 1 | B4: LKPD 2005 | C4: 17 | D4: 311 | E4: 13 | F4: 22 | G4: =C4+D4+E4+F4 -> 363
A5: 2 | B5: LKPD 2006 | C5: 4 | D5: 325 | E5: 27 | F5: 106 | G5: =C5+D5+E5+F5 -> 462
A6: 3 | B6: LKPD 2007 | C6: 4 | D6: 282 | E6: 58 | F6: 120 | G6: =C6+D6+E6+F6 -> 464
A7: 4 | B7: LKPD 2008 | C7: 13 | D7: 323 | E7: 31 | F7: 118 | G7: =C7+D7+E7+F7 -> 485
A8: 5 | B8: LKPD 2009 | C8: ='OPINI Rinci v1'!BF618 -> 15 | D8: ='OPINI Rinci v1'!BG618 -> 330 | E8: ='OPINI Rinci v1'!BH618 -> 48 | F8: ='OPINI Rinci v1'!BI618 -> 111 | G8: =C8+D8+E8+F8 -> 504
A9: 6 | B9: LKPD 2010 | C9: ='OPINI Rinci v1'!BA618 -> 34 | D9: ='OPINI Rinci v1'!BB618 -> 341 | E9: ='OPINI Rinci v1'!BC618 -> 26 | F9: ='OPINI Rinci v1'!BD618 -> 121 | G9: =C9+D9+E9+F9 -> 522 | I9: =G9/524 -> 0.99618321
A10: 7 | B10: LKPD 2011 | C10: ='OPINI Rinci v1'!AV618 -> 67 | D10: ='OPINI Rinci v1'!AW618 -> 352 | E10: ='OPINI Rinci v1'!AX618 -> 7 | F10: ='OPINI Rinci v1'!AY618 -> 98 | G10: =C10+D10+E10+F10 -> 524 | I10: =G10/524 -> 1 | K10: WTP +WDP / Total terbit | L10: WTP +WDP/524 | M10: WTP +WDP/542 | N10: WTP/524 | O10: WTP/542
A11: 8 | B11: LKPD 2012 | C11: ='OPINI Rinci v1'!AQ618 -> 119 | D11: ='OPINI Rinci v1'!AR618 -> 320 | E11: ='OPINI Rinci v1'!AS618 -> 6 | F11: ='OPINI Rinci v1'!AT618 -> 79 | G11: =C11+D11+E11+F11 -> 524 | I11: =G11/524 -> 1
A12: 9 | B12: LKPD 2013 | C12: ='OPINI Rinci v1'!AL618 -> 156 | D12: ='OPINI Rinci v1'!AM618 -> 311 | E12: ='OPINI Rinci v1'!AN618 -> 11 | F12: ='OPINI Rinci v1'!AO618 -> 46 | G12: =C12+D12+E12+F12 -> 524 | I12: =G12/542 -> 0.96678967 | K12: =(C12+D12)/G12 -> 0.89122137 | L12: =(C12+D12)/524 -> 0.89122137 | M12: =(C12+D12)/542 -> 0.86162362 | N12: =C12/524 -> 0.29770992 | O12: =C12/542 -> 0.28782288
A13: 10 | B13: LKPD 2014 | C13: ='OPINI Rinci v1'!AG618 -> 252 | D13: ='OPINI Rinci v1'!AH618 -> 248 | E13: ='OPINI Rinci v1'!AI618 -> 5 | F13: ='OPINI Rinci v1'!AJ618 -> 34 | G13: =C13+D13+E13+F13 -> 539 | I13: =G13/542 -> 0.99446494 | K13: =(C13+D13)/G13 -> 0.92764378 | L13: =(C13+D13)/524 -> 0.95419847 | M13: =(C13+D13)/542 -> 0.92250923 | N13: =C13/524 -> 0.48091603 | O13: =C13/542 -> 0.46494465
A14: 11 | B14: LKPD 2015 | C14: ='OPINI Rinci v1'!AB618 -> 313 | D14: ='OPINI Rinci v1'!AC618 -> 195 | E14: ='OPINI Rinci v1'!AD618 -> 4 | F14: ='OPINI Rinci v1'!AE618 -> 30 | G14: =C14+D14+E14+F14 -> 542
A15: 12 | B15: LKPD 2016 | C15: ='OPINI Rinci v1'!W618 -> 379 | D15: ='OPINI Rinci v1'!X618 -> 140 | E15: ='OPINI Rinci v1'!Y618 -> 0 | F15: ='OPINI Rinci v1'!Z618 -> 23 | G15: =C15+D15+E15+F15 -> 542
A16: 13 | B16: LKPD 2017 | C16: ='OPINI Rinci v1'!R618 -> 415 | D16: ='OPINI Rinci v1'!S618 -> 113 | E16: ='OPINI Rinci v1'!T618 -> 0 | F16: ='OPINI Rinci v1'!U618 -> 14 | G16: =C16+D16+E16+F16 -> 542
A17: 14 | B17: LKPD 2018 | C17: ='OPINI Rinci v1'!M618 -> 443 | D17: ='OPINI Rinci v1'!N618 -> 86 | E17: ='OPINI Rinci v1'!O618 -> 0 | F17: ='OPINI Rinci v1'!P618 -> 13 | G17: =SUM(C17:F17) -> 542
A18: 15 | B18: LKPD 2019 | C18: ='OPINI Rinci v1'!H618 -> 430 | D18: ='OPINI Rinci v1'!I618 -> 14 | E18: ='OPINI Rinci v1'!J618 -> 0 | F18: ='OPINI Rinci v1'!K618 -> 1 | G18: =SUM(C18:F18) -> 445
B21: PERSENTASE CAPAIAN BERDASARKAN LHP YANG TERBIT OPININYA
B23: TAHUN | C23: WTP | D23: WDP | E23: TW | F23: TMP | G23: JUMLAH
B24: LKPD 2010 | C24: =C9/G9 -> 0.0651341 | D24: =D9/G9 -> 0.6532567 | E24: =E9/G9 -> 0.049808429 | F24: =F9/G9 -> 0.23180077 | G24: =SUM(C24:F24) -> 1
B25: LKPD 2011 | C25: =C10/G10 -> 0.1278626 | D25: =D10/G10 -> 0.67175573 | E25: =E10/G10 -> 0.013358779 | F25: =F10/G10 -> 0.1870229 | G25: =SUM(C25:F25) -> 1
B26: LKPD 2012 | C26: =C11/G11 -> 0.22709924 | D26: =D11/G11 -> 0.61068702 | E26: =E11/G11 -> 0.011450382 | F26: =F11/G11 -> 0.15076336 | G26: =SUM(C26:F26) -> 1
B27: LKPD 2013 | C27: =C12/G12 -> 0.29770992 | D27: =D12/G12 -> 0.59351145 | E27: =E12/G12 -> 0.020992366 | F27: =F12/G12 -> 0.08778626 | G27: =SUM(C27:F27) -> 1
B28: LKPD 2014 | C28: =C13/G13 -> 0.46753247 | D28: =D13/G13 -> 0.46011132 | E28: =E13/G13 -> 0.0092764378 | F28: =F13/G13 -> 0.063079777 | G28: =SUM(C28:F28) -> 1
B29: LKPD 2015 | C29: =C14/G14 -> 0.57749077 | D29: =D14/G14 -> 0.3597786 | E29: =E14/G14 -> 0.0073800738 | F29: =F14/G14 -> 0.055350554 | G29: =SUM(C29:F29) -> 1 | J29: =C13-26 -> 226 | L29: =C13-26 -> 226
B30: LKPD 2016 | C30: =C15/G15 -> 0.69926199 | D30: =D15/G15 -> 0.25830258 | E30: =E15/G15 -> 0 | F30: =F15/G15 -> 0.042435424 | G30: =SUM(C30:F30) -> 1 | J30: =J29/4 -> 56.5
B31: LKPD 2017 | C31: =C16/G16 -> 0.76568266 | D31: =D16/G16 -> 0.20848708 | E31: =E16/G16 -> 0 | F31: =F16/G16 -> 0.025830258 | G31: =SUM(C31:F31) -> 1
B32: LKPD 2018 | C32: =C17/G17 -> 0.81734317 | D32: =D17/G17 -> 0.15867159 | E32: =E17/G17 -> 0 | F32: =F17/G17 -> 0.02398524 | G32: =SUM(C32:F32) -> 1
B33: LKPD 2019 | C33: =C18/G18 -> 0.96629213 | D33: =D18/G18 -> 0.031460674 | E33: =E18/G18 -> 0 | F33: =F18/G18 -> 0.002247191 | G33: =SUM(C33:F33) -> 1
C36: =32/34*100 -> 94.117647

Sheet OPINI PerProv
B1: RINCIAN OPINI HASIL AUDIT BPK ATAS LKPD
B2: PER WILAYAH PROVINSI
B3: ='OPINI Total'!A2 -> POSISI PER 27 AGUSTUS 2020 JAM 09.42
B5: No | C5: Perwakilan/Pemda | F5: JML PEMDA SD 2013 | G5: JML PEMDA SETELAH 2013 | H5: WTP | I5: WDP | J5: TW | K5: TMP | L5: JML | M5: WTP | N5: WDP | O5: TW | P5: TMP | Q5: JML | R5: WTP | S5: WDP | T5: TW | U5: TMP | V5: JML | W5: WTP | X5: WDP | Y5: TW | Z5: TMP | AA5: JML | AB5: WTP | AC5: WDP | AD5: TW | AE5: TMP | AF5: JML | AG5: WTP | AH5: WDP | AI5: TW | AJ5: TMP | AK5: JML | AL5: WTP | AM5: WDP | AN5: TW | AO5: TMP | AP5: JML | AQ5: WTP | AR5: WDP | AS5: TW | AT5: TMP | AU5: JML | AV5: SISA PEMDA | AW5: WTP | AX5: WDP | AY5: TW | AZ5: TMP | BA5: JML | BB5: SISA PEMDA | BC5: WTP | BD5: WDP | BE5: TW | BF5: TMP | BG5: JML | BH5: SISA PEMDA | BI5: WTP | BJ5: WDP | BK5: TW | BL5: TMP | BM5: JML | BN5: WTP | BO5: WDP | BP5: TW | BQ5: TMP | BR5: JML | BS5: WTP | BT5: WDP | BU5: TW | BV5: TMP | BW5: JML | BX5: WTP | BY5: WDP | BZ5: TW | CA5: TMP | CB5: JML | CC5: WTP | CD5: WDP | CE5: TW | CF5: TMP | CG5: JML
H6: 2019 | M6: 2018 | R6: 2017 | W6: 2016 | AB6: 2015 | AG6: 2014 | AL6: 2013 | AQ6: 2012 | AW6: 2011 | BC6: 2010 | BI6: 2009 | BN6: 2008 | BS6: 2007 | BX6: 2006 | CC6: 2005
B7: 01 | D7: PROV ACEH | F7: 24 | G7: 24 | H7: ='OPINI Rinci v1'!H8 -> 20 | I7: ='OPINI Rinci v1'!I8 -> 0 | J7: ='OPINI Rinci v1'!J8 -> 0 | K7: ='OPINI Rinci v1'!K8 -> 0 | L7: ='OPINI Rinci v1'!L8 -> 20 | M7: ='OPINI Rinci v1'!M8 -> 24 | N7: ='OPINI Rinci v1'!N8 -> 0 | O7: ='OPINI Rinci v1'!O8 -> 0 | ... AU7: ='OPINI Rinci v1'!AU8 -> 24 | AV7: =F7-AU7 -> 0 | AW7: ='OPINI Rinci v1'!AV8 -> 2 | AX7: ='OPINI Rinci v1'!AW8 -> 22 | AY7: ='OPINI Rinci v1'!AX8 -> 0 | AZ7: ='OPINI Rinci v1'!AY8 -> 0 | BA7: =SUM(AW7:AZ7) -> 24 | BB7: =F7-BA7 -> 0 | BC7: ='OPINI Rinci v1'!BA8 -> 5 | BD7: ='OPINI Rinci v1'!BB8 -> 17 | BE7: ='OPINI Rinci v1'!BC8 -> 1 | BF7: ='OPINI Rinci v1'!BD8 -> 1 | BG7: =SUM(BC7:BF7) -> 24 | BH7: =F7-BG7 -> 0 | BI7: ='OPINI Rinci v1'!BF8 -> 6 | BJ7: ='OPINI Rinci v1'!BG8 -> 15 | BK7: ='OPINI Rinci v1'!BH8 -> 1 | BL7: ='OPINI Rinci v1'!BI8 -> 2 | BM7: ='OPINI Rinci v1'!BJ8 -> 24 | BN7: ='OPINI Rinci v1'!BK8 -> 7 | BO7: ='OPINI Rinci v1'!BL8 -> 15 | BP7: ='OPINI Rinci v1'!BM8 -> 1 | ... CG7: ='OPINI Rinci v1'!CD8 -> 18
B8: 02 | D8: PROV SUMUT | F8: 34 | G8: 34 | H8: ='OPINI Rinci v1'!H34 -> 19 | I8: ='OPINI Rinci v1'!I34 -> 4 | J8: ='OPINI Rinci v1'!J34 -> 0 | K8: ='OPINI Rinci v1'!K34 -> 0 | L8: =SUM(H8:K8) -> 23 | M8: ='OPINI Rinci v1'!M34 -> 17 | N8: ='OPINI Rinci v1'!N34 -> 14 | O8: ='OPINI Rinci v1'!O34 -> 0 | P8: ='OPINI Rinci v1'!P34 -> 3 | Q8: =SUM(M8:P8) -> 34 | R8: ='OPINI Rinci v1'!R34 -> 14 | S8: ='OPINI Rinci v1'!S34 -> 17 | T8: ='OPINI Rinci v1'!T34 -> 0 | U8: ='OPINI Rinci v1'!U34 -> 3 | V8: =SUM(R8:U8) -> 34 | W8: ='OPINI Rinci v1'!W34 -> 12 | X8: ='OPINI Rinci v1'!X34 -> 17 | Y8: ='OPINI Rinci v1'!Y34 -> 0 | Z8: ='OPINI Rinci v1'!Z34 -> 5 | AA8: =SUM(W8:Z8) -> 34 | AB8: ='OPINI Rinci v1'!AB34 -> 6 | AC8: ='OPINI Rinci v1'!AC34 -> 25 | AD8: ='OPINI Rinci v1'!AD34 -> 0 | AE8: ='OPINI Rinci v1'!AE34 -> 3 | AF8: =SUM(AB8:AE8) -> 34 | AG8: ='OPINI Rinci v1'!AG34 -> 16 | AH8: ='OPINI Rinci v1'!AH34 -> 15 | AI8: ='OPINI Rinci v1'!AI34 -> 0 | AJ8: ='OPINI Rinci v1'!AJ34 -> 3 | AK8: =SUM(AG8:AJ8) -> 34 | AL8: ='OPINI Rinci v1'!AL34 -> 4 | AM8: ='OPINI Rinci v1'!AM34 -> 22 | AN8: ='OPINI Rinci v1'!AN34 -> 0 | AO8: ='OPINI Rinci v1'!AO34 -> 8 | AP8: =SUM(AL8:AO8) -> 34 | AQ8: ='OPINI Rinci v1'!AQ34 -> 2 | AR8: ='OPINI Rinci v1'!AR34 -> 23 | AS8: ='OPINI Rinci v1'!AS34 -> 1 | AT8: ='OPINI Rinci v1'!AT34 -> 8 | AU8: =SUM(AQ8:AT8) -> 34 | AV8: =F8-AU8 -> 0 | AW8: ='OPINI Rinci v1'!AV34 -> 3 | AX8: ='OPINI Rinci v1'!AW34 -> 22 | AY8: ='OPINI Rinci v1'!AX34 -> 0 | AZ8: ='OPINI Rinci v1'!AY34 -> 9 | BA8: =SUM(AW8:AZ8) -> 34 | BB8: =F8-BA8 -> 0 | BC8: ='OPINI Rinci v1'!BA34 -> 0 | BD8: ='OPINI Rinci v1'!BB34 -> 21 | BE8: ='OPINI Rinci v1'!BC34 -> 2 | BF8: ='OPINI Rinci v1'!BD34 -> 11 | BG8: =SUM(BC8:BF8) -> 34 | BH8: =F8-BG8 -> 0 | BI8: ='OPINI Rinci v1'!BF34 -> 0 | BJ8: ='OPINI Rinci v1'!BG34 -> 18 | BK8: ='OPINI Rinci v1'!BH34 -> 2 | BL8: ='OPINI Rinci v1'!BI34 -> 9 | BM8: ='OPINI Rinci v1'!BJ34 -> 29 | BN8: ='OPINI Rinci v1'!BK34 -> 0 | BO8: ='OPINI Rinci v1'!BL34 -> 14 | BP8: ='OPINI Rinci v1'!BM34 -> 0 | ... CG8: ='OPINI Rinci v1'!CD34 -> 20
B9: 03 | D9: PROV SUMBAR | F9: 20 | G9: 20 | H9: ='OPINI Rinci v1'!H70 -> 18 | I9: ='OPINI Rinci v1'!I70 -> 0 | J9: ='OPINI Rinci v1'!J70 -> 0 | K9: ='OPINI Rinci v1'!K70 -> 0 | L9: =SUM(H9:K9) -> 18 | M9: ='OPINI Rinci v1'!M70 -> 19 | N9: ='OPINI Rinci v1'!N70 -> 1 | O9: ='OPINI Rinci v1'!O70 -> 0 | P9: ='OPINI Rinci v1'!P70 -> 0 | Q9: =SUM(M9:P9) -> 20 | R9: ='OPINI Rinci v1'!R70 -> 20 | S9: ='OPINI Rinci v1'!S70 -> 0 | T9: ='OPINI Rinci v1'!T70 -> 0 | U9: ='OPINI Rinci v1'!U70 -> 0 | V9: =SUM(R9:U9) -> 20 | W9: ='OPINI Rinci v1'!W70 -> 18 | X9: ='OPINI Rinci v1'!X70 -> 2 | Y9: ='OPINI Rinci v1'!Y70 -> 0 | Z9: ='OPINI Rinci v1'!Z70 -> 0 | AA9: =SUM(W9:Z9) -> 20 | AB9: ='OPINI Rinci v1'!AB70 -> 13 | AC9: ='OPINI Rinci v1'!AC70 -> 7 | AD9: ='OPINI Rinci v1'!AD70 -> 0 | AE9: ='OPINI Rinci v1'!AE70 -> 0 | AF9: =SUM(AB9:AE9) -> 20 | AG9: ='OPINI Rinci v1'!AG70 -> 9 | AH9: ='OPINI Rinci v1'!AH70 -> 11 | AI9: ='OPINI Rinci v1'!AI70 -> 0 | AJ9: ='OPINI Rinci v1'!AJ70 -> 0 | AK9: =SUM(AG9:AJ9) -> 20 | AL9: ='OPINI Rinci v1'!AL70 -> 7 | AM9: ='OPINI Rinci v1'!AM70 -> 13 | AN9: ='OPINI Rinci v1'!AN70 -> 0 | AO9: ='OPINI Rinci v1'!AO70 -> 0 | AP9: =SUM(AL9:AO9) -> 20 | AQ9: ='OPINI Rinci v1'!AQ70 -> 6 | AR9: ='OPINI Rinci v1'!AR70 -> 14 | AS9: ='OPINI Rinci v1'!AS70 -> 0 | AT9: ='OPINI Rinci v1'!AT70 -> 0 | AU9: =SUM(AQ9:AT9) -> 20 | AV9: =F9-AU9 -> 0 | AW9: ='OPINI Rinci v1'!AV70 -> 0 | AX9: ='OPINI Rinci v1'!AW70 -> 19 | AY9: ='OPINI Rinci v1'!AX70 -> 0 | AZ9: ='OPINI Rinci v1'!AY70 -> 1 | BA9: =SUM(AW9:AZ9) -> 20 | BB9: =F9-BA9 -> 0 | BC9: ='OPINI Rinci v1'!BA70 -> 0 | BD9: ='OPINI Rinci v1'!BB70 -> 18 | BE9: ='OPINI Rinci v1'!BC70 -> 0 | BF9: ='OPINI Rinci v1'!BD70 -> 2 | BG9: =SUM(BC9:BF9) -> 20 | BH9: =F9-BG9 -> 0 | BI9: ='OPINI Rinci v1'!BF70 -> 1 | BJ9: ='OPINI Rinci v1'!BG70 -> 16 | BK9: ='OPINI Rinci v1'!BH70 -> 0 | BL9: ='OPINI Rinci v1'!BI70 -> 3 | BM9: ='OPINI Rinci v1'!BJ70 -> 20 | BN9: ='OPINI Rinci v1'!BK70 -> 2 | BO9: ='OPINI Rinci v1'!BL70 -> 16 | BP9: ='OPINI Rinci v1'!BM70 -> 0 | ... CG9: ='OPINI Rinci v1'!CD70 -> 18
B10: 04 | D10: PROV RIAU | F10: 13 | G10: 13 | H10: ='OPINI Rinci v1'!H92 -> 10 | I10: ='OPINI Rinci v1'!I92 -> 0 | J10: ='OPINI Rinci v1'!J92 -> 0 | K10: ='OPINI Rinci v1'!K92 -> 0 | L10: =SUM(H10:K10) -> 10 | M10: ='OPINI Rinci v1'!M92 -> 13 | N10: ='OPINI Rinci v1'!N92 -> 0 | O10: ='OPINI Rinci v1'!O92 -> 0 | P10: ='OPINI Rinci v1'!P92 -> 0 | Q10: =SUM(M10:P10) -> 13 | R10: ='OPINI Rinci v1'!R92 -> 12 | S10: ='OPINI Rinci v1'!S92 -> 1 | T10: ='OPINI Rinci v1'!T92 -> 0 | U10: ='OPINI Rinci v1'!U92 -> 0 | V10: =SUM(R10:U10) -> 13 | W10: ='OPINI Rinci v1'!W92 -> 11 | X10: ='OPINI Rinci v1'!X92 -> 2 | Y10: ='OPINI Rinci v1'!Y92 -> 0 | Z10: ='OPINI Rinci v1'!Z92 -> 0 | AA10: =SUM(W10:Z10) -> 13 | AB10: ='OPINI Rinci v1'!AB92 -> 6 | AC10: ='OPINI Rinci v1'!AC92 -> 7 | AD10: ='OPINI Rinci v1'!AD92 -> 0 | AE10: ='OPINI Rinci v1'!AE92 -> 0 | AF10: =SUM(AB10:AE10) -> 13 | AG10: ='OPINI Rinci v1'!AG92 -> 7 | AH10: ='OPINI Rinci v1'!AH92 -> 6 | AI10: ='OPINI Rinci v1'!AI92 -> 0 | AJ10: ='OPINI Rinci v1'!AJ92 -> 0 | AK10: =SUM(AG10:AJ10) -> 13 | AL10: ='OPINI Rinci v1'!AL92 -> 7 | AM10: ='OPINI Rinci v1'!AM92 -> 6 | AN10: ='OPINI Rinci v1'!AN92 -> 0 | AO10: ='OPINI Rinci v1'!AO92 -> 0 | AP10: =SUM(AL10:AO10) -> 13 | AQ10: ='OPINI Rinci v1'!AQ92 -> 5 | AR10: ='OPINI Rinci v1'!AR92 -> 8 | AS10: ='OPINI Rinci v1'!AS92 -> 0 | AT10: ='OPINI Rinci v1'!AT92 -> 0 | AU10: =SUM(AQ10:AT10) -> 13 | AV10: =F10-AU10 -> 0 | AW10: ='OPINI Rinci v1'!AV92 -> 2 | AX10: ='OPINI Rinci v1'!AW92 -> 10 | AY10: ='OPINI Rinci v1'!AX92 -> 0 | AZ10: ='OPINI Rinci v1'!AY92 -> 1 | BA10: =SUM(AW10:AZ10) -> 13 | BB10: =F10-BA10 -> 0 | BC10: ='OPINI Rinci v1'!BA92 -> 1 | BD10: ='OPINI Rinci v1'!BB92 -> 11 | BE10: ='OPINI Rinci v1'!BC92 -> 1 | BF10: ='OPINI Rinci v1'!BD92 -> 0 | BG10: =SUM(BC10:BF10) -> 13 | BH10: =F10-BG10 -> 0 | BI10: ='OPINI Rinci v1'!BF92 -> 0 | BJ10: ='OPINI Rinci v1'!BG92 -> 11 | BK10: ='OPINI Rinci v1'!BH92 -> 0 | BL10: ='OPINI Rinci v1'!BI92 -> 1 | BM10: ='OPINI Rinci v1'!BJ92 -> 12 | BN10: ='OPINI Rinci v1'!BK92 -> 1 | BO10: ='OPINI Rinci v1'!BL92 -> 10 | BP10: ='OPINI Rinci v1'!BM92 -> 0 | ... CG10: ='OPINI Rinci v1'!CD92 -> 9
B11: 05 | D11: PROV KEP RIAU | F11: 8 | G11: 8 | H11: ='OPINI Rinci v1'!H107 -> 8 | I11: ='OPINI Rinci v1'!I107 -> 0 | J11: ='OPINI Rinci v1'!J107 -> 0 | K11: ='OPINI Rinci v1'!K107 -> 0 | L11: =SUM(H11:K11) -> 8 | M11: ='OPINI Rinci v1'!M107 -> 8 | N11: ='OPINI Rinci v1'!N107 -> 0 | O11: ='OPINI Rinci v1'!O107 -> 0 | P11: ='OPINI Rinci v1'!P107 -> 0 | Q11: =SUM(M11:P11) -> 8 | R11: ='OPINI Rinci v1'!R107 -> 8 | S11: ='OPINI Rinci v1'!S107 -> 0 | T11: ='OPINI Rinci v1'!T107 -> 0 | U11: ='OPINI Rinci v1'!U107 -> 0 | V11: =SUM(R11:U11) -> 8 | W11: ='OPINI Rinci v1'!W107 -> 5 | X11: ='OPINI Rinci v1'!X107 -> 3 | Y11: ='OPINI Rinci v1'!Y107 -> 0 | Z11: ='OPINI Rinci v1'!Z107 -> 0 | AA11: =SUM(W11:Z11) -> 8 | AB11: ='OPINI Rinci v1'!AB107 -> 6 | AC11: ='OPINI Rinci v1'!AC107 -> 2 | AD11: ='OPINI Rinci v1'!AD107 -> 0 | AE11: ='OPINI Rinci v1'!AE107 -> 0 | AF11: =SUM(AB11:AE11) -> 8 | AG11: ='OPINI Rinci v1'!AG107 -> 6 | AH11: ='OPINI Rinci v1'!AH107 -> 2 | AI11: ='OPINI Rinci v1'!AI107 -> 0 | AJ11: ='OPINI Rinci v1'!AJ107 -> 0 | AK11: =SUM(AG11:AJ11) -> 8 | AL11: ='OPINI Rinci v1'!AL107 -> 5 | AM11: ='OPINI Rinci v1'!AM107 -> 3 | AN11: ='OPINI Rinci v1'!AN107 -> 0 | AO11: ='OPINI Rinci v1'!AO107 -> 0 | AP11: =SUM(AL11:AO11) -> 8 | AQ11: ='OPINI Rinci v1'!AQ107 -> 5 | AR11: ='OPINI Rinci v1'!AR107 -> 3 | AS11: ='OPINI Rinci v1'!AS107 -> 0 | AT11: ='OPINI Rinci v1'!AT107 -> 0 | AU11: =SUM(AQ11:AT11) -> 8 | AV11: =F11-AU11 -> 0 | AW11: ='OPINI Rinci v1'!AV107 -> 2 | AX11: ='OPINI Rinci v1'!AW107 -> 6 | AY11: ='OPINI Rinci v1'!AX107 -> 0 | AZ11: ='OPINI Rinci v1'!AY107 -> 0 | BA11: =SUM(AW11:AZ11) -> 8 | BB11: =F11-BA11 -> 0 | BC11: ='OPINI Rinci v1'!BA107 -> 1 | BD11: ='OPINI Rinci v1'!BB107 -> 7 | BE11: ='OPINI Rinci v1'!BC107 -> 0 | BF11: ='OPINI Rinci v1'!BD107 -> 0 | BG11: =SUM(BC11:BF11) -> 8 | BH11: =F11-BG11 -> 0 | BI11: ='OPINI Rinci v1'!BF107 -> 0 | BJ11: ='OPINI Rinci v1'!BG107 -> 7 | BK11: ='OPINI Rinci v1'!BH107 -> 0 | BL11: ='OPINI Rinci v1'!BI107 -> 1 | BM11: ='OPINI Rinci v1'!BJ107 -> 8 | BN11: ='OPINI Rinci v1'!BK107 -> 0 | BO11: ='OPINI Rinci v1'!BL107 -> 7 | BP11: ='OPINI Rinci v1'!BM107 -> 0 | ... CG11: ='OPINI Rinci v1'!CD107 -> 5
B12: 06 | D12: PROV JAMBI | F12: 12 | G12: 12 | H12: ='OPINI Rinci v1'!H117 -> 12 | I12: ='OPINI Rinci v1'!I117 -> 0 | J12: ='OPINI Rinci v1'!J117 -> 0 | K12: ='OPINI Rinci v1'!K117 -> 0 | L12: =SUM(H12:K12) -> 12 | M12: ='OPINI Rinci v1'!M117 -> 12 | N12: ='OPINI Rinci v1'!N117 -> 0 | O12: ='OPINI Rinci v1'!O117 -> 0 | P12: ='OPINI Rinci v1'!P117 -> 0 | Q12: =SUM(M12:P12) -> 12 | R12: ='OPINI Rinci v1'!R117 -> 10 | S12: ='OPINI Rinci v1'!S117 -> 2 | T12: ='OPINI Rinci v1'!T117 -> 0 | U12: ='OPINI Rinci v1'!U117 -> 0 | V12: =SUM(R12:U12) -> 12 | W12: ='OPINI Rinci v1'!W117 -> 9 | X12: ='OPINI Rinci v1'!X117 -> 2 | Y12: ='OPINI Rinci v1'!Y117 -> 0 | Z12: ='OPINI Rinci v1'!Z117 -> 1 | AA12: =SUM(W12:Z12) -> 12 | AB12: ='OPINI Rinci v1'!AB117 -> 5 | AC12: ='OPINI Rinci v1'!AC117 -> 5 | AD12: ='OPINI Rinci v1'!AD117 -> 0 | AE12: ='OPINI Rinci v1'!AE117 -> 2 | AF12: =SUM(AB12:AE12) -> 12 | AG12: ='OPINI Rinci v1'!AG117 -> 3 | AH12: ='OPINI Rinci v1'!AH117 -> 9 | AI12: ='OPINI Rinci v1'!AI117 -> 0 | AJ12: ='OPINI Rinci v1'!AJ117 -> 0 | AK12: =SUM(AG12:AJ12) -> 12 | AL12: ='OPINI Rinci v1'!AL117 -> 4 | AM12: ='OPINI Rinci v1'!AM117 -> 8 | AN12: ='OPINI Rinci v1'!AN117 -> 0 | AO12: ='OPINI Rinci v1'!AO117 -> 0 | AP12: =SUM(AL12:AO12) -> 12 | AQ12: ='OPINI Rinci v1'!AQ117 -> 5 | AR12: ='OPINI Rinci v1'!AR117 -> 7 | AS12: ='OPINI Rinci v1'!AS117 -> 0 | AT12: ='OPINI Rinci v1'!AT117 -> 0 | AU12: =SUM(AQ12:AT12) -> 12 | AV12: =F12-AU12 -> 0 | AW12: ='OPINI Rinci v1'!AV117 -> 0 | AX12: ='OPINI Rinci v1'!AW117 -> 12 | AY12: ='OPINI Rinci v1'!AX117 -> 0 | AZ12: ='OPINI Rinci v1'!AY117 -> 0 | BA12: =SUM(AW12:AZ12) -> 12 | BB12: =F12-BA12 -> 0 | BC12: ='OPINI Rinci v1'!BA117 -> 0 | BD12: ='OPINI Rinci v1'!BB117 -> 12 | BE12: ='OPINI Rinci v1'!BC117 -> 0 | BF12: ='OPINI Rinci v1'!BD117 -> 0 | BG12: =SUM(BC12:BF12) -> 12 | BH12: =F12-BG12 -> 0 | BI12: ='OPINI Rinci v1'!BF117 -> 1 | BJ12: ='OPINI Rinci v1'!BG117 -> 10 | BK12: ='OPINI Rinci v1'!BH117 -> 0 | BL12: ='OPINI Rinci v1'!BI117 -> 1 | BM12: ='OPINI Rinci v1'!BJ117 -> 12 | BN12: ='OPINI Rinci v1'!BK117 -> 0 | BO12: ='OPINI Rinci v1'!BL117 -> 10 | BP12: ='OPINI Rinci v1'!BM117 -> 0 | ... CG12: ='OPINI Rinci v1'!CD117 -> 8
B13: 07 | D13: PROV SUMSEL | F13: 16 | G13: 18 | H13: ='OPINI Rinci v1'!H131 -> 14 | I13: ='OPINI Rinci v1'!I131 -> 0 | J13: ='OPINI Rinci v1'!J131 -> 0 | K13: ='OPINI Rinci v1'!K131 -> 0 | L13: =SUM(H13:K13) -> 14 | M13: ='OPINI Rinci v1'!M131 -> 18 | N13: ='OPINI Rinci v1'!N131 -> 0 | O13: ='OPINI Rinci v1'!O131 -> 0 | P13: ='OPINI Rinci v1'!P131 -> 0 | Q13: =SUM(M13:P13) -> 18 | R13: ='OPINI Rinci v1'!R131 -> 17 | S13: ='OPINI Rinci v1'!S131 -> 1 | T13: ='OPINI Rinci v1'!T131 -> 0 | U13: ='OPINI Rinci v1'!U131 -> 0 | V13: =SUM(R13:U13) -> 18 | W13: ='OPINI Rinci v1'!W131 -> 17 | X13: ='OPINI Rinci v1'!X131 -> 1 | Y13: ='OPINI Rinci v1'!Y131 -> 0 | Z13: ='OPINI Rinci v1'!Z131 -> 0 | AA13: =SUM(W13:Z13) -> 18 | AB13: ='OPINI Rinci v1'!AB131 -> 13 | AC13: ='OPINI Rinci v1'!AC131 -> 5 | AD13: ='OPINI Rinci v1'!AD131 -> 0 | AE13: ='OPINI Rinci v1'!AE131 -> 0 | AF13: =SUM(AB13:AE13) -> 18 | AG13: ='OPINI Rinci v1'!AG131 -> 14 | AH13: ='OPINI Rinci v1'!AH131 -> 2 | AI13: ='OPINI Rinci v1'!AI131 -> 0 | AJ13: ='OPINI Rinci v1'!AJ131 -> 2 | AK13: =SUM(AG13:AJ13) -> 18 | AL13: ='OPINI Rinci v1'!AL131 -> 8 | AM13: ='OPINI Rinci v1'!AM131 -> 8 | AN13: ='OPINI Rinci v1'!AN131 -> 0 | AO13: ='OPINI Rinci v1'!AO131 -> 0 | AP13: =SUM(AL13:AO13) -> 16 | AQ13: ='OPINI Rinci v1'!AQ131 -> 5 | AR13: ='OPINI Rinci v1'!AR131 -> 10 | AS13: ='OPINI Rinci v1'!AS131 -> 0 | AT13: ='OPINI Rinci v1'!AT131 -> 1 | AU13: =SUM(AQ13:AT13) -> 16 | AV13: =F13-AU13 -> 0 | AW13: ='OPINI Rinci v1'!AV131 -> 4 | AX13: ='OPINI Rinci v1'!AW131 -> 12 | AY13: ='OPINI Rinci v1'!AX131 -> 0 | AZ13: ='OPINI Rinci v1'!AY131 -> 0 | BA13: =SUM(AW13:AZ13) -> 16 | BB13: =F13-BA13 -> 0 | BC13: ='OPINI Rinci v1'!BA131 -> 1 | BD13: ='OPINI Rinci v1'!BB131 -> 15 | BE13: ='OPINI Rinci v1'!BC131 -> 0 | BF13: ='OPINI Rinci v1'!BD131 -> 0 | BG13: =SUM(BC13:BF13) -> 16 | BH13: =F13-BG13 -> 0 | BI13: ='OPINI Rinci v1'!BF131 -> 0 | BJ13: ='OPINI Rinci v1'!BG131 -> 13 | BK13: ='OPINI Rinci v1'!BH131 -> 3 | BL13: ='OPINI Rinci v1'!BI131 -> 0 | BM13: ='OPINI Rinci v1'!BJ131 -> 16 | BN13: ='OPINI Rinci v1'!BK131 -> 0 | BO13: ='OPINI Rinci v1'!BL131 -> 15 | BP13: ='OPINI Rinci v1'!BM131 -> 0 | ... CG13: ='OPINI Rinci v1'!CD131 -> 15
B14: 08 | D14: PROV BABEL | F14: 8 | G14: 8 | H14: ='OPINI Rinci v1'!H151 -> 7 | I14: ='OPINI Rinci v1'!I151 -> 1 | J14: ='OPINI Rinci v1'!J151 -> 0 | K14: ='OPINI Rinci v1'!K151 -> 0 | L14: =SUM(H14:K14) -> 8 | M14: ='OPINI Rinci v1'!M151 -> 4 | N14: ='OPINI Rinci v1'!N151 -> 4 | O14: ='OPINI Rinci v1'!O151 -> 0 | P14: ='OPINI Rinci v1'!P151 -> 0 | Q14: =SUM(M14:P14) -> 8 | R14: ='OPINI Rinci v1'!R151 -> 4 | S14: ='OPINI Rinci v1'!S151 -> 4 | T14: ='OPINI Rinci v1'!T151 -> 0 | U14: ='OPINI Rinci v1'!U151 -> 0 | V14: =SUM(R14:U14) -> 8 | W14: ='OPINI Rinci v1'!W151 -> 3 | X14: ='OPINI Rinci v1'!X151 -> 5 | Y14: ='OPINI Rinci v1'!Y151 -> 0 | Z14: ='OPINI Rinci v1'!Z151 -> 0 | AA14: =SUM(W14:Z14) -> 8 | AB14: ='OPINI Rinci v1'!AB151 -> 0 | AC14: ='OPINI Rinci v1'!AC151 -> 8 | AD14: ='OPINI Rinci v1'!AD151 -> 0 | AE14: ='OPINI Rinci v1'!AE151 -> 0 | AF14: =SUM(AB14:AE14) -> 8 | AG14: ='OPINI Rinci v1'!AG151 -> 1 | AH14: ='OPINI Rinci v1'!AH151 -> 5 | AI14: ='OPINI Rinci v1'!AI151 -> 1 | AJ14: ='OPINI Rinci v1'!AJ151 -> 1 | AK14: =SUM(AG14:AJ14) -> 8 | AL14: ='OPINI Rinci v1'!AL151 -> 3 | AM14: ='OPINI Rinci v1'!AM151 -> 5 | AN14: ='OPINI Rinci v1'!AN151 -> 0 | AO14: ='OPINI Rinci v1'!AO151 -> 0 | AP14: =SUM(AL14:AO14) -> 8 | AQ14: ='OPINI Rinci v1'!AQ151 -> 2 | AR14: ='OPINI Rinci v1'!AR151 -> 6 | AS14: ='OPINI Rinci v1'!AS151 -> 0 | AT14: ='OPINI Rinci v1'!AT151 -> 0 | AU14: =SUM(AQ14:AT14) -> 8 | AV14: =F14-AU14 -> 0 | AW14: ='OPINI Rinci v1'!AV151 -> 2 | AX14: ='OPINI Rinci v1'!AW151 -> 6 | AY14: ='OPINI Rinci v1'!AX151 -> 0 | AZ14: ='OPINI Rinci v1'!AY151 -> 0 | BA14: =SUM(AW14:AZ14) -> 8 | BB14: =F14-BA14 -> 0 | BC14: ='OPINI Rinci v1'!BA151 -> 0 | BD14: ='OPINI Rinci v1'!BB151 -> 8 | BE14: ='OPINI Rinci v1'!BC151 -> 0 | BF14: ='OPINI Rinci v1'!BD151 -> 0 | BG14: =SUM(BC14:BF14) -> 8 | BH14: =F14-BG14 -> 0 | BI14: ='OPINI Rinci v1'!BF151 -> 0 | BJ14: ='OPINI Rinci v1'!BG151 -> 8 | BK14: ='OPINI Rinci v1'!BH151 -> 0 | BL14: ='OPINI Rinci v1'!BI151 -> 0 | BM14: ='OPINI Rinci v1'!BJ151 -> 8 | BN14: ='OPINI Rinci v1'!BK151 -> 0 | BO14: ='OPINI Rinci v1'!BL151 -> 7 | BP14: ='OPINI Rinci v1'!BM151 -> 0 | ... CG14: ='OPINI Rinci v1'!CD151 -> 6
B15: 09 | D15: PROV BENGKULU | F15: 11 | G15: 11 | H15: ='OPINI Rinci v1'!H161 -> 10 | I15: ='OPINI Rinci v1'!I161 -> 1 | J15: ='OPINI Rinci v1'!J161 -> 0 | K15: ='OPINI Rinci v1'!K161 -> 0 | L15: =SUM(H15:K15) -> 11 | M15: ='OPINI Rinci v1'!M161 -> 7 | N15: ='OPINI Rinci v1'!N161 -> 4 | O15: ='OPINI Rinci v1'!O161 -> 0 | P15: ='OPINI Rinci v1'!P161 -> 0 | Q15: =SUM(M15:P15) -> 11 | R15: ='OPINI Rinci v1'!R161 -> 4 | S15: ='OPINI Rinci v1'!S161 -> 7 | T15: ='OPINI Rinci v1'!T161 -> 0 | U15: ='OPINI Rinci v1'!U161 -> 0 | V15: =SUM(R15:U15) -> 11 | W15: ='OPINI Rinci v1'!W161 -> 2 | X15: ='OPINI Rinci v1'!X161 -> 9 | Y15: ='OPINI Rinci v1'!Y161 -> 0 | Z15: ='OPINI Rinci v1'!Z161 -> 0 | AA15: =SUM(W15:Z15) -> 11 | AB15: ='OPINI Rinci v1'!AB161 -> 2 | AC15: ='OPINI Rinci v1'!AC161 -> 9 | AD15: ='OPINI Rinci v1'!AD161 -> 0 | AE15: ='OPINI Rinci v1'!AE161 -> 0 | AF15: =SUM(AB15:AE15) -> 11 | AG15: ='OPINI Rinci v1'!AG161 -> 5 | AH15: ='OPINI Rinci v1'!AH161 -> 5 | AI15: ='OPINI Rinci v1'!AI161 -> 1 | AJ15: ='OPINI Rinci v1'!AJ161 -> 0 | AK15: =SUM(AG15:AJ15) -> 11 | AL15: ='OPINI Rinci v1'!AL161 -> 6 | AM15: ='OPINI Rinci v1'!AM161 -> 5 | AN15: ='OPINI Rinci v1'!AN161 -> 0 | AO15: ='OPINI Rinci v1'!AO161 -> 0 | AP15: =SUM(AL15:AO15) -> 11 | AQ15: ='OPINI Rinci v1'!AQ161 -> 6 | AR15: ='OPINI Rinci v1'!AR161 -> 4 | AS15: ='OPINI Rinci v1'!AS161 -> 0 | AT15: ='OPINI Rinci v1'!AT161 -> 1 | AU15: =SUM(AQ15:AT15) -> 11 | AV15: =F15-AU15 -> 0 | AW15: ='OPINI Rinci v1'!AV161 -> 5 | AX15: ='OPINI Rinci v1'!AW161 -> 5 | AY15: ='OPINI Rinci v1'!AX161 -> 1 | AZ15: ='OPINI Rinci v1'!AY161 -> 0 | BA15: =SUM(AW15:AZ15) -> 11 | BB15: =F15-BA15 -> 0 | BC15: ='OPINI Rinci v1'!BA161 -> 3 | BD15: ='OPINI Rinci v1'!BB161 -> 8 | BE15: ='OPINI Rinci v1'!BC161 -> 0 | BF15: ='OPINI Rinci v1'!BD161 -> 0 | BG15: =SUM(BC15:BF15) -> 11 | BH15: =F15-BG15 -> 0 | BI15: ='OPINI Rinci v1'!BF161 -> 2 | BJ15: ='OPINI Rinci v1'!BG161 -> 7 | BK15: ='OPINI Rinci v1'!BH161 -> 0 | BL15: ='OPINI Rinci v1'!BI161 -> 2 | BM15: ='OPINI Rinci v1'!BJ161 -> 11 | BN15: ='OPINI Rinci v1'!BK161 -> 1 | BO15: ='OPINI Rinci v1'!BL161 -> 6 | BP15: ='OPINI Rinci v1'!BM161 -> 0 | ... CG15: ='OPINI Rinci v1'!CD161 -> 6
B16: 10 | D16: PROV LAMPUNG | F16: 15 | G16: 16 | H16: ='OPINI Rinci v1'!H174 -> 14 | I16: ='OPINI Rinci v1'!I174 -> 2 | J16: ='OPINI Rinci v1'!J174 -> 0 | K16: ='OPINI Rinci v1'!K174 -> 0 | L16: =SUM(H16:K16) -> 16 | M16: ='OPINI Rinci v1'!M174 -> 14 | N16: ='OPINI Rinci v1'!N174 -> 2 | O16: ='OPINI Rinci v1'!O174 -> 0 | P16: ='OPINI Rinci v1'!P174 -> 0 | Q16: =SUM(M16:P16) -> 16 | R16: ='OPINI Rinci v1'!R174 -> 14 | S16: ='OPINI Rinci v1'!S174 -> 2 | T16: ='OPINI Rinci v1'!T174 -> 0 | U16: ='OPINI Rinci v1'!U174 -> 0 | V16: =SUM(R16:U16) -> 16 | W16: ='OPINI Rinci v1'!W174 -> 13 | X16: ='OPINI Rinci v1'!X174 -> 3 | Y16: ='OPINI Rinci v1'!Y174 -> 0 | Z16: ='OPINI Rinci v1'!Z174 -> 0 | AA16: =SUM(W16:Z16) -> 16 | AB16: ='OPINI Rinci v1'!AB174 -> 11 | AC16: ='OPINI Rinci v1'!AC174 -> 4 | AD16: ='OPINI Rinci v1'!AD174 -> 0 | AE16: ='OPINI Rinci v1'!AE174 -> 1 | AF16: =SUM(AB16:AE16) -> 16 | AG16: ='OPINI Rinci v1'!AG174 -> 9 | AH16: ='OPINI Rinci v1'!AH174 -> 6 | AI16: ='OPINI Rinci v1'!AI174 -> 0 | AJ16: ='OPINI Rinci v1'!AJ174 -> 1 | AK16: =SUM(AG16:AJ16) -> 16 | AL16: ='OPINI Rinci v1'!AL174 -> 5 | AM16: ='OPINI Rinci v1'!AM174 -> 9 | AN16: ='OPINI Rinci v1'!AN174 -> 1 | AO16: ='OPINI Rinci v1'!AO174 -> 0 | AP16: =SUM(AL16:AO16) -> 15 | AQ16: ='OPINI Rinci v1'!AQ174 -> 7 | AR16: ='OPINI Rinci v1'!AR174 -> 6 | AS16: ='OPINI Rinci v1'!AS174 -> 1 | AT16: ='OPINI Rinci v1'!AT174 -> 1 | AU16: =SUM(AQ16:AT16) -> 15 | AV16: =F16-AU16 -> 0 | AW16: ='OPINI Rinci v1'!AV174 -> 7 | AX16: ='OPINI Rinci v1'!AW174 -> 7 | AY16: ='OPINI Rinci v1'!AX174 -> 0 | AZ16: ='OPINI Rinci v1'!AY174 -> 1 | BA16: =SUM(AW16:AZ16) -> 15 | BB16: =F16-BA16 -> 0 | BC16: ='OPINI Rinci v1'!BA174 -> 5 | BD16: ='OPINI Rinci v1'!BB174 -> 7 | BE16: ='OPINI Rinci v1'!BC174 -> 0 | BF16: ='OPINI Rinci v1'!BD174 -> 3 | BG16: =SUM(BC16:BF16) -> 15 | BH16: =F16-BG16 -> 0 | BI16: ='OPINI Rinci v1'!BF174 -> 0 | BJ16: ='OPINI Rinci v1'!BG174 -> 10 | BK16: ='OPINI Rinci v1'!BH174 -> 0 | BL16: ='OPINI Rinci v1'!BI174 -> 2 | BM16: ='OPINI Rinci v1'!BJ174 -> 12 | BN16: ='OPINI Rinci v1'!BK174 -> 0 | BO16: ='OPINI Rinci v1'!BL174 -> 8 | BP16: ='OPINI Rinci v1'!BM174 -> 0 | ... CG16: ='OPINI Rinci v1'!CD174 -> 11
B17: 11 | D17: PROV DKI JAKARTA | F17: 1 | G17: 1 | H17: ='OPINI Rinci v1'!H192 -> 1 | I17: ='OPINI Rinci v1'!I192 -> 0 | J17: ='OPINI Rinci v1'!J192 -> 0 | K17: ='OPINI Rinci v1'!K192 -> 0 | L17: ='OPINI Rinci v1'!L192 -> 1 | M17: ='OPINI Rinci v1'!M192 -> 1 | N17: ='OPINI Rinci v1'!N192 -> 0 | O17: ='OPINI Rinci v1'!O192 -> 0 | ... AU17: ='OPINI Rinci v1'!AU192 -> 1 | AV17: =F17-AU17 -> 0 | AW17: ='OPINI Rinci v1'!AV192 -> 1 | AX17: ='OPINI Rinci v1'!AW192 -> 0 | AY17: ='OPINI Rinci v1'!AX195 -> 0 | AZ17: ='OPINI Rinci v1'!AY195 -> 0 | BA17: =SUM(AW17:AZ17) -> 1 | BB17: =F17-BA17 -> 0 | BC17: 0 | BD17: 1 | BE17: 0 | BF17: 0 | BG17: =SUM(BC17:BF17) -> 1 | BH17: =F17-BG17 -> 0 | BI17: ='OPINI Rinci v1'!BF192 -> 0 | BJ17: ='OPINI Rinci v1'!BG192 -> 1 | BK17: ='OPINI Rinci v1'!BH192 -> 0 | BL17: ='OPINI Rinci v1'!BI192 -> 0 | BM17: ='OPINI Rinci v1'!BJ192 -> 1 | BN17: ='OPINI Rinci v1'!BK192 -> 0 | BO17: ='OPINI Rinci v1'!BL192 -> 1 | BP17: ='OPINI Rinci v1'!BM192 -> 0 | ... CG17: ='OPINI Rinci v1'!CD192 -> 1
B18: 12 | D18: PROV JABAR | F18: 27 | G18: 28 | H18: ='OPINI Rinci v1'!H195 -> 28 | I18: ='OPINI Rinci v1'!I195 -> 0 | J18: ='OPINI Rinci v1'!J195 -> 0 | K18: ='OPINI Rinci v1'!K195 -> 0 | L18: =SUM(H18:K18) -> 28 | M18: ='OPINI Rinci v1'!M195 -> 25 | N18: ='OPINI Rinci v1'!N195 -> 3 | O18: ='OPINI Rinci v1'!O195 -> 0 | P18: ='OPINI Rinci v1'!P195 -> 0 | Q18: =SUM(M18:P18) -> 28 | R18: ='OPINI Rinci v1'!R195 -> 25 | S18: ='OPINI Rinci v1'!S195 -> 3 | T18: ='OPINI Rinci v1'!T195 -> 0 | U18: ='OPINI Rinci v1'!U195 -> 0 | V18: =SUM(R18:U18) -> 28 | W18: ='OPINI Rinci v1'!W195 -> 25 | X18: ='OPINI Rinci v1'!X195 -> 3 | Y18: ='OPINI Rinci v1'!Y195 -> 0 | Z18: ='OPINI Rinci v1'!Z195 -> 0 | AA18: =SUM(W18:Z18) -> 28 | AB18: ='OPINI Rinci v1'!AB195 -> 20 | AC18: ='OPINI Rinci v1'!AC195 -> 7 | AD18: ='OPINI Rinci v1'!AD195 -> 0 | AE18: ='OPINI Rinci v1'!AE195 -> 1 | AF18: =SUM(AB18:AE18) -> 28 | AG18: ='OPINI Rinci v1'!AG195 -> 13 | AH18: ='OPINI Rinci v1'!AH195 -> 14 | AI18: ='OPINI Rinci v1'!AI195 -> 0 | AJ18: ='OPINI Rinci v1'!AJ195 -> 1 | AK18: =SUM(AG18:AJ18) -> 28 | AL18: ='OPINI Rinci v1'!AL195 -> 6 | AM18: ='OPINI Rinci v1'!AM195 -> 19 | AN18: ='OPINI Rinci v1'!AN195 -> 0 | AO18: ='OPINI Rinci v1'!AO195 -> 2 | AP18: =SUM(AL18:AO18) -> 27 | AQ18: ='OPINI Rinci v1'!AQ195 -> 3 | AR18: ='OPINI Rinci v1'!AR195 -> 24 | AS18: ='OPINI Rinci v1'!AS195 -> 0 | AT18: ='OPINI Rinci v1'!AT195 -> 0 | AU18: =SUM(AQ18:AT18) -> 27 | AV18: =F18-AU18 -> 0 | AW18: ='OPINI Rinci v1'!AV195 -> 3 | AX18: ='OPINI Rinci v1'!AW195 -> 24 | AY18: ='OPINI Rinci v1'!AX195 -> 0 | AZ18: ='OPINI Rinci v1'!AY195 -> 0 | BA18: =SUM(AW18:AZ18) -> 27 | BB18: =F18-BA18 -> 0 | BC18: ='OPINI Rinci v1'!BA195 -> 0 | BD18: ='OPINI Rinci v1'!BB195 -> 26 | BE18: ='OPINI Rinci v1'!BC195 -> 0 | BF18: ='OPINI Rinci v1'!BD195 -> 1 | BG18: =SUM(BC18:BF18) -> 27 | BH18: =F18-BG18 -> 0 | BI18: ='OPINI Rinci v1'!BF195 -> 0 | BJ18: ='OPINI Rinci v1'!BG195 -> 23 | BK18: ='OPINI Rinci v1'!BH195 -> 0 | BL18: ='OPINI Rinci v1'!BI195 -> 4 | BM18: ='OPINI Rinci v1'!BJ195 -> 27 | BN18: ='OPINI Rinci v1'!BK195 -> 0 | BO18: ='OPINI Rinci v1'!BL195 -> 26 | BP18: ='OPINI Rinci v1'!BM195 -> 0 | ... CG18: ='OPINI Rinci v1'!CD195 -> 23
B19: 13 | D19: PROV BANTEN | F19: 9 | G19: 9 | H19: ='OPINI Rinci v1'!H225 -> 9 | I19: ='OPINI Rinci v1'!I225 -> 0 | J19: ='OPINI Rinci v1'!J225 -> 0 | K19: ='OPINI Rinci v1'!K225 -> 0 | L19: =SUM(H19:K19) -> 9 | M19: ='OPINI Rinci v1'!M225 -> 9 | N19: ='OPINI Rinci v1'!N225 -> 0 | O19: ='OPINI Rinci v1'!O225 -> 0 | P19: ='OPINI Rinci v1'!P225 -> 0 | Q19: =SUM(M19:P19) -> 9 | R19: ='OPINI Rinci v1'!R225 -> 9 | S19: ='OPINI Rinci v1'!S225 -> 0 | T19: ='OPINI Rinci v1'!T225 -> 0 | U19: ='OPINI Rinci v1'!U225 -> 0 | V19: =SUM(R19:U19) -> 9 | W19: ='OPINI Rinci v1'!W225 -> 8 | X19: ='OPINI Rinci v1'!X225 -> 1 | Y19: ='OPINI Rinci v1'!Y225 -> 0 | Z19: ='OPINI Rinci v1'!Z225 -> 0 | AA19: =SUM(W19:Z19) -> 9 | AB19: ='OPINI Rinci v1'!AB225 -> 6 | AC19: ='OPINI Rinci v1'!AC225 -> 3 | AD19: ='OPINI Rinci v1'!AD225 -> 0 | AE19: ='OPINI Rinci v1'!AE225 -> 0 | AF19: =SUM(AB19:AE19) -> 9 | AG19: ='OPINI Rinci v1'!AG225 -> 4 | AH19: ='OPINI Rinci v1'!AH225 -> 3 | AI19: ='OPINI Rinci v1'!AI225 -> 0 | AJ19: ='OPINI Rinci v1'!AJ225 -> 2 | AK19: =SUM(AG19:AJ19) -> 9 | AL19: ='OPINI Rinci v1'!AL225 -> 4 | AM19: ='OPINI Rinci v1'!AM225 -> 4 | AN19: ='OPINI Rinci v1'!AN225 -> 0 | AO19: ='OPINI Rinci v1'!AO225 -> 1 | AP19: =SUM(AL19:AO19) -> 9 | AQ19: ='OPINI Rinci v1'!AQ225 -> 4 | AR19: ='OPINI Rinci v1'!AR225 -> 5 | AS19: ='OPINI Rinci v1'!AS225 -> 0 | AT19: ='OPINI Rinci v1'!AT225 -> 0 | AU19: =SUM(AQ19:AT19) -> 9 | AV19: =F19-AU19 -> 0 | AW19: ='OPINI Rinci v1'!AV225 -> 4 | AX19: ='OPINI Rinci v1'!AW225 -> 5 | AY19: ='OPINI Rinci v1'!AX225 -> 0 | AZ19: ='OPINI Rinci v1'!AY225 -> 0 | BA19: =SUM(AW19:AZ19) -> 9 | BB19: =F19-BA19 -> 0 | BC19: ='OPINI Rinci v1'!BA225 -> 3 | BD19: ='OPINI Rinci v1'!BB225 -> 4 | BE19: ='OPINI Rinci v1'!BC225 -> 0 | BF19: ='OPINI Rinci v1'!BD225 -> 2 | BG19: =SUM(BC19:BF19) -> 9 | BH19: =F19-BG19 -> 0 | BI19: ='OPINI Rinci v1'!BF225 -> 2 | BJ19: ='OPINI Rinci v1'!BG225 -> 6 | BK19: ='OPINI Rinci v1'!BH225 -> 0 | BL19: ='OPINI Rinci v1'!BI225 -> 1 | BM19: ='OPINI Rinci v1'!BJ225 -> 9 | BN19: ='OPINI Rinci v1'!BK225 -> 2 | BO19: ='OPINI Rinci v1'!BL225 -> 6 | BP19: ='OPINI Rinci v1'!BM225 -> 0 | ... CG19: ='OPINI Rinci v1'!CD225 -> 7
B20: 14 | D20: PROV JATENG | F20: 36 | G20: 36 | H20: ='OPINI Rinci v1'!H236 -> 36 | I20: ='OPINI Rinci v1'!I236 -> 0 | J20: ='OPINI Rinci v1'!J236 -> 0 | K20: ='OPINI Rinci v1'!K236 -> 0 | L20: =SUM(H20:K20) -> 36 | M20: ='OPINI Rinci v1'!M236 -> 35 | N20: ='OPINI Rinci v1'!N236 -> 1 | O20: ='OPINI Rinci v1'!O236 -> 0 | P20: ='OPINI Rinci v1'!P236 -> 0 | Q20: =SUM(M20:P20) -> 36 | R20: ='OPINI Rinci v1'!R236 -> 33 | S20: ='OPINI Rinci v1'!S236 -> 3 | T20: ='OPINI Rinci v1'!T236 -> 0 | U20: ='OPINI Rinci v1'!U236 -> 0 | V20: =SUM(R20:U20) -> 36 | W20: ='OPINI Rinci v1'!W236 -> 31 | X20: ='OPINI Rinci v1'!X236 -> 5 | Y20: ='OPINI Rinci v1'!Y236 -> 0 | Z20: ='OPINI Rinci v1'!Z236 -> 0 | AA20: =SUM(W20:Z20) -> 36 | AB20: ='OPINI Rinci v1'!AB236 -> 21 | AC20: ='OPINI Rinci v1'!AC236 -> 15 | AD20: ='OPINI Rinci v1'!AD236 -> 0 | AE20: ='OPINI Rinci v1'!AE236 -> 0 | AF20: =SUM(AB20:AE20) -> 36 | AG20: ='OPINI Rinci v1'!AG236 -> 12 | AH20: ='OPINI Rinci v1'!AH236 -> 24 | AI20: ='OPINI Rinci v1'!AI236 -> 0 | AJ20: ='OPINI Rinci v1'!AJ236 -> 0 | AK20: =SUM(AG20:AJ20) -> 36 | AL20: ='OPINI Rinci v1'!AL236 -> 11 | AM20: ='OPINI Rinci v1'!AM236 -> 25 | AN20: ='OPINI Rinci v1'!AN236 -> 0 | AO20: ='OPINI Rinci v1'!AO236 -> 0 | AP20: =SUM(AL20:AO20) -> 36 | AQ20: ='OPINI Rinci v1'!AQ236 -> 11 | AR20: ='OPINI Rinci v1'!AR236 -> 25 | AS20: ='OPINI Rinci v1'!AS236 -> 0 | AT20: ='OPINI Rinci v1'!AT236 -> 0 | AU20: =SUM(AQ20:AT20) -> 36 | AV20: =F20-AU20 -> 0 | AW20: ='OPINI Rinci v1'!AV236 -> 8 | AX20: ='OPINI Rinci v1'!AW236 -> 28 | AY20: ='OPINI Rinci v1'!AX236 -> 0 | AZ20: ='OPINI Rinci v1'!AY236 -> 0 | BA20: =SUM(AW20:AZ20) -> 36 | BB20: =F20-BA20 -> 0 | BC20: ='OPINI Rinci v1'!BA236 -> 2 | BD20: ='OPINI Rinci v1'!BB236 -> 33 | BE20: ='OPINI Rinci v1'!BC236 -> 0 | BF20: ='OPINI Rinci v1'!BD236 -> 1 | BG20: =SUM(BC20:BF20) -> 36 | BH20: =F20-BG20 -> 0 | BI20: ='OPINI Rinci v1'!BF236 -> 0 | BJ20: ='OPINI Rinci v1'!BG236 -> 36 | BK20: ='OPINI Rinci v1'!BH236 -> 0 | BL20: ='OPINI Rinci v1'!BI236 -> 0 | BM20: ='OPINI Rinci v1'!BJ236 -> 36 | BN20: ='OPINI Rinci v1'!BK236 -> 0 | BO20: ='OPINI Rinci v1'!BL236 -> 34 | BP20: ='OPINI Rinci v1'!BM236 -> 0 | ... CG20: ='OPINI Rinci v1'!CD236 -> 36
B21: 15 | D21: PROV DIY | F21: 6 | G21: 6 | H21: ='OPINI Rinci v1'!H274 -> 6 | I21: ='OPINI Rinci v1'!I274 -> 0 | J21: ='OPINI Rinci v1'!J274 -> 0 | K21: ='OPINI Rinci v1'!K274 -> 0 | L21: =SUM(H21:K21) -> 6 | M21: ='OPINI Rinci v1'!M274 -> 6 | N21: ='OPINI Rinci v1'!N274 -> 0 | O21: ='OPINI Rinci v1'!O274 -> 0 | P21: ='OPINI Rinci v1'!P274 -> 0 | Q21: =SUM(M21:P21) -> 6 | R21: ='OPINI Rinci v1'!R274 -> 6 | S21: ='OPINI Rinci v1'!S274 -> 0 | T21: ='OPINI Rinci v1'!T274 -> 0 | U21: ='OPINI Rinci v1'!U274 -> 0 | V21: =SUM(R21:U21) -> 6 | W21: ='OPINI Rinci v1'!W274 -> 6 | X21: ='OPINI Rinci v1'!X274 -> 0 | Y21: ='OPINI Rinci v1'!Y274 -> 0 | Z21: ='OPINI Rinci v1'!Z274 -> 0 | AA21: =SUM(W21:Z21) -> 6 | AB21: ='OPINI Rinci v1'!AB274 -> 6 | AC21: ='OPINI Rinci v1'!AC274 -> 0 | AD21: ='OPINI Rinci v1'!AD274 -> 0 | AE21: ='OPINI Rinci v1'!AE274 -> 0 | AF21: =SUM(AB21:AE21) -> 6 | AG21: ='OPINI Rinci v1'!AG274 -> 5 | AH21: ='OPINI Rinci v1'!AH274 -> 1 | AI21: ='OPINI Rinci v1'!AI274 -> 0 | AJ21: ='OPINI Rinci v1'!AJ274 -> 0 | AK21: =SUM(AG21:AJ21) -> 6 | AL21: ='OPINI Rinci v1'!AL274 -> 5 | AM21: ='OPINI Rinci v1'!AM274 -> 1 | AN21: ='OPINI Rinci v1'!AN274 -> 0 | AO21: ='OPINI Rinci v1'!AO274 -> 0 | AP21: =SUM(AL21:AO21) -> 6 | AQ21: ='OPINI Rinci v1'!AQ274 -> 4 | AR21: ='OPINI Rinci v1'!AR274 -> 2 | AS21: ='OPINI Rinci v1'!AS274 -> 0 | AT21: ='OPINI Rinci v1'!AT274 -> 0 | AU21: =SUM(AQ21:AT21) -> 6 | AV21: =F21-AU21 -> 0 | AW21: ='OPINI Rinci v1'!AV274 -> 3 | AX21: ='OPINI Rinci v1'!AW274 -> 3 | AY21: ='OPINI Rinci v1'!AX274 -> 0 | AZ21: ='OPINI Rinci v1'!AY274 -> 0 | BA21: =SUM(AW21:AZ21) -> 6 | BB21: =F21-BA21 -> 0 | BC21: ='OPINI Rinci v1'!BA274 -> 2 | BD21: ='OPINI Rinci v1'!BB274 -> 4 | BE21: ='OPINI Rinci v1'!BC274 -> 0 | BF21: ='OPINI Rinci v1'!BD274 -> 0 | BG21: =SUM(BC21:BF21) -> 6 | BH21: =F21-BG21 -> 0 | BI21: ='OPINI Rinci v1'!BF274 -> 1 | BJ21: ='OPINI Rinci v1'!BG274 -> 5 | BK21: ='OPINI Rinci v1'!BH274 -> 0 | BL21: ='OPINI Rinci v1'!BI274 -> 0 | BM21: ='OPINI Rinci v1'!BJ274 -> 6 | BN21: ='OPINI Rinci v1'!BK274 -> 0 | BO21: ='OPINI Rinci v1'!BL274 -> 6 | BP21: ='OPINI Rinci v1'!BM274 -> 0 | ... CG21: ='OPINI Rinci v1'!CD274 -> 6
B22: 16 | D22: PROV JATIM | F22: 39 | G22: 39 | H22: ='OPINI Rinci v1'!H282 -> 37 | I22: ='OPINI Rinci v1'!I282 -> 1 | J22: ='OPINI Rinci v1'!J282 -> 0 | K22: ='OPINI Rinci v1'!K282 -> 1 | L22: =SUM(H22:K22) -> 39 | M22: ='OPINI Rinci v1'!M282 -> 36 | N22: ='OPINI Rinci v1'!N282 -> 3 | O22: ='OPINI Rinci v1'!O282 -> 0 | P22: ='OPINI Rinci v1'!P282 -> 0 | Q22: =SUM(M22:P22) -> 39 | R22: ='OPINI Rinci v1'!R282 -> 37 | S22: ='OPINI Rinci v1'!S282 -> 2 | T22: ='OPINI Rinci v1'!T282 -> 0 | U22: ='OPINI Rinci v1'!U282 -> 0 | V22: =SUM(R22:U22) -> 39 | W22: ='OPINI Rinci v1'!W282 -> 31 | X22: ='OPINI Rinci v1'!X282 -> 8 | Y22: ='OPINI Rinci v1'!Y282 -> 0 | Z22: ='OPINI Rinci v1'!Z282 -> 0 | AA22: =SUM(W22:Z22) -> 39 | AB22: ='OPINI Rinci v1'!AB282 -> 29 | AC22: ='OPINI Rinci v1'!AC282 -> 10 | AD22: ='OPINI Rinci v1'!AD282 -> 0 | AE22: ='OPINI Rinci v1'!AE282 -> 0 | AF22: =SUM(AB22:AE22) -> 39 | AG22: ='OPINI Rinci v1'!AG282 -> 25 | AH22: ='OPINI Rinci v1'!AH282 -> 14 | AI22: ='OPINI Rinci v1'!AI282 -> 0 | AJ22: ='OPINI Rinci v1'!AJ282 -> 0 | AK22: =SUM(AG22:AJ22) -> 39 | AL22: ='OPINI Rinci v1'!AL282 -> 17 | AM22: ='OPINI Rinci v1'!AM282 -> 21 | AN22: ='OPINI Rinci v1'!AN282 -> 1 | AO22: ='OPINI Rinci v1'!AO282 -> 0 | AP22: =SUM(AL22:AO22) -> 39 | AQ22: ='OPINI Rinci v1'!AQ282 -> 13 | AR22: ='OPINI Rinci v1'!AR282 -> 26 | AS22: ='OPINI Rinci v1'!AS282 -> 0 | AT22: ='OPINI Rinci v1'!AT282 -> 0 | AU22: =SUM(AQ22:AT22) -> 39 | AV22: =F22-AU22 -> 0 | AW22: ='OPINI Rinci v1'!AV282 -> 11 | AX22: ='OPINI Rinci v1'!AW282 -> 27 | AY22: ='OPINI Rinci v1'!AX282 -> 0 | AZ22: ='OPINI Rinci v1'!AY282 -> 1 | BA22: =SUM(AW22:AZ22) -> 39 | BB22: =F22-BA22 -> 0 | BC22: ='OPINI Rinci v1'!BA282 -> 6 | BD22: ='OPINI Rinci v1'!BB282 -> 32 | BE22: ='OPINI Rinci v1'!BC282 -> 0 | BF22: ='OPINI Rinci v1'!BD282 -> 1 | BG22: =SUM(BC22:BF22) -> 39 | BH22: =F22-BG22 -> 0 | BI22: ='OPINI Rinci v1'!BF282 -> 0 | BJ22: ='OPINI Rinci v1'!BG282 -> 36 | BK22: ='OPINI Rinci v1'!BH282 -> 1 | BL22: ='OPINI Rinci v1'!BI282 -> 2 | BM22: ='OPINI Rinci v1'!BJ282 -> 39 | BN22: ='OPINI Rinci v1'!BK282 -> 0 | BO22: ='OPINI Rinci v1'!BL282 -> 28 | BP22: ='OPINI Rinci v1'!BM282 -> 5 | ... CG22: ='OPINI Rinci v1'!CD282 -> 26
B23: 17 | D23: PROV KALBAR | F23: 15 | G23: 15 | H23: ='OPINI Rinci v1'!H323 -> 12 | I23: ='OPINI Rinci v1'!I323 -> 1 | J23: ='OPINI Rinci v1'!J323 -> 0 | K23: ='OPINI Rinci v1'!K323 -> 0 | L23: =SUM(H23:K23) -> 13 | M23: ='OPINI Rinci v1'!M323 -> 11 | N23: ='OPINI Rinci v1'!N323 -> 4 | O23: ='OPINI Rinci v1'!O323 -> 0 | P23: ='OPINI Rinci v1'!P323 -> 0 | Q23: =SUM(M23:P23) -> 15 | R23: ='OPINI Rinci v1'!R323 -> 11 | S23: ='OPINI Rinci v1'!S323 -> 4 | T23: ='OPINI Rinci v1'!T323 -> 0 | U23: ='OPINI Rinci v1'!U323 -> 0 | V23: =SUM(R23:U23) -> 15 | W23: ='OPINI Rinci v1'!W323 -> 9 | X23: ='OPINI Rinci v1'!X323 -> 6 | Y23: ='OPINI Rinci v1'!Y323 -> 0 | Z23: ='OPINI Rinci v1'!Z323 -> 0 | AA23: =SUM(W23:Z23) -> 15 | AB23: ='OPINI Rinci v1'!AB323 -> 8 | AC23: ='OPINI Rinci v1'!AC323 -> 7 | AD23: ='OPINI Rinci v1'!AD323 -> 0 | AE23: ='OPINI Rinci v1'!AE323 -> 0 | AF23: =SUM(AB23:AE23) -> 15 | AG23: ='OPINI Rinci v1'!AG323 -> 8 | AH23: ='OPINI Rinci v1'!AH323 -> 7 | AI23: ='OPINI Rinci v1'!AI323 -> 0 | AJ23: ='OPINI Rinci v1'!AJ323 -> 0 | AK23: =SUM(AG23:AJ23) -> 15 | AL23: ='OPINI Rinci v1'!AL323 -> 5 | AM23: ='OPINI Rinci v1'!AM323 -> 10 | AN23: ='OPINI Rinci v1'!AN323 -> 0 | AO23: ='OPINI Rinci v1'!AO323 -> 0 | AP23: =SUM(AL23:AO23) -> 15 | AQ23: ='OPINI Rinci v1'!AQ323 -> 4 | AR23: ='OPINI Rinci v1'!AR323 -> 11 | AS23: ='OPINI Rinci v1'!AS323 -> 0 | AT23: ='OPINI Rinci v1'!AT323 -> 0 | AU23: =SUM(AQ23:AT23) -> 15 | AV23: =F23-AU23 -> 0 | AW23: ='OPINI Rinci v1'!AV323 -> 1 | AX23: ='OPINI Rinci v1'!AW323 -> 13 | AY23: ='OPINI Rinci v1'!AX323 -> 1 | AZ23: ='OPINI Rinci v1'!AY323 -> 0 | BA23: =SUM(AW23:AZ23) -> 15 | BB23: =F23-BA23 -> 0 | BC23: ='OPINI Rinci v1'!BA323 -> 0 | BD23: ='OPINI Rinci v1'!BB323 -> 13 | BE23: ='OPINI Rinci v1'!BC323 -> 2 | BF23: ='OPINI Rinci v1'!BD323 -> 0 | BG23: =SUM(BC23:BF23) -> 15 | BH23: =F23-BG23 -> 0 | BI23: ='OPINI Rinci v1'!BF323 -> 0 | BJ23: ='OPINI Rinci v1'!BG323 -> 7 | BK23: ='OPINI Rinci v1'!BH323 -> 4 | BL23: ='OPINI Rinci v1'!BI323 -> 4 | BM23: ='OPINI Rinci v1'!BJ323 -> 15 | BN23: ='OPINI Rinci v1'!BK323 -> 0 | BO23: ='OPINI Rinci v1'!BL323 -> 6 | BP23: ='OPINI Rinci v1'!BM323 -> 3 | ... CG23: ='OPINI Rinci v1'!CD323 -> 11
B24: 18 | D24: PROV KALTENG | F24: 15 | G24: 15 | H24: ='OPINI Rinci v1'!H340 -> 15 | I24: ='OPINI Rinci v1'!I340 -> 0 | J24: ='OPINI Rinci v1'!J340 -> 0 | K24: ='OPINI Rinci v1'!K340 -> 0 | L24: =SUM(H24:K24) -> 15 | M24: ='OPINI Rinci v1'!M340 -> 14 | N24: ='OPINI Rinci v1'!N340 -> 1 | O24: ='OPINI Rinci v1'!O340 -> 0 | P24: ='OPINI Rinci v1'!P340 -> 0 | Q24: =SUM(M24:P24) -> 15 | R24: ='OPINI Rinci v1'!R340 -> 14 | S24: ='OPINI Rinci v1'!S340 -> 1 | T24: ='OPINI Rinci v1'!T340 -> 0 | U24: ='OPINI Rinci v1'!U340 -> 0 | V24: =SUM(R24:U24) -> 15 | W24: ='OPINI Rinci v1'!W340 -> 14 | X24: ='OPINI Rinci v1'!X340 -> 1 | Y24: ='OPINI Rinci v1'!Y340 -> 0 | Z24: ='OPINI Rinci v1'!Z340 -> 0 | AA24: =SUM(W24:Z24) -> 15 | AB24: ='OPINI Rinci v1'!AB340 -> 10 | AC24: ='OPINI Rinci v1'!AC340 -> 4 | AD24: ='OPINI Rinci v1'!AD340 -> 0 | AE24: ='OPINI Rinci v1'!AE340 -> 1 | AF24: =SUM(AB24:AE24) -> 15 | AG24: ='OPINI Rinci v1'!AG340 -> 7 | AH24: ='OPINI Rinci v1'!AH340 -> 8 | AI24: ='OPINI Rinci v1'!AI340 -> 0 | AJ24: ='OPINI Rinci v1'!AJ340 -> 0 | AK24: =SUM(AG24:AJ24) -> 15 | AL24: ='OPINI Rinci v1'!AL340 -> 3 | AM24: ='OPINI Rinci v1'!AM340 -> 8 | AN24: ='OPINI Rinci v1'!AN340 -> 2 | AO24: ='OPINI Rinci v1'!AO340 -> 2 | AP24: =SUM(AL24:AO24) -> 15 | AQ24: ='OPINI Rinci v1'!AQ340 -> 1 | AR24: ='OPINI Rinci v1'!AR340 -> 7 | AS24: ='OPINI Rinci v1'!AS340 -> 0 | AT24: ='OPINI Rinci v1'!AT340 -> 7 | AU24: =SUM(AQ24:AT24) -> 15 | AV24: =F24-AU24 -> 0 | AW24: ='OPINI Rinci v1'!AV340 -> 0 | AX24: ='OPINI Rinci v1'!AW340 -> 11 | AY24: ='OPINI Rinci v1'!AX340 -> 0 | AZ24: ='OPINI Rinci v1'!AY340 -> 4 | BA24: =SUM(AW24:AZ24) -> 15 | BB24: =F24-BA24 -> 0 | BC24: ='OPINI Rinci v1'!BA340 -> 0 | BD24: ='OPINI Rinci v1'!BB340 -> 7 | BE24: ='OPINI Rinci v1'!BC340 -> 4 | BF24: ='OPINI Rinci v1'!BD340 -> 4 | BG24: =SUM(BC24:BF24) -> 15 | BH24: =F24-BG24 -> 0 | BI24: ='OPINI Rinci v1'!BF340 -> 0 | BJ24: ='OPINI Rinci v1'!BG340 -> 2 | BK24: ='OPINI Rinci v1'!BH340 -> 12 | BL24: ='OPINI Rinci v1'!BI340 -> 1 | BM24: ='OPINI Rinci v1'!BJ340 -> 15 | BN24: ='OPINI Rinci v1'!BK340 -> 0 | BO24: ='OPINI Rinci v1'!BL340 -> 5 | BP24: ='OPINI Rinci v1'!BM340 -> 8 | ... CG24: ='OPINI Rinci v1'!CD340 -> 15
B25: 19 | D25: PROV KALSEL | F25: 14 | G25: 14 | H25: ='OPINI Rinci v1'!H357 -> 13 | I25: ='OPINI Rinci v1'!I357 -> 0 | J25: ='OPINI Rinci v1'!J357 -> 0 | K25: ='OPINI Rinci v1'!K357 -> 0 | L25: =SUM(H25:K25) -> 13 | M25: ='OPINI Rinci v1'!M357 -> 14 | N25: ='OPINI Rinci v1'!N357 -> 0 | O25: ='OPINI Rinci v1'!O357 -> 0 | P25: ='OPINI Rinci v1'!P357 -> 0 | Q25: =SUM(M25:P25) -> 14 | R25: ='OPINI Rinci v1'!R357 -> 13 | S25: ='OPINI Rinci v1'!S357 -> 1 | T25: ='OPINI Rinci v1'!T357 -> 0 | U25: ='OPINI Rinci v1'!U357 -> 0 | V25: =SUM(R25:U25) -> 14 | W25: ='OPINI Rinci v1'!W357 -> 14 | X25: ='OPINI Rinci v1'!X357 -> 0 | Y25: ='OPINI Rinci v1'!Y357 -> 0 | Z25: ='OPINI Rinci v1'!Z357 -> 0 | AA25: =SUM(W25:Z25) -> 14 | AB25: ='OPINI Rinci v1'!AB357 -> 14 | AC25: ='OPINI Rinci v1'!AC357 -> 0 | AD25: ='OPINI Rinci v1'!AD357 -> 0 | AE25: ='OPINI Rinci v1'!AE357 -> 0 | AF25: =SUM(AB25:AE25) -> 14 | AG25: ='OPINI Rinci v1'!AG357 -> 10 | AH25: ='OPINI Rinci v1'!AH357 -> 4 | AI25: ='OPINI Rinci v1'!AI357 -> 0 | AJ25: ='OPINI Rinci v1'!AJ357 -> 0 | AK25: =SUM(AG25:AJ25) -> 14 | AL25: ='OPINI Rinci v1'!AL357 -> 8 | AM25: ='OPINI Rinci v1'!AM357 -> 6 | AN25: ='OPINI Rinci v1'!AN357 -> 0 | AO25: ='OPINI Rinci v1'!AO357 -> 0 | AP25: =SUM(AL25:AO25) -> 14 | AQ25: ='OPINI Rinci v1'!AQ357 -> 0 | AR25: ='OPINI Rinci v1'!AR357 -> 13 | AS25: ='OPINI Rinci v1'!AS357 -> 1 | AT25: ='OPINI Rinci v1'!AT357 -> 0 | AU25: =SUM(AQ25:AT25) -> 14 | AV25: =F25-AU25 -> 0 | AW25: ='OPINI Rinci v1'!AV357 -> 0 | AX25: ='OPINI Rinci v1'!AW357 -> 13 | AY25: ='OPINI Rinci v1'!AX357 -> 0 | AZ25: ='OPINI Rinci v1'!AY357 -> 1 | BA25: =SUM(AW25:AZ25) -> 14 | BB25: =F25-BA25 -> 0 | BC25: ='OPINI Rinci v1'!BA357 -> 0 | BD25: ='OPINI Rinci v1'!BB357 -> 13 | BE25: ='OPINI Rinci v1'!BC357 -> 1 | BF25: ='OPINI Rinci v1'!BD357 -> 0 | BG25: =SUM(BC25:BF25) -> 14 | BH25: =F25-BG25 -> 0 | BI25: ='OPINI Rinci v1'!BF357 -> 0 | BJ25: ='OPINI Rinci v1'!BG357 -> 12 | BK25: ='OPINI Rinci v1'!BH357 -> 2 | BL25: ='OPINI Rinci v1'!BI357 -> 0 | BM25: ='OPINI Rinci v1'!BJ357 -> 14 | BN25: ='OPINI Rinci v1'!BK357 -> 0 | BO25: ='OPINI Rinci v1'!BL357 -> 12 | BP25: ='OPINI Rinci v1'!BM357 -> 2 | ... CG25: ='OPINI Rinci v1'!CD357 -> 13
B26: 20 | D26: PROV KALTIM | F26: 15 | G26: 11 | H26: ='OPINI Rinci v1'!H373 -> 11 | I26: ='OPINI Rinci v1'!I373 -> 0 | J26: ='OPINI Rinci v1'!J373 -> 0 | K26: ='OPINI Rinci v1'!K373 -> 0 | L26: =SUM(H26:K26) -> 11 | M26: ='OPINI Rinci v1'!M373 -> 10 | N26: ='OPINI Rinci v1'!N373 -> 1 | O26: ='OPINI Rinci v1'!O373 -> 0 | P26: ='OPINI Rinci v1'!P373 -> 0 | Q26: =SUM(M26:P26) -> 11 | R26: ='OPINI Rinci v1'!R373 -> 9 | S26: ='OPINI Rinci v1'!S373 -> 2 | T26: ='OPINI Rinci v1'!T373 -> 0 | U26: ='OPINI Rinci v1'!U373 -> 0 | V26: =SUM(R26:U26) -> 11 | W26: ='OPINI Rinci v1'!W373 -> 9 | X26: ='OPINI Rinci v1'!X373 -> 2 | Y26: ='OPINI Rinci v1'!Y373 -> 0 | Z26: ='OPINI Rinci v1'!Z373 -> 0 | AA26: =SUM(W26:Z26) -> 11 | AB26: ='OPINI Rinci v1'!AB373 -> 9 | AC26: ='OPINI Rinci v1'!AC373 -> 1 | AD26: ='OPINI Rinci v1'!AD373 -> 0 | AE26: ='OPINI Rinci v1'!AE373 -> 1 | AF26: =SUM(AB26:AE26) -> 11 | AG26: ='OPINI Rinci v1'!AG373 -> 7 | AH26: ='OPINI Rinci v1'!AH373 -> 3 | AI26: ='OPINI Rinci v1'!AI373 -> 0 | AJ26: ='OPINI Rinci v1'!AJ373 -> 1 | AK26: =SUM(AG26:AJ26) -> 11 | AL26: ='OPINI Rinci v1'!AL373 -> 3 | AM26: ='OPINI Rinci v1'!AM373 -> 7 | AN26: ='OPINI Rinci v1'!AN373 -> 0 | AO26: ='OPINI Rinci v1'!AO373 -> 0 | AP26: =SUM(AL26:AO26) -> 10 | AQ26: ='OPINI Rinci v1'!AQ373 -> 2 | AR26: ='OPINI Rinci v1'!AR373 -> 8 | AS26: ='OPINI Rinci v1'!AS373 -> 0 | AT26: ='OPINI Rinci v1'!AT373 -> 0 | AU26: =SUM(AQ26:AT26) -> 10 | AV26: =F26-AU26 -> 5 | AW26: ='OPINI Rinci v1'!AV373 -> 0 | AX26: ='OPINI Rinci v1'!AW373 -> 7 | AY26: ='OPINI Rinci v1'!AX373 -> 1 | AZ26: ='OPINI Rinci v1'!AY373 -> 2 | BA26: =SUM(AW26:AZ26) -> 10 | BB26: =F26-BA26 -> 5 | BC26: ='OPINI Rinci v1'!BA373 -> 0 | BD26: ='OPINI Rinci v1'!BB373 -> 4 | BE26: ='OPINI Rinci v1'!BC373 -> 4 | BF26: ='OPINI Rinci v1'!BD373 -> 2 | BG26: =SUM(BC26:BF26) -> 10 | BH26: =F26-BG26 -> 5 | BI26: ='OPINI Rinci v1'!BF373 -> 0 | BJ26: ='OPINI Rinci v1'!BG373 -> 2 | BK26: ='OPINI Rinci v1'!BH373 -> 6 | BL26: ='OPINI Rinci v1'!BI373 -> 2 | BM26: ='OPINI Rinci v1'!BJ373 -> 10 | BN26: ='OPINI Rinci v1'!BK373 -> 0 | BO26: ='OPINI Rinci v1'!BL373 -> 3 | BP26: ='OPINI Rinci v1'!BM373 -> 4 | ... CG26: ='OPINI Rinci v1'!CD373 -> 8
B27: 21 | D27: PROV KALTARA | F27: 0 | G27: 6 | H27: ='OPINI Rinci v1'!H386 -> 6 | I27: ='OPINI Rinci v1'!I386 -> 0 | J27: ='OPINI Rinci v1'!J386 -> 0 | K27: ='OPINI Rinci v1'!K386 -> 0 | L27: =SUM(H27:K27) -> 6 | M27: ='OPINI Rinci v1'!M386 -> 4 | N27: ='OPINI Rinci v1'!N386 -> 2 | O27: ='OPINI Rinci v1'!O386 -> 0 | P27: ='OPINI Rinci v1'!P386 -> 0 | Q27: =SUM(M27:P27) -> 6 | R27: ='OPINI Rinci v1'!R386 -> 3 | S27: ='OPINI Rinci v1'!S386 -> 3 | T27: ='OPINI Rinci v1'!T386 -> 0 | U27: ='OPINI Rinci v1'!U386 -> 0 | V27: =SUM(R27:U27) -> 6 | W27: ='OPINI Rinci v1'!W386 -> 3 | X27: ='OPINI Rinci v1'!X386 -> 3 | Y27: ='OPINI Rinci v1'!Y386 -> 0 | Z27: ='OPINI Rinci v1'!Z386 -> 0 | AA27: =SUM(W27:Z27) -> 6 | AB27: ='OPINI Rinci v1'!AB386 -> 3 | AC27: ='OPINI Rinci v1'!AC386 -> 3 | AD27: ='OPINI Rinci v1'!AD386 -> 0 | AE27: ='OPINI Rinci v1'!AE386 -> 0 | AF27: =SUM(AB27:AE27) -> 6 | AG27: ='OPINI Rinci v1'!AG386 -> 3 | AH27: ='OPINI Rinci v1'!AH386 -> 3 | AI27: ='OPINI Rinci v1'!AI386 -> 0 | AJ27: ='OPINI Rinci v1'!AJ386 -> 0 | AK27: =SUM(AG27:AJ27) -> 6 | AL27: ='OPINI Rinci v1'!AL386 -> 1 | AM27: ='OPINI Rinci v1'!AM386 -> 4 | AN27: ='OPINI Rinci v1'!AN386 -> 0 | AO27: ='OPINI Rinci v1'!AO386 -> 0 | AP27: =SUM(AL27:AO27) -> 5 | AQ27: ='OPINI Rinci v1'!AQ386 -> 1 | AR27: ='OPINI Rinci v1'!AR386 -> 4 | AS27: ='OPINI Rinci v1'!AS386 -> 0 | AT27: ='OPINI Rinci v1'!AT386 -> 0 | AU27: =SUM(AQ27:AT27) -> 5 | AV27: =F27-AU27 -> -5 | AW27: ='OPINI Rinci v1'!AV386 -> 0 | AX27: ='OPINI Rinci v1'!AW386 -> 4 | AY27: ='OPINI Rinci v1'!AX386 -> 0 | AZ27: ='OPINI Rinci v1'!AY386 -> 1 | BA27: =SUM(AW27:AZ27) -> 5 | BB27: =F27-BA27 -> -5 | BC27: ='OPINI Rinci v1'!BA386 -> 0 | BD27: ='OPINI Rinci v1'!BB386 -> 1 | BE27: ='OPINI Rinci v1'!BC386 -> 3 | BF27: ='OPINI Rinci v1'!BD386 -> 1 | BG27: =SUM(BC27:BF27) -> 5 | BH27: =F27-BG27 -> -5 | BI27: ='OPINI Rinci v1'!BF386 -> 0 | BJ27: ='OPINI Rinci v1'!BG386 -> 2 | BK27: ='OPINI Rinci v1'!BH386 -> 2 | BL27: ='OPINI Rinci v1'!BI386 -> 1 | BM27: ='OPINI Rinci v1'!BJ386 -> 5 | BN27: ='OPINI Rinci v1'!BK386 -> 0 | BO27: ='OPINI Rinci v1'!BL386 -> 2 | BP27: ='OPINI Rinci v1'!BM386 -> 2 | ... CG27: ='OPINI Rinci v1'!CD386 -> 3
B28: 22 | D28: PROV SULUT | F28: 16 | G28: 16 | H28: ='OPINI Rinci v1'!H394 -> 15 | I28: ='OPINI Rinci v1'!I394 -> 1 | J28: ='OPINI Rinci v1'!J394 -> 0 | K28: ='OPINI Rinci v1'!K394 -> 0 | L28: =SUM(H28:K28) -> 16 | M28: ='OPINI Rinci v1'!M394 -> 15 | N28: ='OPINI Rinci v1'!N394 -> 0 | O28: ='OPINI Rinci v1'!O394 -> 0 | P28: ='OPINI Rinci v1'!P394 -> 1 | Q28: =SUM(M28:P28) -> 16 | R28: ='OPINI Rinci v1'!R394 -> 15 | S28: ='OPINI Rinci v1'!S394 -> 0 | T28: ='OPINI Rinci v1'!T394 -> 0 | U28: ='OPINI Rinci v1'!U394 -> 1 | V28: =SUM(R28:U28) -> 16 | W28: ='OPINI Rinci v1'!W394 -> 14 | X28: ='OPINI Rinci v1'!X394 -> 1 | Y28: ='OPINI Rinci v1'!Y394 -> 0 | Z28: ='OPINI Rinci v1'!Z394 -> 1 | AA28: =SUM(W28:Z28) -> 16 | AB28: ='OPINI Rinci v1'!AB394 -> 12 | AC28: ='OPINI Rinci v1'!AC394 -> 4 | AD28: ='OPINI Rinci v1'!AD394 -> 0 | AE28: ='OPINI Rinci v1'!AE394 -> 0 | AF28: =SUM(AB28:AE28) -> 16 | AG28: ='OPINI Rinci v1'!AG394 -> 10 | AH28: ='OPINI Rinci v1'!AH394 -> 6 | AI28: ='OPINI Rinci v1'!AI394 -> 0 | AJ28: ='OPINI Rinci v1'!AJ394 -> 0 | AK28: =SUM(AG28:AJ28) -> 16 | AL28: ='OPINI Rinci v1'!AL394 -> 5 | AM28: ='OPINI Rinci v1'!AM394 -> 7 | AN28: ='OPINI Rinci v1'!AN394 -> 4 | AO28: ='OPINI Rinci v1'!AO394 -> 0 | AP28: =SUM(AL28:AO28) -> 16 | AQ28: ='OPINI Rinci v1'!AQ394 -> 2 | AR28: ='OPINI Rinci v1'!AR394 -> 7 | AS28: ='OPINI Rinci v1'!AS394 -> 2 | AT28: ='OPINI Rinci v1'!AT394 -> 5 | AU28: =SUM(AQ28:AT28) -> 16 | AV28: =F28-AU28 -> 0 | AW28: ='OPINI Rinci v1'!AV394 -> 1 | AX28: ='OPINI Rinci v1'!AW394 -> 3 | AY28: ='OPINI Rinci v1'!AX394 -> 2 | AZ28: ='OPINI Rinci v1'!AY394 -> 10 | BA28: =SUM(AW28:AZ28) -> 16 | BB28: =F28-BA28 -> 0 | BC28: ='OPINI Rinci v1'!BA394 -> 1 | BD28: ='OPINI Rinci v1'!BB394 -> 2 | BE28: ='OPINI Rinci v1'!BC394 -> 6 | BF28: ='OPINI Rinci v1'!BD394 -> 7 | BG28: =SUM(BC28:BF28) -> 16 | BH28: =F28-BG28 -> 0 | BI28: ='OPINI Rinci v1'!BF394 -> 1 | BJ28: ='OPINI Rinci v1'!BG394 -> 9 | BK28: ='OPINI Rinci v1'!BH394 -> 4 | BL28: ='OPINI Rinci v1'!BI394 -> 2 | BM28: ='OPINI Rinci v1'!BJ394 -> 16 | BN28: ='OPINI Rinci v1'!BK394 -> 0 | BO28: ='OPINI Rinci v1'!BL394 -> 10 | BP28: ='OPINI Rinci v1'!BM394 -> 2 | ... CG28: ='OPINI Rinci v1'!CD394 -> 8
B29: 23 | D29: PROV GORONTALO | F29: 7 | G29: 7 | H29: ='OPINI Rinci v1'!H412 -> 6 | I29: ='OPINI Rinci v1'!I412 -> 0 | J29: ='OPINI Rinci v1'!J412 -> 0 | K29: ='OPINI Rinci v1'!K412 -> 0 | L29: =SUM(H29:K29) -> 6 | M29: ='OPINI Rinci v1'!M412 -> 7 | N29: ='OPINI Rinci v1'!N412 -> 0 | O29: ='OPINI Rinci v1'!O412 -> 0 | P29: ='OPINI Rinci v1'!P412 -> 0 | Q29: =SUM(M29:P29) -> 7 | R29: ='OPINI Rinci v1'!R412 -> 7 | S29: ='OPINI Rinci v1'!S412 -> 0 | T29: ='OPINI Rinci v1'!T412 -> 0 | U29: ='OPINI Rinci v1'!U412 -> 0 | V29: =SUM(R29:U29) -> 7 | W29: ='OPINI Rinci v1'!W412 -> 5 | X29: ='OPINI Rinci v1'!X412 -> 2 | Y29: ='OPINI Rinci v1'!Y412 -> 0 | Z29: ='OPINI Rinci v1'!Z412 -> 0 | AA29: =SUM(W29:Z29) -> 7 | AB29: ='OPINI Rinci v1'!AB412 -> 7 | AC29: ='OPINI Rinci v1'!AC412 -> 0 | AD29: ='OPINI Rinci v1'!AD412 -> 0 | AE29: ='OPINI Rinci v1'!AE412 -> 0 | AF29: =SUM(AB29:AE29) -> 7 | AG29: ='OPINI Rinci v1'!AG412 -> 7 | AH29: ='OPINI Rinci v1'!AH412 -> 0 | AI29: ='OPINI Rinci v1'!AI412 -> 0 | AJ29: ='OPINI Rinci v1'!AJ412 -> 0 | AK29: =SUM(AG29:AJ29) -> 7 | AL29: ='OPINI Rinci v1'!AL412 -> 5 | AM29: ='OPINI Rinci v1'!AM412 -> 2 | AN29: ='OPINI Rinci v1'!AN412 -> 0 | AO29: ='OPINI Rinci v1'!AO412 -> 0 | AP29: =SUM(AL29:AO29) -> 7 | AQ29: ='OPINI Rinci v1'!AQ412 -> 1 | AR29: ='OPINI Rinci v1'!AR412 -> 6 | AS29: ='OPINI Rinci v1'!AS412 -> 0 | AT29: ='OPINI Rinci v1'!AT412 -> 0 | AU29: =SUM(AQ29:AT29) -> 7 | AV29: =F29-AU29 -> 0 | AW29: ='OPINI Rinci v1'!AV412 -> 0 | AX29: ='OPINI Rinci v1'!AW412 -> 7 | AY29: ='OPINI Rinci v1'!AX412 -> 0 | AZ29: ='OPINI Rinci v1'!AY412 -> 0 | BA29: =SUM(AW29:AZ29) -> 7 | BB29: =F29-BA29 -> 0 | BC29: ='OPINI Rinci v1'!BA412 -> 1 | BD29: ='OPINI Rinci v1'!BB412 -> 6 | BE29: ='OPINI Rinci v1'!BC412 -> 0 | BF29: ='OPINI Rinci v1'!BD412 -> 0 | BG29: =SUM(BC29:BF29) -> 7 | BH29: =F29-BG29 -> 0 | BI29: ='OPINI Rinci v1'!BF412 -> 1 | BJ29: ='OPINI Rinci v1'!BG412 -> 6 | BK29: ='OPINI Rinci v1'!BH412 -> 0 | BL29: ='OPINI Rinci v1'!BI412 -> 0 | BM29: ='OPINI Rinci v1'!BJ412 -> 7 | BN29: ='OPINI Rinci v1'!BK412 -> 0 | BO29: ='OPINI Rinci v1'!BL412 -> 5 | BP29: ='OPINI Rinci v1'!BM412 -> 0 | ... CG29: ='OPINI Rinci v1'!CD412 -> 6
B30: 24 | D30: PROV SULTENG | F30: 12 | G30: 14 | H30: ='OPINI Rinci v1'!H421 -> 13 | I30: ='OPINI Rinci v1'!I421 -> 0 | J30: ='OPINI Rinci v1'!J421 -> 0 | K30: ='OPINI Rinci v1'!K421 -> 0 | L30: =SUM(H30:K30) -> 13 | M30: ='OPINI Rinci v1'!M421 -> 10 | N30: ='OPINI Rinci v1'!N421 -> 4 | O30: ='OPINI Rinci v1'!O421 -> 0 | P30: ='OPINI Rinci v1'!P421 -> 0 | Q30: =SUM(M30:P30) -> 14 | R30: ='OPINI Rinci v1'!R421 -> 8 | S30: ='OPINI Rinci v1'!S421 -> 6 | T30: ='OPINI Rinci v1'!T421 -> 0 | U30: ='OPINI Rinci v1'!U421 -> 0 | V30: =SUM(R30:U30) -> 14 | W30: ='OPINI Rinci v1'!W421 -> 6 | X30: ='OPINI Rinci v1'!X421 -> 8 | Y30: ='OPINI Rinci v1'!Y421 -> 0 | Z30: ='OPINI Rinci v1'!Z421 -> 0 | AA30: =SUM(W30:Z30) -> 14 | AB30: ='OPINI Rinci v1'!AB421 -> 7 | AC30: ='OPINI Rinci v1'!AC421 -> 5 | AD30: ='OPINI Rinci v1'!AD421 -> 0 | AE30: ='OPINI Rinci v1'!AE421 -> 2 | AF30: =SUM(AB30:AE30) -> 14 | AG30: ='OPINI Rinci v1'!AG421 -> 6 | AH30: ='OPINI Rinci v1'!AH421 -> 6 | AI30: ='OPINI Rinci v1'!AI421 -> 0 | AJ30: ='OPINI Rinci v1'!AJ421 -> 2 | AK30: =SUM(AG30:AJ30) -> 14 | AL30: ='OPINI Rinci v1'!AL421 -> 4 | AM30: ='OPINI Rinci v1'!AM421 -> 8 | AN30: ='OPINI Rinci v1'!AN421 -> 0 | AO30: ='OPINI Rinci v1'!AO421 -> 0 | AP30: =SUM(AL30:AO30) -> 12 | AQ30: ='OPINI Rinci v1'!AQ421 -> 9 | AR30: ='OPINI Rinci v1'!AR421 -> 2 | AS30: ='OPINI Rinci v1'!AS421 -> 0 | AT30: ='OPINI Rinci v1'!AT421 -> 1 | AU30: =SUM(AQ30:AT30) -> 12 | AV30: =F30-AU30 -> 0 | AW30: ='OPINI Rinci v1'!AV421 -> 3 | AX30: ='OPINI Rinci v1'!AW421 -> 9 | AY30: ='OPINI Rinci v1'!AX421 -> 0 | AZ30: ='OPINI Rinci v1'!AY421 -> 0 | BA30: =SUM(AW30:AZ30) -> 12 | BB30: =F30-BA30 -> 0 | BC30: ='OPINI Rinci v1'!BA421 -> 0 | BD30: ='OPINI Rinci v1'!BB421 -> 10 | BE30: ='OPINI Rinci v1'!BC421 -> 0 | BF30: ='OPINI Rinci v1'!BD421 -> 2 | BG30: =SUM(BC30:BF30) -> 12 | BH30: =F30-BG30 -> 0 | BI30: ='OPINI Rinci v1'!BF421 -> 0 | BJ30: ='OPINI Rinci v1'!BG421 -> 4 | BK30: ='OPINI Rinci v1'!BH421 -> 0 | BL30: ='OPINI Rinci v1'!BI421 -> 8 | BM30: ='OPINI Rinci v1'!BJ421 -> 12 | BN30: ='OPINI Rinci v1'!BK421 -> 0 | BO30: ='OPINI Rinci v1'!BL421 -> 5 | BP30: ='OPINI Rinci v1'!BM421 -> 0 | ... CG30: ='OPINI Rinci v1'!CD421 -> 8
B31: 25 | D31: PROV SULSEL | F31: 25 | G31: 25 | H31: ='OPINI Rinci v1'!H437 -> 21 | I31: ='OPINI Rinci v1'!I437 -> 3 | J31: ='OPINI Rinci v1'!J437 -> 0 | K31: ='OPINI Rinci v1'!K437 -> 0 | L31: =SUM(H31:K31) -> 24 | M31: ='OPINI Rinci v1'!M437 -> 21 | N31: ='OPINI Rinci v1'!N437 -> 4 | O31: ='OPINI Rinci v1'!O437 -> 0 | P31: ='OPINI Rinci v1'!P437 -> 0 | Q31: =SUM(M31:P31) -> 25 | R31: ='OPINI Rinci v1'!R437 -> 21 | S31: ='OPINI Rinci v1'!S437 -> 4 | T31: ='OPINI Rinci v1'!T437 -> 0 | U31: ='OPINI Rinci v1'!U437 -> 0 | V31: =SUM(R31:U31) -> 25 | W31: ='OPINI Rinci v1'!W437 -> 22 | X31: ='OPINI Rinci v1'!X437 -> 3 | Y31: ='OPINI Rinci v1'!Y437 -> 0 | Z31: ='OPINI Rinci v1'!Z437 -> 0 | AA31: =SUM(W31:Z31) -> 25 | AB31: ='OPINI Rinci v1'!AB437 -> 17 | AC31: ='OPINI Rinci v1'!AC437 -> 5 | AD31: ='OPINI Rinci v1'!AD437 -> 2 | AE31: ='OPINI Rinci v1'!AE437 -> 1 | AF31: =SUM(AB31:AE31) -> 25 | AG31: ='OPINI Rinci v1'!AG437 -> 10 | AH31: ='OPINI Rinci v1'!AH437 -> 13 | AI31: ='OPINI Rinci v1'!AI437 -> 0 | AJ31: ='OPINI Rinci v1'!AJ437 -> 2 | AK31: =SUM(AG31:AJ31) -> 25 | AL31: ='OPINI Rinci v1'!AL437 -> 8 | AM31: ='OPINI Rinci v1'!AM437 -> 13 | AN31: ='OPINI Rinci v1'!AN437 -> 0 | AO31: ='OPINI Rinci v1'!AO437 -> 4 | AP31: =SUM(AL31:AO31) -> 25 | AQ31: ='OPINI Rinci v1'!AQ437 -> 7 | AR31: ='OPINI Rinci v1'!AR437 -> 12 | AS31: ='OPINI Rinci v1'!AS437 -> 0 | AT31: ='OPINI Rinci v1'!AT437 -> 6 | AU31: =SUM(AQ31:AT31) -> 25 | AV31: =F31-AU31 -> 0 | AW31: ='OPINI Rinci v1'!AV437 -> 3 | AX31: ='OPINI Rinci v1'!AW437 -> 16 | AY31: ='OPINI Rinci v1'!AX437 -> 0 | AZ31: ='OPINI Rinci v1'!AY437 -> 6 | BA31: =SUM(AW31:AZ31) -> 25 | BB31: =F31-BA31 -> 0 | BC31: ='OPINI Rinci v1'!BA437 -> 2 | BD31: ='OPINI Rinci v1'!BB437 -> 18 | BE31: ='OPINI Rinci v1'!BC437 -> 0 | BF31: ='OPINI Rinci v1'!BD437 -> 5 | BG31: =SUM(BC31:BF31) -> 25 | BH31: =F31-BG31 -> 0 | BI31: ='OPINI Rinci v1'!BF437 -> 0 | BJ31: ='OPINI Rinci v1'!BG437 -> 23 | BK31: ='OPINI Rinci v1'!BH437 -> 0 | BL31: ='OPINI Rinci v1'!BI437 -> 2 | BM31: ='OPINI Rinci v1'!BJ437 -> 25 | BN31: ='OPINI Rinci v1'!BK437 -> 0 | BO31: ='OPINI Rinci v1'!BL437 -> 20 | BP31: ='OPINI Rinci v1'!BM437 -> 0 | ... CG31: ='OPINI Rinci v1'!CD437 -> 20
B32: 26 | D32: PROV SULBAR | F32: 6 | G32: 7 | H32: ='OPINI Rinci v1'!H464 -> 6 | I32: ='OPINI Rinci v1'!I464 -> 0 | J32: ='OPINI Rinci v1'!J464 -> 0 | K32: ='OPINI Rinci v1'!K464 -> 0 | L32: =SUM(H32:K32) -> 6 | M32: ='OPINI Rinci v1'!M464 -> 7 | N32: ='OPINI Rinci v1'!N464 -> 0 | O32: ='OPINI Rinci v1'!O464 -> 0 | P32: ='OPINI Rinci v1'!P464 -> 0 | Q32: =SUM(M32:P32) -> 7 | R32: ='OPINI Rinci v1'!R464 -> 7 | S32: ='OPINI Rinci v1'!S464 -> 0 | T32: ='OPINI Rinci v1'!T464 -> 0 | U32: ='OPINI Rinci v1'!U464 -> 0 | V32: =SUM(R32:U32) -> 7 | W32: ='OPINI Rinci v1'!W464 -> 6 | X32: ='OPINI Rinci v1'!X464 -> 1 | Y32: ='OPINI Rinci v1'!Y464 -> 0 | Z32: ='OPINI Rinci v1'!Z464 -> 0 | AA32: =SUM(W32:Z32) -> 7 | AB32: ='OPINI Rinci v1'!AB464 -> 6 | AC32: ='OPINI Rinci v1'!AC464 -> 1 | AD32: ='OPINI Rinci v1'!AD464 -> 0 | AE32: ='OPINI Rinci v1'!AE464 -> 0 | AF32: =SUM(AB32:AE32) -> 7 | AG32: ='OPINI Rinci v1'!AG464 -> 2 | AH32: ='OPINI Rinci v1'!AH464 -> 5 | AI32: ='OPINI Rinci v1'!AI464 -> 0 | AJ32: ='OPINI Rinci v1'!AJ464 -> 0 | AK32: =SUM(AG32:AJ32) -> 7 | AL32: ='OPINI Rinci v1'!AL464 -> 1 | AM32: ='OPINI Rinci v1'!AM464 -> 4 | AN32: ='OPINI Rinci v1'!AN464 -> 0 | AO32: ='OPINI Rinci v1'!AO464 -> 1 | AP32: =SUM(AL32:AO32) -> 6 | AQ32: ='OPINI Rinci v1'!AQ464 -> 1 | AR32: ='OPINI Rinci v1'!AR464 -> 4 | AS32: ='OPINI Rinci v1'!AS464 -> 0 | AT32: ='OPINI Rinci v1'!AT464 -> 1 | AU32: =SUM(AQ32:AT32) -> 6 | AV32: =F32-AU32 -> 0 | AW32: ='OPINI Rinci v1'!AV464 -> 0 | AX32: ='OPINI Rinci v1'!AW464 -> 6 | AY32: ='OPINI Rinci v1'!AX464 -> 0 | AZ32: ='OPINI Rinci v1'!AY464 -> 0 | BA32: =SUM(AW32:AZ32) -> 6 | BB32: =F32-BA32 -> 0 | BC32: ='OPINI Rinci v1'!BA464 -> 0 | BD32: ='OPINI Rinci v1'!BB464 -> 6 | BE32: ='OPINI Rinci v1'!BC464 -> 0 | BF32: ='OPINI Rinci v1'!BD464 -> 0 | BG32: =SUM(BC32:BF32) -> 6 | BH32: =F32-BG32 -> 0 | BI32: ='OPINI Rinci v1'!BF464 -> 0 | BJ32: ='OPINI Rinci v1'!BG464 -> 6 | BK32: ='OPINI Rinci v1'!BH464 -> 0 | BL32: ='OPINI Rinci v1'!BI464 -> 0 | BM32: ='OPINI Rinci v1'!BJ464 -> 6 | BN32: ='OPINI Rinci v1'!BK464 -> 0 | BO32: ='OPINI Rinci v1'!BL464 -> 4 | BP32: ='OPINI Rinci v1'!BM464 -> 0 | ... CG32: ='OPINI Rinci v1'!CD464 -> 4
B33: 27 | D33: PROV SULTRA | F33: 13 | G33: 18 | H33: ='OPINI Rinci v1'!H473 -> 12 | I33: ='OPINI Rinci v1'!I473 -> 0 | J33: ='OPINI Rinci v1'!J473 -> 0 | K33: ='OPINI Rinci v1'!K473 -> 0 | L33: =SUM(H33:K33) -> 12 | M33: ='OPINI Rinci v1'!M473 -> 17 | N33: ='OPINI Rinci v1'!N473 -> 1 | O33: ='OPINI Rinci v1'!O473 -> 0 | P33: ='OPINI Rinci v1'!P473 -> 0 | Q33: =SUM(M33:P33) -> 18 | R33: ='OPINI Rinci v1'!R473 -> 15 | S33: ='OPINI Rinci v1'!S473 -> 3 | T33: ='OPINI Rinci v1'!T473 -> 0 | U33: ='OPINI Rinci v1'!U473 -> 0 | V33: =SUM(R33:U33) -> 18 | W33: ='OPINI Rinci v1'!W473 -> 12 | X33: ='OPINI Rinci v1'!X473 -> 6 | Y33: ='OPINI Rinci v1'!Y473 -> 0 | Z33: ='OPINI Rinci v1'!Z473 -> 0 | AA33: =SUM(W33:Z33) -> 18 | AB33: ='OPINI Rinci v1'!AB473 -> 8 | AC33: ='OPINI Rinci v1'!AC473 -> 9 | AD33: ='OPINI Rinci v1'!AD473 -> 1 | AE33: ='OPINI Rinci v1'!AE473 -> 0 | AF33: =SUM(AB33:AE33) -> 18 | AG33: ='OPINI Rinci v1'!AG473 -> 6 | AH33: ='OPINI Rinci v1'!AH473 -> 9 | AI33: ='OPINI Rinci v1'!AI473 -> 0 | AJ33: ='OPINI Rinci v1'!AJ473 -> 0 | AK33: =SUM(AG33:AJ33) -> 15 | AL33: ='OPINI Rinci v1'!AL473 -> 4 | AM33: ='OPINI Rinci v1'!AM473 -> 9 | AN33: ='OPINI Rinci v1'!AN473 -> 0 | AO33: ='OPINI Rinci v1'!AO473 -> 0 | AP33: =SUM(AL33:AO33) -> 13 | AQ33: ='OPINI Rinci v1'!AQ473 -> 0 | AR33: ='OPINI Rinci v1'!AR473 -> 11 | AS33: ='OPINI Rinci v1'!AS473 -> 0 | AT33: ='OPINI Rinci v1'!AT473 -> 2 | AU33: =SUM(AQ33:AT33) -> 13 | AV33: =F33-AU33 -> 0 | AW33: ='OPINI Rinci v1'!AV473 -> 0 | AX33: ='OPINI Rinci v1'!AW473 -> 10 | AY33: ='OPINI Rinci v1'!AX473 -> 0 | AZ33: ='OPINI Rinci v1'!AY473 -> 3 | BA33: =SUM(AW33:AZ33) -> 13 | BB33: =F33-BA33 -> 0 | BC33: ='OPINI Rinci v1'!BA473 -> 1 | BD33: ='OPINI Rinci v1'!BB473 -> 5 | BE33: ='OPINI Rinci v1'!BC473 -> 0 | BF33: ='OPINI Rinci v1'!BD473 -> 7 | BG33: =SUM(BC33:BF33) -> 13 | BH33: =F33-BG33 -> 0 | BI33: ='OPINI Rinci v1'!BF473 -> 0 | BJ33: ='OPINI Rinci v1'!BG473 -> 3 | BK33: ='OPINI Rinci v1'!BH473 -> 2 | BL33: ='OPINI Rinci v1'!BI473 -> 8 | BM33: ='OPINI Rinci v1'!BJ473 -> 13 | BN33: ='OPINI Rinci v1'!BK473 -> 0 | BO33: ='OPINI Rinci v1'!BL473 -> 1 | BP33: ='OPINI Rinci v1'!BM473 -> 4 | ... CG33: ='OPINI Rinci v1'!CD473 -> 8
B34: 28 | D34: PROV BALI | F34: 10 | G34: 10 | H34: ='OPINI Rinci v1'!H493 -> 9 | I34: ='OPINI Rinci v1'!I493 -> 0 | J34: ='OPINI Rinci v1'!J493 -> 0 | K34: ='OPINI Rinci v1'!K493 -> 0 | L34: =SUM(H34:K34) -> 9 | M34: ='OPINI Rinci v1'!M493 -> 10 | N34: ='OPINI Rinci v1'!N493 -> 0 | O34: ='OPINI Rinci v1'!O493 -> 0 | P34: ='OPINI Rinci v1'!P493 -> 0 | Q34: =SUM(M34:P34) -> 10 | R34: ='OPINI Rinci v1'!R493 -> 10 | S34: ='OPINI Rinci v1'!S493 -> 0 | T34: ='OPINI Rinci v1'!T493 -> 0 | U34: ='OPINI Rinci v1'!U493 -> 0 | V34: =SUM(R34:U34) -> 10 | W34: ='OPINI Rinci v1'!W493 -> 10 | X34: ='OPINI Rinci v1'!X493 -> 0 | Y34: ='OPINI Rinci v1'!Y493 -> 0 | Z34: ='OPINI Rinci v1'!Z493 -> 0 | AA34: =SUM(W34:Z34) -> 10 | AB34: ='OPINI Rinci v1'!AB493 -> 9 | AC34: ='OPINI Rinci v1'!AC493 -> 1 | AD34: ='OPINI Rinci v1'!AD493 -> 0 | AE34: ='OPINI Rinci v1'!AE493 -> 0 | AF34: =SUM(AB34:AE34) -> 10 | AG34: ='OPINI Rinci v1'!AG493 -> 7 | AH34: ='OPINI Rinci v1'!AH493 -> 3 | AI34: ='OPINI Rinci v1'!AI493 -> 0 | AJ34: ='OPINI Rinci v1'!AJ493 -> 0 | AK34: =SUM(AG34:AJ34) -> 10 | AL34: ='OPINI Rinci v1'!AL493 -> 2 | AM34: ='OPINI Rinci v1'!AM493 -> 6 | AN34: ='OPINI Rinci v1'!AN493 -> 1 | AO34: ='OPINI Rinci v1'!AO493 -> 1 | AP34: =SUM(AL34:AO34) -> 10 | AQ34: ='OPINI Rinci v1'!AQ493 -> 2 | AR34: ='OPINI Rinci v1'!AR493 -> 7 | AS34: ='OPINI Rinci v1'!AS493 -> 0 | AT34: ='OPINI Rinci v1'!AT493 -> 1 | AU34: =SUM(AQ34:AT34) -> 10 | AV34: =F34-AU34 -> 0 | AW34: ='OPINI Rinci v1'!AV493 -> 1 | AX34: ='OPINI Rinci v1'!AW493 -> 9 | AY34: ='OPINI Rinci v1'!AX493 -> 0 | AZ34: ='OPINI Rinci v1'!AY493 -> 0 | BA34: =SUM(AW34:AZ34) -> 10 | BB34: =F34-BA34 -> 0 | BC34: ='OPINI Rinci v1'!BA493 -> 0 | BD34: ='OPINI Rinci v1'!BB493 -> 7 | BE34: ='OPINI Rinci v1'!BC493 -> 1 | BF34: ='OPINI Rinci v1'!BD493 -> 2 | BG34: =SUM(BC34:BF34) -> 10 | BH34: =F34-BG34 -> 0 | BI34: ='OPINI Rinci v1'!BF493 -> 0 | BJ34: ='OPINI Rinci v1'!BG493 -> 9 | BK34: ='OPINI Rinci v1'!BH493 -> 1 | BL34: ='OPINI Rinci v1'!BI493 -> 0 | BM34: ='OPINI Rinci v1'!BJ493 -> 10 | BN34: ='OPINI Rinci v1'!BK493 -> 0 | BO34: ='OPINI Rinci v1'!BL493 -> 7 | BP34: ='OPINI Rinci v1'!BM493 -> 0 | ... CG34: ='OPINI Rinci v1'!CD493 -> 10
B35: 29 | D35: PROV NTB | F35: 11 | G35: 11 | H35: ='OPINI Rinci v1'!H505 -> 11 | I35: ='OPINI Rinci v1'!I505 -> 0 | J35: ='OPINI Rinci v1'!J505 -> 0 | K35: ='OPINI Rinci v1'!K505 -> 0 | L35: =SUM(H35:K35) -> 11 | M35: ='OPINI Rinci v1'!M505 -> 11 | N35: ='OPINI Rinci v1'!N505 -> 0 | O35: ='OPINI Rinci v1'!O505 -> 0 | P35: ='OPINI Rinci v1'!P505 -> 0 | Q35: =SUM(M35:P35) -> 11 | R35: ='OPINI Rinci v1'!R505 -> 11 | S35: ='OPINI Rinci v1'!S505 -> 0 | T35: ='OPINI Rinci v1'!T505 -> 0 | U35: ='OPINI Rinci v1'!U505 -> 0 | V35: =SUM(R35:U35) -> 11 | W35: ='OPINI Rinci v1'!W505 -> 11 | X35: ='OPINI Rinci v1'!X505 -> 0 | Y35: ='OPINI Rinci v1'!Y505 -> 0 | Z35: ='OPINI Rinci v1'!Z505 -> 0 | AA35: =SUM(W35:Z35) -> 11 | AB35: ='OPINI Rinci v1'!AB505 -> 10 | AC35: ='OPINI Rinci v1'!AC505 -> 1 | AD35: ='OPINI Rinci v1'!AD505 -> 0 | AE35: ='OPINI Rinci v1'!AE505 -> 0 | AF35: =SUM(AB35:AE35) -> 11 | AG35: ='OPINI Rinci v1'!AG505 -> 9 | AH35: ='OPINI Rinci v1'!AH505 -> 2 | AI35: ='OPINI Rinci v1'!AI505 -> 0 | AJ35: ='OPINI Rinci v1'!AJ505 -> 0 | AK35: =SUM(AG35:AJ35) -> 11 | AL35: ='OPINI Rinci v1'!AL505 -> 3 | AM35: ='OPINI Rinci v1'!AM505 -> 8 | AN35: ='OPINI Rinci v1'!AN505 -> 0 | AO35: ='OPINI Rinci v1'!AO505 -> 0 | AP35: =SUM(AL35:AO35) -> 11 | AQ35: ='OPINI Rinci v1'!AQ505 -> 3 | AR35: ='OPINI Rinci v1'!AR505 -> 8 | AS35: ='OPINI Rinci v1'!AS505 -> 0 | AT35: ='OPINI Rinci v1'!AT505 -> 0 | AU35: =SUM(AQ35:AT35) -> 11 | AV35: =F35-AU35 -> 0 | AW35: ='OPINI Rinci v1'!AV505 -> 1 | AX35: ='OPINI Rinci v1'!AW505 -> 8 | AY35: ='OPINI Rinci v1'!AX505 -> 0 | AZ35: ='OPINI Rinci v1'!AY505 -> 2 | BA35: =SUM(AW35:AZ35) -> 11 | BB35: =F35-BA35 -> 0 | BC35: ='OPINI Rinci v1'!BA505 -> 0 | BD35: ='OPINI Rinci v1'!BB505 -> 8 | BE35: ='OPINI Rinci v1'!BC505 -> 0 | BF35: ='OPINI Rinci v1'!BD505 -> 3 | BG35: =SUM(BC35:BF35) -> 11 | BH35: =F35-BG35 -> 0 | BI35: ='OPINI Rinci v1'!BF505 -> 0 | BJ35: ='OPINI Rinci v1'!BG505 -> 9 | BK35: ='OPINI Rinci v1'!BH505 -> 0 | BL35: ='OPINI Rinci v1'!BI505 -> 2 | BM35: ='OPINI Rinci v1'!BJ505 -> 11 | BN35: ='OPINI Rinci v1'!BK505 -> 0 | BO35: ='OPINI Rinci v1'!BL505 -> 8 | BP35: ='OPINI Rinci v1'!BM505 -> 0 | ... CG35: ='OPINI Rinci v1'!CD505 -> 7
B36: 30 | D36: PROV NTT | F36: 22 | G36: 23 | H36: ='OPINI Rinci v1'!H518 -> 3 | I36: ='OPINI Rinci v1'!I518 -> 0 | J36: ='OPINI Rinci v1'!J518 -> 0 | K36: ='OPINI Rinci v1'!K518 -> 0 | L36: =SUM(H36:K36) -> 3 | M36: ='OPINI Rinci v1'!M518 -> 8 | N36: ='OPINI Rinci v1'!N518 -> 15 | O36: ='OPINI Rinci v1'!O518 -> 0 | P36: ='OPINI Rinci v1'!P518 -> 0 | Q36: =SUM(M36:P36) -> 23 | R36: ='OPINI Rinci v1'!R518 -> 2 | S36: ='OPINI Rinci v1'!S518 -> 21 | T36: ='OPINI Rinci v1'!T518 -> 0 | U36: ='OPINI Rinci v1'!U518 -> 0 | V36: =SUM(R36:U36) -> 23 | W36: ='OPINI Rinci v1'!W518 -> 3 | X36: ='OPINI Rinci v1'!X518 -> 20 | Y36: ='OPINI Rinci v1'!Y518 -> 0 | Z36: ='OPINI Rinci v1'!Z518 -> 0 | AA36: =SUM(W36:Z36) -> 23 | AB36: ='OPINI Rinci v1'!AB518 -> 2 | AC36: ='OPINI Rinci v1'!AC518 -> 19 | AD36: ='OPINI Rinci v1'!AD518 -> 0 | AE36: ='OPINI Rinci v1'!AE518 -> 2 | AF36: =SUM(AB36:AE36) -> 23 | AG36: ='OPINI Rinci v1'!AG518 -> 0 | AH36: ='OPINI Rinci v1'!AH518 -> 22 | AI36: ='OPINI Rinci v1'!AI518 -> 0 | AJ36: ='OPINI Rinci v1'!AJ518 -> 1 | AK36: =SUM(AG36:AJ36) -> 23 | AL36: ='OPINI Rinci v1'!AL518 -> 0 | AM36: ='OPINI Rinci v1'!AM518 -> 20 | AN36: ='OPINI Rinci v1'!AN518 -> 0 | AO36: ='OPINI Rinci v1'!AO518 -> 2 | AP36: =SUM(AL36:AO36) -> 22 | AQ36: ='OPINI Rinci v1'!AQ518 -> 0 | AR36: ='OPINI Rinci v1'!AR518 -> 18 | AS36: ='OPINI Rinci v1'!AS518 -> 0 | AT36: ='OPINI Rinci v1'!AT518 -> 4 | AU36: =SUM(AQ36:AT36) -> 22 | AV36: =F36-AU36 -> 0 | AW36: ='OPINI Rinci v1'!AV518 -> 0 | AX36: ='OPINI Rinci v1'!AW518 -> 15 | AY36: ='OPINI Rinci v1'!AX518 -> 0 | AZ36: ='OPINI Rinci v1'!AY518 -> 7 | BA36: =SUM(AW36:AZ36) -> 22 | BB36: =F36-BA36 -> 0 | BC36: ='OPINI Rinci v1'!BA518 -> 0 | BD36: ='OPINI Rinci v1'!BB518 -> 8 | BE36: ='OPINI Rinci v1'!BC518 -> 0 | BF36: ='OPINI Rinci v1'!BD518 -> 14 | BG36: =SUM(BC36:BF36) -> 22 | BH36: =F36-BG36 -> 0 | BI36: ='OPINI Rinci v1'!BF518 -> 0 | BJ36: ='OPINI Rinci v1'!BG518 -> 4 | BK36: ='OPINI Rinci v1'!BH518 -> 0 | BL36: ='OPINI Rinci v1'!BI518 -> 17 | BM36: ='OPINI Rinci v1'!BJ518 -> 21 | BN36: ='OPINI Rinci v1'!BK518 -> 0 | BO36: ='OPINI Rinci v1'!BL518 -> 19 | BP36: ='OPINI Rinci v1'!BM518 -> 0 | ... CG36: ='OPINI Rinci v1'!CD518 -> 14
B37: 31 | D37: PROV MALUKU | F37: 12 | G37: 12 | H37: ='OPINI Rinci v1'!H543 -> 0 | I37: ='OPINI Rinci v1'!I543 -> 0 | J37: ='OPINI Rinci v1'!J543 -> 0 | K37: ='OPINI Rinci v1'!K543 -> 0 | L37: =SUM(H37:K37) -> 0 | M37: ='OPINI Rinci v1'!M543 -> 6 | N37: ='OPINI Rinci v1'!N543 -> 5 | O37: ='OPINI Rinci v1'!O543 -> 0 | P37: ='OPINI Rinci v1'!P543 -> 1 | Q37: =SUM(M37:P37) -> 12 | R37: ='OPINI Rinci v1'!R543 -> 5 | S37: ='OPINI Rinci v1'!S543 -> 7 | T37: ='OPINI Rinci v1'!T543 -> 0 | U37: ='OPINI Rinci v1'!U543 -> 0 | V37: =SUM(R37:U37) -> 12 | W37: ='OPINI Rinci v1'!W543 -> 4 | X37: ='OPINI Rinci v1'!X543 -> 5 | Y37: ='OPINI Rinci v1'!Y543 -> 0 | Z37: ='OPINI Rinci v1'!Z543 -> 3 | AA37: =SUM(W37:Z37) -> 12 | AB37: ='OPINI Rinci v1'!AB543 -> 4 | AC37: ='OPINI Rinci v1'!AC543 -> 5 | AD37: ='OPINI Rinci v1'!AD543 -> 0 | AE37: ='OPINI Rinci v1'!AE543 -> 3 | AF37: =SUM(AB37:AE37) -> 12 | AG37: ='OPINI Rinci v1'!AG543 -> 0 | AH37: ='OPINI Rinci v1'!AH543 -> 8 | AI37: ='OPINI Rinci v1'!AI543 -> 0 | AJ37: ='OPINI Rinci v1'!AJ543 -> 4 | AK37: =SUM(AG37:AJ37) -> 12 | AL37: ='OPINI Rinci v1'!AL543 -> 0 | AM37: ='OPINI Rinci v1'!AM543 -> 7 | AN37: ='OPINI Rinci v1'!AN543 -> 0 | AO37: ='OPINI Rinci v1'!AO543 -> 5 | AP37: =SUM(AL37:AO37) -> 12 | AQ37: ='OPINI Rinci v1'!AQ543 -> 0 | AR37: ='OPINI Rinci v1'!AR543 -> 2 | AS37: ='OPINI Rinci v1'!AS543 -> 0 | AT37: ='OPINI Rinci v1'!AT543 -> 10 | AU37: =SUM(AQ37:AT37) -> 12 | AV37: =F37-AU37 -> 0 | AW37: ='OPINI Rinci v1'!AV543 -> 0 | AX37: ='OPINI Rinci v1'!AW543 -> 1 | AY37: ='OPINI Rinci v1'!AX543 -> 0 | AZ37: ='OPINI Rinci v1'!AY543 -> 11 | BA37: =SUM(AW37:AZ37) -> 12 | BB37: =F37-BA37 -> 0 | BC37: ='OPINI Rinci v1'!BA543 -> 0 | BD37: ='OPINI Rinci v1'!BB543 -> 0 | BE37: ='OPINI Rinci v1'!BC543 -> 0 | BF37: ='OPINI Rinci v1'!BD543 -> 12 | BG37: =SUM(BC37:BF37) -> 12 | BH37: =F37-BG37 -> 0 | BI37: ='OPINI Rinci v1'!BF543 -> 0 | BJ37: ='OPINI Rinci v1'!BG543 -> 0 | BK37: ='OPINI Rinci v1'!BH543 -> 0 | BL37: ='OPINI Rinci v1'!BI543 -> 12 | BM37: ='OPINI Rinci v1'!BJ543 -> 12 | BN37: ='OPINI Rinci v1'!BK543 -> 0 | BO37: ='OPINI Rinci v1'!BL543 -> 0 | BP37: ='OPINI Rinci v1'!BM543 -> 0 | ... CG37: ='OPINI Rinci v1'!CD543 -> 4
B38: 32 | D38: PROV MALUT | F38: 10 | G38: 11 | H38: ='OPINI Rinci v1'!H557 -> 9 | I38: ='OPINI Rinci v1'!I557 -> 0 | J38: ='OPINI Rinci v1'!J557 -> 0 | K38: ='OPINI Rinci v1'!K557 -> 0 | L38: =SUM(H38:K38) -> 9 | M38: ='OPINI Rinci v1'!M557 -> 9 | N38: ='OPINI Rinci v1'!N557 -> 2 | O38: ='OPINI Rinci v1'!O557 -> 0 | P38: ='OPINI Rinci v1'!P557 -> 0 | Q38: =SUM(M38:P38) -> 11 | R38: ='OPINI Rinci v1'!R557 -> 7 | S38: ='OPINI Rinci v1'!S557 -> 4 | T38: ='OPINI Rinci v1'!T557 -> 0 | U38: ='OPINI Rinci v1'!U557 -> 0 | V38: =SUM(R38:U38) -> 11 | W38: ='OPINI Rinci v1'!W557 -> 6 | X38: ='OPINI Rinci v1'!X557 -> 4 | Y38: ='OPINI Rinci v1'!Y557 -> 0 | Z38: ='OPINI Rinci v1'!Z557 -> 1 | AA38: =SUM(W38:Z38) -> 11 | AB38: ='OPINI Rinci v1'!AB557 -> 3 | AC38: ='OPINI Rinci v1'!AC557 -> 6 | AD38: ='OPINI Rinci v1'!AD557 -> 1 | AE38: ='OPINI Rinci v1'!AE557 -> 1 | AF38: =SUM(AB38:AE38) -> 11 | AG38: ='OPINI Rinci v1'!AG557 -> 3 | AH38: ='OPINI Rinci v1'!AH557 -> 7 | AI38: ='OPINI Rinci v1'!AI557 -> 1 | AJ38: ='OPINI Rinci v1'!AJ557 -> 0 | AK38: =SUM(AG38:AJ38) -> 11 | AL38: ='OPINI Rinci v1'!AL557 -> 0 | AM38: ='OPINI Rinci v1'!AM557 -> 7 | AN38: ='OPINI Rinci v1'!AN557 -> 1 | AO38: ='OPINI Rinci v1'!AO557 -> 2 | AP38: =SUM(AL38:AO38) -> 10 | AQ38: ='OPINI Rinci v1'!AQ557 -> 0 | AR38: ='OPINI Rinci v1'!AR557 -> 7 | AS38: ='OPINI Rinci v1'!AS557 -> 0 | AT38: ='OPINI Rinci v1'!AT557 -> 3 | AU38: =SUM(AQ38:AT38) -> 10 | AV38: =F38-AU38 -> 0 | AW38: ='OPINI Rinci v1'!AV557 -> 0 | AX38: ='OPINI Rinci v1'!AW557 -> 3 | AY38: ='OPINI Rinci v1'!AX557 -> 0 | AZ38: ='OPINI Rinci v1'!AY557 -> 7 | BA38: =SUM(AW38:AZ38) -> 10 | BB38: =F38-BA38 -> 0 | BC38: ='OPINI Rinci v1'!BA557 -> 0 | BD38: ='OPINI Rinci v1'!BB557 -> 1 | BE38: ='OPINI Rinci v1'!BC557 -> 0 | BF38: ='OPINI Rinci v1'!BD557 -> 9 | BG38: =SUM(BC38:BF38) -> 10 | BH38: =F38-BG38 -> 0 | BI38: ='OPINI Rinci v1'!BF557 -> 0 | BJ38: ='OPINI Rinci v1'!BG557 -> 1 | BK38: ='OPINI Rinci v1'!BH557 -> 8 | BL38: ='OPINI Rinci v1'!BI557 -> 0 | BM38: ='OPINI Rinci v1'!BJ557 -> 9 | BN38: ='OPINI Rinci v1'!BK557 -> 0 | BO38: ='OPINI Rinci v1'!BL557 -> 0 | BP38: ='OPINI Rinci v1'!BM557 -> 0 | ... CG38: ='OPINI Rinci v1'!CD557 -> 1
B39: 33 | D39: PROV PAPUA | F39: 30 | G39: 30 | H39: ='OPINI Rinci v1'!H570 -> 6 | I39: ='OPINI Rinci v1'!I570 -> 0 | J39: ='OPINI Rinci v1'!J570 -> 0 | K39: ='OPINI Rinci v1'!K570 -> 0 | L39: =SUM(H39:K39) -> 6 | M39: ='OPINI Rinci v1'!M570 -> 11 | N39: ='OPINI Rinci v1'!N570 -> 11 | O39: ='OPINI Rinci v1'!O570 -> 0 | P39: ='OPINI Rinci v1'!P570 -> 8 | Q39: =SUM(M39:P39) -> 30 | R39: ='OPINI Rinci v1'!R570 -> 9 | S39: ='OPINI Rinci v1'!S570 -> 11 | T39: ='OPINI Rinci v1'!T570 -> 0 | U39: ='OPINI Rinci v1'!U570 -> 10 | V39: =SUM(R39:U39) -> 30 | W39: ='OPINI Rinci v1'!W570 -> 9 | X39: ='OPINI Rinci v1'!X570 -> 9 | Y39: ='OPINI Rinci v1'!Y570 -> 0 | Z39: ='OPINI Rinci v1'!Z570 -> 12 | AA39: =SUM(W39:Z39) -> 30 | AB39: ='OPINI Rinci v1'!AB570 -> 8 | AC39: ='OPINI Rinci v1'!AC570 -> 10 | AD39: ='OPINI Rinci v1'!AD570 -> 0 | AE39: ='OPINI Rinci v1'!AE570 -> 12 | AF39: =SUM(AB39:AE39) -> 30 | AG39: ='OPINI Rinci v1'!AG570 -> 4 | AH39: ='OPINI Rinci v1'!AH570 -> 11 | AI39: ='OPINI Rinci v1'!AI570 -> 2 | AJ39: ='OPINI Rinci v1'!AJ570 -> 13 | AK39: =SUM(AG39:AJ39) -> 30 | AL39: ='OPINI Rinci v1'!AL570 -> 2 | AM39: ='OPINI Rinci v1'!AM570 -> 12 | AN39: ='OPINI Rinci v1'!AN570 -> 1 | AO39: ='OPINI Rinci v1'!AO570 -> 15 | AP39: =SUM(AL39:AO39) -> 30 | AQ39: ='OPINI Rinci v1'!AQ570 -> 0 | AR39: ='OPINI Rinci v1'!AR570 -> 8 | AS39: ='OPINI Rinci v1'!AS570 -> 1 | AT39: ='OPINI Rinci v1'!AT570 -> 21 | AU39: =SUM(AQ39:AT39) -> 30 | AV39: =F39-AU39 -> 0 | AW39: ='OPINI Rinci v1'!AV570 -> 0 | AX39: ='OPINI Rinci v1'!AW570 -> 7 | AY39: ='OPINI Rinci v1'!AX570 -> 2 | AZ39: ='OPINI Rinci v1'!AY570 -> 21 | BA39: =SUM(AW39:AZ39) -> 30 | BB39: =F39-BA39 -> 0 | BC39: ='OPINI Rinci v1'!BA570 -> 0 | BD39: ='OPINI Rinci v1'!BB570 -> 5 | BE39: ='OPINI Rinci v1'!BC570 -> 0 | BF39: ='OPINI Rinci v1'!BD570 -> 23 | BG39: =SUM(BC39:BF39) -> 28 | BH39: =F39-BG39 -> 2 | BI39: ='OPINI Rinci v1'!BF570 -> 0 | BJ39: ='OPINI Rinci v1'!BG570 -> 7 | BK39: ='OPINI Rinci v1'!BH570 -> 0 | BL39: ='OPINI Rinci v1'!BI570 -> 16 | BM39: ='OPINI Rinci v1'!BJ570 -> 23 | BN39: ='OPINI Rinci v1'!BK570 -> 0 | BO39: ='OPINI Rinci v1'!BL570 -> 5 | BP39: ='OPINI Rinci v1'!BM570 -> 0 | ... CG39: ='OPINI Rinci v1'!CD570 -> 6
B40: 34 | D40: PROV PAPUA BARAT | F40: 12 | G40: 14 | H40: ='OPINI Rinci v1'!H602 -> 13 | I40: ='OPINI Rinci v1'!I602 -> 0 | J40: ='OPINI Rinci v1'!J602 -> 0 | K40: ='OPINI Rinci v1'!K602 -> 0 | L40: =SUM(H40:K40) -> 13 | M40: ='OPINI Rinci v1'!M602 -> 10 | N40: ='OPINI Rinci v1'!N602 -> 4 | O40: ='OPINI Rinci v1'!O602 -> 0 | P40: ='OPINI Rinci v1'!P602 -> 0 | Q40: =SUM(M40:P40) -> 14 | R40: ='OPINI Rinci v1'!R602 -> 10 | S40: ='OPINI Rinci v1'!S602 -> 4 | T40: ='OPINI Rinci v1'!T602 -> 0 | U40: ='OPINI Rinci v1'!U602 -> 0 | V40: =SUM(R40:U40) -> 14 | W40: ='OPINI Rinci v1'!W602 -> 9 | X40: ='OPINI Rinci v1'!X602 -> 5 | Y40: ='OPINI Rinci v1'!Y602 -> 0 | Z40: ='OPINI Rinci v1'!Z602 -> 0 | AA40: =SUM(W40:Z40) -> 14 | AB40: ='OPINI Rinci v1'!AB602 -> 10 | AC40: ='OPINI Rinci v1'!AC602 -> 4 | AD40: ='OPINI Rinci v1'!AD602 -> 0 | AE40: ='OPINI Rinci v1'!AE602 -> 0 | AF40: =SUM(AB40:AE40) -> 14 | AG40: ='OPINI Rinci v1'!AG602 -> 8 | AH40: ='OPINI Rinci v1'!AH602 -> 5 | AI40: ='OPINI Rinci v1'!AI602 -> 0 | AJ40: ='OPINI Rinci v1'!AJ602 -> 1 | AK40: =SUM(AG40:AJ40) -> 14 | AL40: ='OPINI Rinci v1'!AL602 -> 4 | AM40: ='OPINI Rinci v1'!AM602 -> 5 | AN40: ='OPINI Rinci v1'!AN602 -> 0 | AO40: ='OPINI Rinci v1'!AO602 -> 3 | AP40: =SUM(AL40:AO40) -> 12 | AQ40: ='OPINI Rinci v1'!AQ602 -> 0 | AR40: ='OPINI Rinci v1'!AR602 -> 5 | AS40: ='OPINI Rinci v1'!AS602 -> 0 | AT40: ='OPINI Rinci v1'!AT602 -> 7 | AU40: =SUM(AQ40:AT40) -> 12 | AV40: =F40-AU40 -> 0 | AW40: ='OPINI Rinci v1'!AV602 -> 0 | AX40: ='OPINI Rinci v1'!AW602 -> 2 | AY40: ='OPINI Rinci v1'!AX602 -> 0 | AZ40: ='OPINI Rinci v1'!AY602 -> 10 | BA40: =SUM(AW40:AZ40) -> 12 | BB40: =F40-BA40 -> 0 | BC40: ='OPINI Rinci v1'!BA602 -> 0 | BD40: ='OPINI Rinci v1'!BB602 -> 3 | BE40: ='OPINI Rinci v1'!BC602 -> 1 | BF40: ='OPINI Rinci v1'!BD602 -> 8 | BG40: =SUM(BC40:BF40) -> 12 | BH40: =F40-BG40 -> 0 | BI40: ='OPINI Rinci v1'!BF602 -> 0 | BJ40: ='OPINI Rinci v1'!BG602 -> 2 | BK40: ='OPINI Rinci v1'!BJ598 -> 0 | BL40: ='OPINI Rinci v1'!BI602 -> 8 | BM40: ='OPINI Rinci v1'!BJ602 -> 10 | BN40: ='OPINI Rinci v1'!BK602 -> 0 | BO40: ='OPINI Rinci v1'!BL602 -> 2 | BP40: ='OPINI Rinci v1'!BM602 -> 0 | BQ40: ='OPINI Rinci v1'!BN602 -> 8 | BR40: ='OPINI Rinci v1'!BO602 -> 10 | BS40: ='OPINI Rinci v1'!BP602 -> 0 | ... CG40: ='OPINI Rinci v1'!CD602 -> 2
B42: TOTAL | F42: =SUM(F7:F40) -> 524 | G42: =SUM(G7:G40) -> 542 | H42: =SUM(H7:H40) -> 430 | I42: =SUM(I7:I40) -> 14 | J42: =SUM(J7:J40) -> 0 | K42: =SUM(K7:K40) -> 1 | L42: =SUM(L7:L40) -> 445 | M42: =SUM(M7:M40) -> 443 | ... CG42: =SUM(CG7:CG40) -> 363
E44: Sisa | AK44: =G42-AK42 -> 3 | BG44: =BG42/F42 -> 0.99618321 | BH44: =BH42/F42 -> 0.0038167939

Sheet OPINI Rinci v1
F1: RINCIAN OPINI HASIL AUDIT BPK ATAS LKPD
F2: PER PEMDA PROV/KAB/KOTA
F3: ='OPINI Total'!A2 -> POSISI PER 27 AGUSTUS 2020 JAM 09.42
B5: No | E5: Perwakilan/Pemda | H5: LKPD 2019 | L5: JML | M5: LKPD 2018 | Q5: JML | R5: LKPD 2017 | V5: JML | W5: LKPD 2016 | AA5: JML | AB5: LKPD 2015 | AF5: JML | AG5: LKPD 2014 | AK5: JML | AL5: LKPD 2013 | AP5: JML | AQ5: LKPD 2012 | AU5: JML | AV5: LKPD 2011 | AZ5: JML | BA5: LKPD 2010 | BE5: JML | BF5: LKPD 2009 | BJ5: JML | BK5: LKPD 2008 | BO5: JML | BP5: LKPD 2007 | BT5: JML | BU5: LKPD 2006 | BY5: JML | BZ5: LKPD 2005 | CD5: JML
H6: WTP | I6: WDP | J6: TW | K6: TMP | M6: WTP | N6: WDP | O6: TW | P6: TMP | R6: WTP | S6: WDP | T6: TW | U6: TMP | W6: WTP | X6: WDP | Y6: TW | Z6: TMP | AB6: WTP | AC6: WDP | AD6: TW | AE6: TMP | AG6: WTP | AH6: WDP | AI6: TW | AJ6: TMP | AL6: WTP | AM6: WDP | AN6: TW | AO6: TMP | AQ6: WTP | AR6: WDP | AS6: TW | AT6: TMP | AV6: WTP | AW6: WDP | AX6: TW | AY6: TMP | BA6: WTP | BB6: WDP | BC6: TW | BD6: TMP | BF6: WTP | BG6: WDP | BH6: TW | BI6: TMP | BK6: WTP | BL6: WDP | BM6: TW | BN6: TMP | BP6: WTP | BQ6: WDP | BR6: TW | BS6: TMP | BU6: WTP | BV6: WDP | BW6: TW | BX6: TMP | BZ6: WTP | CA6: WDP | CB6: TW | CC6: TMP
B7: 01 | BA7: =BA8 -> 5 | BB7: =BB8 -> 17 | BC7: =BC8 -> 1 | BD7: =BD8 -> 1 | BF7: =BF8 -> 6 | BG7: =BG8 -> 15 | BH7: =BH8 -> 1 | BI7: =BI8 -> 2 | BK7: =BK8 -> 7 | BL7: =BL8 -> 15 | BM7: =BM8 -> 1 | BN7: =BN8 -> 1 | BP7: =BP8 -> 1 | BQ7: =BQ8 -> 18 | BR7: =BR8 -> 0 | BS7: =BS8 -> 3 | BU7: =BU8 -> 0 | BV7: =BV8 -> 19 | BW7: =BW8 -> 0 | BX7: =BX8 -> 3 | BZ7: =BZ8 -> 0 | CA7: =CA8 -> 17 | CB7: =CB8 -> 1 | CC7: =CC8 -> 0
B8: 01 | C8: 01 | F8: PROV NAD | H8: =COUNTIF(H9:H32,"WTP") -> 20 | I8: =COUNTIF(I9:I32,"WDP") -> 0 | J8: =COUNTIF(J9:J32,"TW") -> 0 | K8: =COUNTIF(K9:K32,"TMP") -> 0 | L8: =SUM(H8:K8) -> 20 | M8: =COUNTIF(M9:M32,"WTP") -> 24 | N8: =COUNTIF(N9:N32,"WDP") -> 0 | O8: =COUNTIF(O9:O32,"TW") -> 0 | P8: =COUNTIF(P9:P32,"TMP") -> 0 | Q8: =SUM(M8:P8) -> 24 | R8: =COUNTIF(R9:R32,"WTP") -> 24 | S8: =COUNTIF(S9:S32,"WDP") -> 0 | T8: =COUNTIF(T9:T32,"TW") -> 0 | U8: =COUNTIF(U9:U32,"TMP") -> 0 | V8: =SUM(R8:U8) -> 24 | W8: =COUNTIF(W9:W32,"WTP") -> 22 | X8: =COUNTIF(X9:X32,"WDP") -> 2 | Y8: =COUNTIF(Y9:Y32,"TW") -> 0 | Z8: =COUNTIF(Z9:Z32,"TMP") -> 0 | AA8: =SUM(W8:Z8) -> 24 | AB8: =COUNTIF(AB9:AB32,"WTP") -> 22 | AC8: =COUNTIF(AC9:AC32,"WDP") -> 2 | AD8: =COUNTIF(AD9:AD32,"TW") -> 0 | AE8: =COUNTIF(AE9:AE32,"TMP") -> 0 | AF8: =SUM(AB8:AE8) -> 24 | AG8: =COUNTIF(AG9:AG32,"WTP") -> 16 | AH8: =COUNTIF(AH9:AH32,"WDP") -> 8 | AI8: =COUNTIF(AI9:AI32,"TW") -> 0 | AJ8: =COUNTIF(AJ9:AJ32,"TMP") -> 0 | AK8: =SUM(AG8:AJ8) -> 24 | AL8: =COUNTIF(AL9:AL32,"WTP") -> 6 | AM8: =COUNTIF(AM9:AM32,"WDP") -> 18 | AN8: =COUNTIF(AN9:AN32,"TW") -> 0 | AO8: =COUNTIF(AO9:AO32,"TMP") -> 0 | AP8: =SUM(AL8:AO8) -> 24 | AQ8: =COUNTIF(AQ9:AQ32,"WTP") -> 7 | AR8: =COUNTIF(AR9:AR32,"WDP") -> 17 | AS8: =COUNTIF(AS9:AS32,"TW") -> 0 | AT8: =COUNTIF(AT9:AT32,"TMP") -> 0 | AU8: =SUM(AQ8:AT8) -> 24 | AV8: =COUNTIF(AV9:AV32,"WTP") -> 2 | AW8: =COUNTIF(AW9:AW32,"WDP") -> 22 | AX8: =COUNTIF(AX9:AX32,"TW") -> 0 | AY8: =COUNTIF(AY9:AY32,"TMP") -> 0 | AZ8: =SUM(AV8:AY8) -> 24 | BA8: =COUNTIF(BA9:BA32,"WTP") -> 5 | BB8: =COUNTIF(BB9:BB32,"WDP") -> 17 | BC8: =COUNTIF(BC9:BC32,"TW") -> 1 | BD8: =COUNTIF(BD9:BD32,"TMP") -> 1 | BE8: =SUM(BA8:BD8) -> 24 | BF8: =COUNTIF(BF9:BF32,"WTP") -> 6 | BG8: =COUNTIF(BG9:BG32,"WDP") -> 15 | BH8: =COUNTIF(BH9:BH32,"TW") -> 1 | BI8: =COUNTIF(BI9:BI32,"TMP") -> 2 | BJ8: =SUM(BF8:BI8) -> 24 | BK8: =COUNTIF(BK9:BK32,"WTP") -> 7 | BL8: =COUNTIF(BL9:BL32,"WDP") -> 15 | BM8: =COUNTIF(BM9:BM32,"TW") -> 1 | BN8: =COUNTIF(BN9:BN32,"TMP") -> 1 | BO8: =SUM(BK8:BN8) -> 24 | BP8: =COUNTIF(BP9:BP32,"WTP") -> 1 | BQ8: =COUNTIF(BQ9:BQ32,"WDP") -> 18 | BR8: =COUNTIF(BR9:BR32,"TW") -> 0 | BS8: =COUNTIF(BS9:BS32,"TMP") -> 3 | BT8: =SUM(BP8:BS8) -> 22 | BU8: =COUNTIF(BU9:BU32,"WTP") -> 0 | BV8: =COUNTIF(BV9:BV32,"WDP") -> 19 | BW8: =COUNTIF(BW9:BW32,"TW") -> 0 | BX8: =COUNTIF(BX9:BX32,"TMP") -> 3 | BY8: =SUM(BU8:BX8) -> 22 | BZ8: =COUNTIF(BZ9:BZ32,"WTP") -> 0 | CA8: =COUNTIF(CA9:CA32,"WDP") -> 17 | CB8: =COUNTIF(CB9:CB32,"TW") -> 1 | CC8: =COUNTIF(CC9:CC32,"TMP") -> 0 | CD8: =SUM(BZ8:CC8) -> 18
A9: 1 | B9: 01 | C9: 01 | D9: 01 | G9: Provinsi NAD | M9: WTP | R9: WTP | W9: WTP | AB9: WTP | AH9: WDP | AM9: WDP | AR9: WDP | AW9: WDP | BB9: WDP | BG9: WDP | BL9: WDP | BQ9: WDP | BV9: WDP | CA9: WDP
A10: =A9+1 -> 2 | B10: 01 | C10: 01 | D10: 02 | G10: Kab. Aceh Barat | H10: WTP | M10: WTP | R10: WTP | W10: WTP | AB10: WTP | AG10: WTP | AM10: WDP | AR10: WDP | AW10: WDP | BB10: WDP | BG10: WDP | BL10: WDP | BQ10: WDP | BX10: TMP | CA10: WDP
A11: =A10+1 -> 3 | B11: 01 | C11: 01 | D11: 03 | G11: Kab. Aceh Besar | H11: WTP | M11: WTP | R11: WTP | W11: WTP | AB11: WTP | AG11: WTP | AL11: WTP | AQ11: WTP | AW11: WDP | BB11: WDP | BG11: WDP | BL11: WDP | BQ11: WDP | BV11: WDP | CA11: WDP
A12: =A11+1 -> 4 | B12: 01 | C12: 01 | D12: 04 | G12: Kab. Aceh Selatan | H12: WTP | M12: WTP | R12: WTP | W12: WTP | AB12: WTP | AH12: WDP | AM12: WDP | AR12: WDP | AW12: WDP | BB12: WDP | BG12: WDP | BL12: WDP | BQ12: WDP | BV12: WDP | CA12: WDP
A13: =A12+1 -> 5 | B13: 01 | C13: 01 | D13: 05 | G13: Kab. Aceh Singkil | H13: WTP | M13: WTP | R13: WTP | W13: WTP | AC13: WDP | AG13: WTP | AM13: WDP | AR13: WDP | AW13: WDP | BB13: WDP | BG13: WDP | BL13: WDP | BQ13: WDP | BV13: WDP | CA13: WDP
A14: =A13+1 -> 6 | B14: 01 | C14: 01 | D14: 06 | G14: Kab. Aceh Tengah | H14: WTP | M14: WTP | R14: WTP | W14: WTP | AB14: WTP | AG14: WTP | AM14: WDP | AQ14: WTP | AW14: WDP | BA14: WTP | BF14: WTP | BK14: WTP | BP14: WTP | BV14: WDP | CA14: WDP
A15: =A14+1 -> 7 | B15: 01 | C15: 01 | D15: 07 | G15: Kab. Aceh Tenggara | H15: WTP | M15: WTP | R15: WTP | X15: WDP | AB15: WTP | AH15: WDP | AM15: WDP | AR15: WDP | AW15: WDP | BB15: WDP | BG15: WDP | BL15: WDP | BS15: TMP | BV15: WDP
A16: =A15+1 -> 8 | B16: 01 | C16: 01 | D16: 08 | G16: Kab. Aceh Timur | H16: WTP | M16: WTP | R16: WTP | W16: WTP | AB16: WTP | AG16: WTP | AM16: WDP | AR16: WDP | AW16: WDP | BB16: WDP | BG16: WDP | BL16: WDP | BS16: TMP | BX16: TMP | CB16: TW
A17: =A16+1 -> 9 | B17: 01 | C17: 01 | D17: 09 | G17: Kab. Aceh Utara | H17: WTP | M17: WTP | R17: WTP | W17: WTP | AB17: WTP | AH17: WDP | AM17: WDP | AR17: WDP | AW17: WDP | BD17: TMP | BI17: TMP | BL17: WDP | BQ17: WDP | BV17: WDP | CA17: WDP
A18: =A17+1 -> 10 | B18: 01 | C18: 01 | D18: 10 | G18: Kab. Bireun | H18: WTP | M18: WTP | R18: WTP | W18: WTP | AB18: WTP | AG18: WTP | AM18: WDP | AR18: WDP | AW18: WDP | BB18: WDP | BI18: TMP | BN18: TMP | BQ18: WDP | BV18: WDP | CA18: WDP
A19: =A18+1 -> 11 | B19: 01 | C19: 01 | D19: 11 | G19: Kab. Pidie | H19: WTP | M19: WTP | R19: WTP | W19: WTP | AB19: WTP | AH19: WDP | AM19: WDP | AR19: WDP | AW19: WDP | BB19: WDP | BG19: WDP | BL19: WDP | BQ19: WDP | BV19: WDP
A20: =A19+1 -> 12 | B20: 01 | C20: 01 | D20: 12 | G20: Kab. Simeulue | H20: WTP | M20: WTP | R20: WTP | W20: WTP | AB20: WTP | AH20: WDP | AM20: WDP | AR20: WDP | AW20: WDP | BC20: TW | BH20: TW | BL20: WDP | BQ20: WDP | BV20: WDP
A21: =A20+1 -> 13 | B21: 01 | C21: 01 | D21: 13 | G21: Kota Banda Aceh | H21: WTP | M21: WTP | R21: WTP | W21: WTP | AB21: WTP | AG21: WTP | AL21: WTP | AQ21: WTP | AV21: WTP | BA21: WTP | BF21: WTP | BK21: WTP | BQ21: WDP | BV21: WDP | CA21: WDP
A22: =A21+1 -> 14 | B22: 01 | C22: 01 | D22: 14 | G22: Kota Sabang | H22: WTP | M22: WTP | R22: WTP | W22: WTP | AB22: WTP | AG22: WTP | AL22: WTP | AQ22: WTP | AW22: WDP | BA22: WTP | BF22: WTP | BK22: WTP | BQ22: WDP | BV22: WDP | CA22: WDP
A23: =A22+1 -> 15 | B23: 01 | C23: 01 | D23: 15 | G23: Kota Langsa | H23: WTP | M23: WTP | R23: WTP | W23: WTP | AB23: WTP | AG23: WTP | AL23: WTP | AR23: WDP | AW23: WDP | BB23: WDP | BF23: WTP | BK23: WTP | BQ23: WDP | BV23: WDP | CA23: WDP
A24: =A23+1 -> 16 | B24: 01 | C24: 01 | D24: 16 | G24: Kota Lhokseumawe | M24: WTP | R24: WTP | X24: WDP | AB24: WTP | AG24: WTP | AM24: WDP | AR24: WDP | AW24: WDP | BA24: WTP | BF24: WTP | BK24: WTP | BQ24: WDP | BV24: WDP | CA24: WDP
A25: =A24+1 -> 17 | B25: 01 | C25: 01 | D25: 17 | G25: Kab. Nagan Raya | H25: WTP | M25: WTP | R25: WTP | W25: WTP | AB25: WTP | AG25: WTP | AL25: WTP | AQ25: WTP | AV25: WTP | BA25: WTP | BF25: WTP | BK25: WTP | BQ25: WDP | BV25: WDP | CA25: WDP
A26: =A25+1 -> 18 | B26: 01 | C26: 01 | D26: 18 | G26: Kab. Aceh Jaya | M26: WTP | R26: WTP | W26: WTP | AB26: WTP | AG26: WTP | AM26: WDP | AQ26: WTP | AW26: WDP | BB26: WDP | BG26: WDP | BM26: TW | BQ26: WDP | BV26: WDP
A27: =A26+1 -> 19 | B27: 01 | C27: 01 | D27: 19 | G27: Kab. Aceh Barat Daya | H27: WTP | M27: WTP | R27: WTP | W27: WTP | AB27: WTP | AH27: WDP | AM27: WDP | AR27: WDP | AW27: WDP | BB27: WDP | BG27: WDP | BL27: WDP | BQ27: WDP | BV27: WDP | CA27: WDP
A28: =A27+1 -> 20 | B28: 01 | C28: 01 | D28: 20 | G28: Kab. Gayo Lues | H28: WTP | M28: WTP | R28: WTP | W28: WTP | AB28: WTP | AG28: WTP | AM28: WDP | AR28: WDP | AW28: WDP | BB28: WDP | BG28: WDP | BL28: WDP | BQ28: WDP | BV28: WDP | CA28: WDP
A29: =A28+1 -> 21 | B29: 01 | C29: 01 | D29: 21 | G29: Kab. Aceh Tamiang | H29: WTP | M29: WTP | R29: WTP | W29: WTP | AB29: WTP | AG29: WTP | AM29: WDP | AR29: WDP | AW29: WDP | BB29: WDP | BG29: WDP | BL29: WDP | BS29: TMP | BX29: TMP | CA29: WDP
A30: =A29+1 -> 22 | B30: 01 | C30: 01 | D30: 22 | G30: Kab. Bener Meriah | H30: WTP | M30: WTP | R30: WTP | W30: WTP | AB30: WTP | AG30: WTP | AM30: WDP | AR30: WDP | AW30: WDP | BB30: WDP | BG30: WDP | BL30: WDP | BQ30: WDP | BV30: WDP | CA30: WDP
A31: =A30+1 -> 23 | B31: 01 | C31: 01 | D31: 23 | G31: Kota Subulussalam | M31: WTP | R31: WTP | W31: WTP | AC31: WDP | AG31: WTP | AL31: WTP | AQ31: WTP | AW31: WDP | BB31: WDP | BG31: WDP | BL31: WDP
A32: =A31+1 -> 24 | B32: 01 | C32: 01 | D32: 24 | G32: Kab. Pidie jaya | H32: WTP | M32: WTP | R32: WTP | W32: WTP | AB32: WTP | AH32: WDP | AM32: WDP | AR32: WDP | AW32: WDP | BB32: WDP | BG32: WDP | BK32: WTP
B33: 02 | BA33: =BA34 -> 0 | BF33: =BF34 -> 0 | BG33: =BG34 -> 18 | BH33: =BH34 -> 2 | BI33: =BI34 -> 9 | BK33: =BK34 -> 0 | BL33: =BL34 -> 14 | BM33: =BM34 -> 0 | BN33: =BN34 -> 13 | BP33: =BP34 -> 0 | BQ33: =BQ34 -> 12 | BR33: =BR34 -> 0 | BS33: =BS34 -> 15 | BU33: =BU34 -> 0 | BV33: =BV34 -> 8 | BW33: =BW34 -> 2 | BX33: =BX34 -> 16 | BZ33: =BZ34 -> 0 | CA33: =CA34 -> 17 | CB33: =CB34 -> 3 | CC33: =CC34 -> 0
B34: 02 | C34: 02 | F34: PROV SUMUT | H34: =COUNTIF(H35:H68,"WTP") -> 19 | I34: =COUNTIF(I35:I68,"WDP") -> 4 | J34: =COUNTIF(J35:J68,"TW") -> 0 | K34: =COUNTIF(K35:K68,"TMP") -> 0 | L34: =SUM(H34:K34) -> 23 | M34: =COUNTIF(M35:M68,"WTP") -> 17 | N34: =COUNTIF(N35:N68,"WDP") -> 14 | O34: =COUNTIF(O35:O68,"TW") -> 0 | P34: =COUNTIF(P35:P68,"TMP") -> 3 | Q34: =SUM(M34:P34) -> 34 | R34: =COUNTIF(R35:R68,"WTP") -> 14 | S34: =COUNTIF(S35:S68,"WDP") -> 17 | T34: =COUNTIF(T35:T68,"TW") -> 0 | U34: =COUNTIF(U35:U68,"TMP") -> 3 | V34: =SUM(R34:U34) -> 34 | W34: =COUNTIF(W35:W68,"WTP") -> 12 | X34: =COUNTIF(X35:X68,"WDP") -> 17 | Y34: =COUNTIF(Y35:Y68,"TW") -> 0 | Z34: =COUNTIF(Z35:Z68,"TMP") -> 5 | AA34: =SUM(W34:Z34) -> 34 | AB34: =COUNTIF(AB35:AB68,"WTP") -> 6 | AC34: =COUNTIF(AC35:AC68,"WDP") -> 25 | AD34: =COUNTIF(AD35:AD68,"TW") -> 0 | AE34: =COUNTIF(AE35:AE68,"TMP") -> 3 | AF34: =SUM(AB34:AE34) -> 34 | AG34: =COUNTIF(AG35:AG68,"WTP") -> 16 | AH34: =COUNTIF(AH35:AH68,"WDP") -> 15 | AI34: =COUNTIF(AI35:AI68,"TW") -> 0 | AJ34: =COUNTIF(AJ35:AJ68,"TMP") -> 3 | AK34: =SUM(AG34:AJ34) -> 34 | AL34: =COUNTIF(AL35:AL68,"WTP") -> 4 | AM34: =COUNTIF(AM35:AM68,"WDP") -> 22 | AN34: =COUNTIF(AN35:AN68,"TW") -> 0 | AO34: =COUNTIF(AO35:AO68,"TMP") -> 8 | AP34: =SUM(AL34:AO34) -> 34 | AQ34: =COUNTIF(AQ35:AQ68,"WTP") -> 2 | AR34: =COUNTIF(AR35:AR68,"WDP") -> 23 | AS34: =COUNTIF(AS35:AS68,"TW") -> 1 | AT34: =COUNTIF(AT35:AT68,"TMP") -> 8 | AU34: =SUM(AQ34:AT34) -> 34 | AV34: =COUNTIF(AV35:AV68,"WTP") -> 3 | AW34: =COUNTIF(AW35:AW68,"WDP") -> 22 | AX34: =COUNTIF(AX35:AX68,"TW") -> 0 | AY34: =COUNTIF(AY35:AY68,"TMP") -> 9 | AZ34: =SUM(AV34:AY34) -> 34 | BA34: =COUNTIF(BA35:BA68,"WTP") -> 0 | BB34: =COUNTIF(BB35:BB68,"WDP") -> 21 | BC34: =COUNTIF(BC35:BC68,"TW") -> 2 | BD34: =COUNTIF(BD35:BD68,"TMP") -> 11 | BE34: =SUM(BA34:BD34) -> 34 | BF34: =COUNTIF(BF35:BF65,"WTP") -> 0 | BG34: =COUNTIF(BG35:BG65,"WDP") -> 18 | BH34: =COUNTIF(BH35:BH65,"TW") -> 2 | BI34: =COUNTIF(BI35:BI65,"TMP") -> 9 | BJ34: =SUM(BF34:BI34) -> 29 | BK34: =COUNTIF(BK35:BK65,"WTP") -> 0 | BL34: =COUNTIF(BL35:BL65,"WDP") -> 14 | BM34: =COUNTIF(BM35:BM65,"TW") -> 0 | BN34: =COUNTIF(BN35:BN65,"TMP") -> 13 | BO34: =SUM(BK34:BN34) -> 27 | BP34: =COUNTIF(BP35:BP65,"WTP") -> 0 | BQ34: =COUNTIF(BQ35:BQ65,"WDP") -> 12 | BR34: =COUNTIF(BR35:BR65,"TW") -> 0 | BS34: =COUNTIF(BS35:BS65,"TMP") -> 15 | BT34: =SUM(BP34:BS34) -> 27 | BU34: =COUNTIF(BU35:BU65,"WTP") -> 0 | BV34: =COUNTIF(BV35:BV65,"WDP") -> 8 | BW34: =COUNTIF(BW35:BW65,"TW") -> 2 | BX34: =COUNTIF(BX35:BX65,"TMP") -> 16 | BY34: =SUM(BU34:BX34) -> 26 | BZ34: =COUNTIF(BZ35:BZ65,"WTP") -> 0 | CA34: =COUNTIF(CA35:CA65,"WDP") -> 17 | CB34: =COUNTIF(CB35:CB65,"TW") -> 3 | CC34: =COUNTIF(CC35:CC65,"TMP") -> 0 | CD34: =SUM(BZ34:CC34) -> 20
A35: =A32+1 -> 25 | B35: 02 | C35: 02 | D35: 01 | G35: Provinsi Sumatera Utara | H35: WTP | M35: WTP | R35: WTP | W35: WTP | AB35: WTP | AG35: WTP | AM35: WDP | AR35: WDP | AW35: WDP | BB35: WDP | BG35: WDP | BL35: WDP | BS35: TMP | BX35: TMP | CA35: WDP
A36: =A35+1 -> 26 | B36: 02 | C36: 02 | D36: 02 | G36: Kab. Asahan | H36: WTP | M36: WTP | R36: WTP | X36: WDP | AC36: WDP | AG36: WTP | AM36: WDP | AR36: WDP | AW36: WDP | BD36: TMP | BG36: WDP | BL36: WDP | BS36: TMP | BV36: WDP | CA36: WDP
A37: =A36+1 -> 27 | B37: 02 | C37: 02 | D37: 03 | G37: Kab. Dairi | H37: WTP | M37: WTP | R37: WTP | W37: WTP | AB37: WTP | AG37: WTP | AM37: WDP | AR37: WDP | AW37: WDP | BB37: WDP | BG37: WDP | BL37: WDP | BS37: TMP | BX37: TMP | CA37: WDP
A38: =A37+1 -> 28 | B38: 02 | C38: 02 | D38: 04 | G38: Kab. Deli Serdang | H38: WTP | M38: WTP | S38: WDP | X38: WDP | AE38: TMP | AH38: WDP | AO38: TMP | AS38: TW | AY38: TMP | BD38: TMP | BI38: TMP | BN38: TMP | BQ38: WDP | BX38: TMP | CA38: WDP
A39: =A38+1 -> 29 | B39: 02 | C39: 02 | D39: 05 | G39: Kab. Tanah Karo | H39: WTP | N39: WDP | S39: WDP | Z39: TMP | AC39: WDP | AH39: WDP | AM39: WDP | AR39: WDP | AW39: WDP | BB39: WDP | BG39: WDP | BL39: WDP | BS39: TMP | BV39: WDP | CA39: WDP
A40: =A39+1 -> 30 | B40: 02 | C40: 02 | D40: 06 | G40: Kab. Labuhan Batu | N40: WDP | S40: WDP | X40: WDP | AC40: WDP | AG40: WTP | AM40: WDP | AR40: WDP | AW40: WDP | BB40: WDP | BG40: WDP | BN40: TMP | BS40: TMP | BV40: WDP | CA40: WDP
A41: =A40+1 -> 31 | B41: 02 | C41: 02 | D41: 07 | G41: Kab. Langkat | H41: WTP | N41: WDP | S41: WDP | X41: WDP | AC41: WDP | AH41: WDP | AM41: WDP | AR41: WDP | AW41: WDP | BD41: TMP | BI41: TMP | BN41: TMP | BS41: TMP | BV41: WDP
A42: =A41+1 -> 32 | B42: 02 | C42: 02 | D42: 08 | G42: Kab. Mandailing Natal | N42: WDP | S42: WDP | X42: WDP | AC42: WDP | AH42: WDP | AO42: TMP | AT42: TMP | AW42: WDP | BB42: WDP | BG42: WDP | BN42: TMP | BS42: TMP | BW42: TW | CA42: WDP
A43: =A42+1 -> 33 | B43: 02 | C43: 02 | D43: 09 | G43: Kab. Nias | N43: WDP | S43: WDP | X43: WDP | AC43: WDP | AH43: WDP | AM43: WDP | AT43: TMP | AY43: TMP | BD43: TMP | BI43: TMP | BN43: TMP | BS43: TMP | BX43: TMP
A44: =A43+1 -> 34 | B44: 02 | C44: 02 | D44: 10 | G44: Kab. Simalungun | P44: TMP | U44: TMP | X44: WDP | AC44: WDP | AH44: WDP | AO44: TMP | AR44: WDP | AW44: WDP | BB44: WDP | BG44: WDP | BL44: WDP | BS44: TMP | BV44: WDP
A45: =A44+1 -> 35 | B45: 02 | C45: 02 | D45: 11 | G45: Kab. Tapanuli Selatan | H45: WTP | M45: WTP | R45: WTP | W45: WTP | AB45: WTP | AG45: WTP | AM45: WDP | AR45: WDP | AW45: WDP | BC45: TW | BH45: TW | BN45: TMP | BQ45: WDP | BX45: TMP | CB45: TW
A46: =A45+1 -> 36 | B46: 02 | C46: 02 | D46: 12 | G46: Kab. Tapanuli Tengah | N46: WDP | S46: WDP | X46: WDP | AC46: WDP | AH46: WDP | AM46: WDP | AR46: WDP | AY46: TMP | BB46: WDP | BG46: WDP | BL46: WDP | BQ46: WDP | BX46: TMP | CA46: WDP
A47: =A46+1 -> 37 | B47: 02 | C47: 02 | D47: 13 | G47: Kab. Tapanuli Utara | H47: WTP | M47: WTP | R47: WTP | W47: WTP | AB47: WTP | AG47: WTP | AM47: WDP | AR47: WDP | AW47: WDP | BB47: WDP | BG47: WDP | BN47: TMP | BS47: TMP | BX47: TMP | CA47: WDP
A48: =A47+1 -> 38 | B48: 02 | C48: 02 | D48: 14 | G48: Kab. Toba Samosir | M48: WTP | R48: WTP | W48: WTP | AC48: WDP | AH48: WDP | AM48: WDP | AR48: WDP | AW48: WDP | BB48: WDP | BG48: WDP | BN48: TMP | BS48: TMP | BX48: TMP | CA48: WDP
A49: =A48+1 -> 39 | B49: 02 | C49: 02 | D49: 15 | G49: Kota Binjai | M49: WTP | R49: WTP | W49: WTP | AC49: WDP | AG49: WTP | AM49: WDP | AR49: WDP | AW49: WDP | BC49: TW | BH49: TW | BL49: WDP | BQ49: WDP | BX49: TMP
A50: =A49+1 -> 40 | B50: 02 | C50: 02 | D50: 16 | G50: Kota Medan | I50: WDP | N50: WDP | S50: WDP | X50: WDP | AC50: WDP | AG50: WTP | AL50: WTP | AQ50: WTP | AV50: WTP | BB50: WDP | BI50: TMP | BN50: TMP | BS50: TMP | BX50: TMP | CA50: WDP
A51: =A50+1 -> 41 | B51: 02 | C51: 02 | D51: 17 | G51: Kota Pematang Siantar | N51: WDP | R51: WTP | W51: WTP | AC51: WDP | AG51: WTP | AM51: WDP | AR51: WDP | AW51: WDP | BB51: WDP | BI51: TMP | BN51: TMP | BS51: TMP | BW51: TW | CB51: TW
A52: =A51+1 -> 42 | B52: 02 | C52: 02 | D52: 18 | G52: Kota Sibolga | H52: WTP | M52: WTP | S52: WDP | Z52: TMP | AE52: TMP | AG52: WTP | AM52: WDP | AR52: WDP | AV52: WTP | BB52: WDP | BG52: WDP | BL52: WDP | BQ52: WDP | BX52: TMP | CA52: WDP
A53: =A52+1 -> 43 | B53: 02 | C53: 02 | D53: 19 | G53: Kota Tanjung Balai | I53: WDP | P53: TMP | S53: WDP | X53: WDP | AC53: WDP | AH53: WDP | AO53: TMP | AT53: TMP | AW53: WDP | BB53: WDP | BG53: WDP | BL53: WDP | BQ53: WDP | BX53: TMP | CA53: WDP
A54: =A53+1 -> 44 | B54: 02 | C54: 02 | D54: 20 | G54: Kota Tebing Tinggi | H54: WTP | M54: WTP | S54: WDP | W54: WTP | AC54: WDP | AG54: WTP | AM54: WDP | AT54: TMP | AW54: WDP | BB54: WDP | BG54: WDP | BL54: WDP | BQ54: WDP | BX54: TMP | CA54: WDP
A55: =A54+1 -> 45 | B55: 02 | C55: 02 | D55: 21 | G55: Kota Padang Sidempuan | I55: WDP | N55: WDP | S55: WDP | X55: WDP | AC55: WDP | AH55: WDP | AM55: WDP | AR55: WDP | AW55: WDP | BB55: WDP | BG55: WDP | BN55: TMP | BS55: TMP | BX55: TMP | CA55: WDP
A56: =A55+1 -> 46 | B56: 02 | C56: 02 | D56: 22 | G56: Kab. Pakpak Bharat | N56: WDP | R56: WTP | W56: WTP | AC56: WDP | AG56: WTP | AL56: WTP | AR56: WDP | AW56: WDP | BB56: WDP | BG56: WDP | BL56: WDP | BQ56: WDP | BV56: WDP | CB56: TW
A57: =A56+1 -> 47 | B57: 02 | C57: 02 | D57: 23 | G57: Kab. Nias Selatan | N57: WDP | U57: TMP | Z57: TMP | AE57: TMP | AJ57: TMP | AO57: TMP | AT57: TMP | AY57: TMP | BD57: TMP | BI57: TMP | BN57: TMP | BS57: TMP | BX57: TMP
A58: =A57+1 -> 48 | B58: 02 | C58: 02 | D58: 24 | G58: Kab. Humbang Hasundutan | H58: WTP | M58: WTP | R58: WTP | W58: WTP | AC58: WDP | AG58: WTP | AL58: WTP | AQ58: WTP | AV58: WTP | BB58: WDP | BG58: WDP | BL58: WDP | BQ58: WDP | BX58: TMP | CA58: WDP
A59: =A58+1 -> 49 | B59: 02 | C59: 02 | D59: 25 | G59: Kab. Serdang Berdagai | H59: WTP | M59: WTP | S59: WDP | X59: WDP | AC59: WDP | AG59: WTP | AM59: WDP | AR59: WDP | AW59: WDP | BB59: WDP | BG59: WDP | BL59: WDP | BQ59: WDP | BV59: WDP | CA59: WDP
A60: =A59+1 -> 50 | B60: 02 | C60: 02 | D60: 26 | G60: Kab. Samosir | H60: WTP | M60: WTP | R60: WTP | Z60: TMP | AC60: WDP | AH60: WDP | AM60: WDP | AR60: WDP | AW60: WDP | BB60: WDP | BG60: WDP | BL60: WDP | BQ60: WDP | BV60: WDP
A61: =A60+1 -> 51 | B61: 02 | C61: 02 | D61: 27 | G61: Kab. Batu bara | H61: WTP | M61: WTP | S61: WDP | X61: WDP | AC61: WDP | AJ61: TMP | AM61: WDP | AR61: WDP | AY61: TMP | BD61: TMP | BI61: TMP | BN61: TMP | BQ61: WDP
A62: =A61+1 -> 52 | B62: 02 | C62: 02 | D62: 28 | G62: Kab. Labuhan Batu Utara | H62: WTP | N62: WDP | R62: WTP | W62: WTP | AB62: WTP | AG62: WTP | AM62: WDP | AR62: WDP | AY62: TMP | BD62: TMP
A63: =A62+1 -> 53 | B63: 02 | C63: 02 | D63: 29 | G63: Kab. Labuhan Batu Selatan | H63: WTP | M63: WTP | R63: WTP | W63: WTP | AB63: WTP | AG63: WTP | AL63: WTP | AR63: WDP | AW63: WDP | BB63: WDP
A64: =A63+1 -> 54 | B64: 02 | C64: 02 | D64: 30 | G64: Kab. Padang Lawas Utara | H64: WTP | M64: WTP | R64: WTP | X64: WDP | AC64: WDP | AH64: WDP | AM64: WDP | AR64: WDP | AW64: WDP | BD64: TMP | BI64: TMP
A65: =A64+1 -> 55 | B65: 02 | C65: 02 | D65: 31 | G65: Kab. Padang Lawas | H65: WTP | N65: WDP | S65: WDP | X65: WDP | AC65: WDP | AH65: WDP | AO65: TMP | AT65: TMP | AY65: TMP | BD65: TMP | BI65: TMP
A66: =A65+1 -> 56 | B66: 02 | C66: 02 | D66: 32 | G66: Kab. Nias Utara | N66: WDP | S66: WDP | X66: WDP | AC66: WDP | AH66: WDP | AO66: TMP | AT66: TMP | AY66: TMP | BD66: TMP
A67: =A66+1 -> 57 | B67: 02 | C67: 02 | D67: 33 | G67: Kab. Nias Barat | I67: WDP | P67: TMP | U67: TMP | Z67: TMP | AC67: WDP | AJ67: TMP | AO67: TMP | AT67: TMP | AY67: TMP | BD67: TMP
A68: =A67+1 -> 58 | B68: 02 | C68: 02 | D68: 34 | G68: Kota Gunung Sitoli | H68: WTP | M68: WTP | S68: WDP | X68: WDP | AC68: WDP | AH68: WDP | AM68: WDP | AR68: WDP | AW68: WDP | BB68: WDP
B70: 03 | C70: 03 | F70: PROV SUMBAR | H70: =COUNTIF(H71:H90,"WTP") -> 18 | I70: =COUNTIF(I71:I90,"WDP") -> 0 | J70: =COUNTIF(J71:J90,"TW") -> 0 | K70: =COUNTIF(K71:K90,"TMP") -> 0 | L70: =SUM(H70:K70) -> 18 | M70: =COUNTIF(M71:M90,"WTP") -> 19 | N70: =COUNTIF(N71:N90,"WDP") -> 1 | O70: =COUNTIF(O71:O90,"TW") -> 0 | P70: =COUNTIF(P71:P90,"TMP") -> 0 | Q70: =SUM(M70:P70) -> 20 | R70: =COUNTIF(R71:R90,"WTP") -> 20 | S70: =COUNTIF(S71:S90,"WDP") -> 0 | T70: =COUNTIF(T71:T90,"TW") -> 0 | U70: =COUNTIF(U71:U90,"TMP") -> 0 | V70: =SUM(R70:U70) -> 20 | W70: =COUNTIF(W71:W90,"WTP") -> 18 | X70: =COUNTIF(X71:X90,"WDP") -> 2 | Y70: =COUNTIF(Y71:Y90,"TW") -> 0 | Z70: =COUNTIF(Z71:Z90,"TMP") -> 0 | AA70: =SUM(W70:Z70) -> 20 | AB70: =COUNTIF(AB71:AB90,"WTP") -> 13 | AC70: =COUNTIF(AC71:AC90,"WDP") -> 7 | AD70: =COUNTIF(AD71:AD90,"TW") -> 0 | AE70: =COUNTIF(AE71:AE90,"TMP") -> 0 | AF70: =SUM(AB70:AE70) -> 20 | AG70: =COUNTIF(AG71:AG90,"WTP") -> 9 | AH70: =COUNTIF(AH71:AH90,"WDP") -> 11 | AI70: =COUNTIF(AI71:AI90,"TW") -> 0 | AJ70: =COUNTIF(AJ71:AJ90,"TMP") -> 0 | AK70: =SUM(AG70:AJ70) -> 20 | AL70: =COUNTIF(AL71:AL90,"WTP") -> 7 | AM70: =COUNTIF(AM71:AM90,"WDP") -> 13 | AN70: =COUNTIF(AN71:AN90,"TW") -> 0 | AO70: =COUNTIF(AO71:AO90,"TMP") -> 0 | AP70: =SUM(AL70:AO70) -> 20 | AQ70: =COUNTIF(AQ71:AQ90,"WTP") -> 6 | AR70: =COUNTIF(AR71:AR90,"WDP") -> 14 | AS70: =COUNTIF(AS71:AS90,"TW") -> 0 | AT70: =COUNTIF(AT71:AT90,"TMP") -> 0 | AU70: =SUM(AQ70:AT70) -> 20 | AV70: =COUNTIF(AV71:AV90,"WTP") -> 0 | AW70: =COUNTIF(AW71:AW90,"WDP") -> 19 | AX70: =COUNTIF(AX71:AX90,"TW") -> 0 | AY70: =COUNTIF(AY71:AY90,"TMP") -> 1 | AZ70: =SUM(AV70:AY70) -> 20 | BA70: =COUNTIF(BA71:BA90,"WTP") -> 0 | BB70: =COUNTIF(BB71:BB90,"WDP") -> 18 | BC70: =COUNTIF(BC71:BC90,"TW") -> 0 | BD70: =COUNTIF(BD71:BD90,"TMP") -> 2 | BE70: =SUM(BA70:BD70) -> 20 | BF70: =COUNTIF(BF71:BF90,"WTP") -> 1 | BG70: =COUNTIF(BG71:BG90,"WDP") -> 16 | BH70: =COUNTIF(BH71:BH90,"TW") -> 0 | BI70: =COUNTIF(BI71:BI90,"TMP") -> 3 | BJ70: =SUM(BF70:BI70) -> 20 | BK70: =COUNTIF(BK71:BK90,"WTP") -> 2 | BL70: =COUNTIF(BL71:BL90,"WDP") -> 16 | BM70: =COUNTIF(BM71:BM90,"TW") -> 0 | BN70: =COUNTIF(BN71:BN90,"TMP") -> 2 | BO70: =SUM(BK70:BN70) -> 20 | BP70: =COUNTIF(BP71:BP90,"WTP") -> 0 | BQ70: =COUNTIF(BQ71:BQ90,"WDP") -> 15 | BR70: =COUNTIF(BR71:BR90,"TW") -> 0 | BS70: =COUNTIF(BS71:BS90,"TMP") -> 5 | BT70: =SUM(BP70:BS70) -> 20 | BU70: =COUNTIF(BU71:BU90,"WTP") -> 0 | BV70: =COUNTIF(BV71:BV90,"WDP") -> 17 | BW70: =COUNTIF(BW71:BW90,"TW") -> 0 | BX70: =COUNTIF(BX71:BX90,"TMP") -> 3 | BY70: =SUM(BU70:BX70) -> 20 | BZ70: =COUNTIF(BZ71:BZ90,"WTP") -> 0 | CA70: =COUNTIF(CA71:CA90,"WDP") -> 18 | CB70: =COUNTIF(CB71:CB90,"TW") -> 0 | CC70: =COUNTIF(CC71:CC90,"TMP") -> 0 | CD70: =SUM(BZ70:CC70) -> 18
A71: =A68+1 -> 59 | B71: 03 | C71: 03 | D71: 01 | G71: Provinsi Sumatera Barat | H71: WTP | M71: WTP | R71: WTP | W71: WTP | AB71: WTP | AG71: WTP | AL71: WTP | AQ71: WTP | AW71: WDP | BB71: WDP | BI71: TMP | BL71: WDP | BQ71: WDP | BV71: WDP | CA71: WDP
A72: =A71+1 -> 60 | B72: 03 | C72: 03 | D72: 02 | G72: Kab. Limapuluh Kota | M72: WTP | R72: WTP | W72: WTP | AB72: WTP | AH72: WDP | AM72: WDP | AR72: WDP | AW72: WDP | BB72: WDP | BG72: WDP | BL72: WDP | BQ72: WDP | BV72: WDP
A73: =A72+1 -> 61 | B73: 03 | C73: 03 | D73: 03 | G73: Kab. Agam | H73: WTP | M73: WTP | R73: WTP | W73: WTP | AB73: WTP | AG73: WTP | AM73: WDP | AR73: WDP | AW73: WDP | BB73: WDP | BG73: WDP | BL73: WDP | BQ73: WDP | BV73: WDP | CA73: WDP
A74: =A73+1 -> 62 | B74: 03 | C74: 03 | D74: 04 | G74: Kab. Kepulauan Mentawai | H74: WTP | M74: WTP | R74: WTP | X74: WDP | AC74: WDP | AH74: WDP | AM74: WDP | AR74: WDP | AW74: WDP | BB74: WDP | BG74: WDP | BL74: WDP | BQ74: WDP | BV74: WDP | CA74: WDP
A75: =A74+1 -> 63 | B75: 03 | C75: 03 | D75: 05 | G75: Kab. Padang Pariaman | H75: WTP | N75: WDP | R75: WTP | W75: WTP | AB75: WTP | AG75: WTP | AL75: WTP | AR75: WDP | AW75: WDP | BB75: WDP | BG75: WDP | BK75: WTP | BQ75: WDP | BV75: WDP | CA75: WDP
A76: =A75+1 -> 64 | B76: 03 | C76: 03 | D76: 06 | G76: Kab. Pasaman | H76: WTP | M76: WTP | R76: WTP | W76: WTP | AB76: WTP | AG76: WTP | AL76: WTP | AR76: WDP | AW76: WDP | BB76: WDP | BG76: WDP | BL76: WDP | BQ76: WDP | BX76: TMP | CA76: WDP
A77: =A76+1 -> 65 | B77: 03 | C77: 03 | D77: 07 | G77: Kab. Pesisir Selatan | H77: WTP | M77: WTP | R77: WTP | W77: WTP | AB77: WTP | AG77: WTP | AL77: WTP | AR77: WDP | AW77: WDP | BB77: WDP | BG77: WDP | BL77: WDP | BQ77: WDP | BV77: WDP | CA77: WDP
A78: =A77+1 -> 66 | B78: 03 | C78: 03 | D78: 08 | G78: Kab. Sijunjung | H78: WTP | M78: WTP | R78: WTP | W78: WTP | AC78: WDP | AH78: WDP | AM78: WDP | AR78: WDP | AW78: WDP | BB78: WDP | BG78: WDP | BL78: WDP | BS78: TMP | BV78: WDP | CA78: WDP
A79: =A78+1 -> 67 | B79: 03 | C79: 03 | D79: 09 | G79: Kab. Solok | H79: WTP | M79: WTP | R79: WTP | X79: WDP | AC79: WDP | AH79: WDP | AM79: WDP | AR79: WDP | AW79: WDP | BB79: WDP | BG79: WDP | BL79: WDP | BQ79: WDP | BV79: WDP | CA79: WDP
A80: =A79+1 -> 68 | B80: 03 | C80: 03 | D80: 10 | G80: Kab. Tanah Datar | H80: WTP | M80: WTP | R80: WTP | W80: WTP | AB80: WTP | AG80: WTP | AL80: WTP | AQ80: WTP | AW80: WDP | BB80: WDP | BF80: WTP | BL80: WDP | BS80: TMP | BV80: WDP | CA80: WDP
A81: =A80+1 -> 69 | B81: 03 | C81: 03 | D81: 11 | G81: Kota Bukit Tinggi | H81: WTP | M81: WTP | R81: WTP | W81: WTP | AB81: WTP | AG81: WTP | AL81: WTP | AR81: WDP | AW81: WDP | BB81: WDP | BG81: WDP | BL81: WDP | BQ81: WDP | BV81: WDP | CA81: WDP
A82: =A81+1 -> 70 | B82: 03 | C82: 03 | D82: 12 | G82: Kota Padang Panjang | M82: WTP | R82: WTP | W82: WTP | AC82: WDP | AH82: WDP | AL82: WTP | AQ82: WTP | AW82: WDP | BB82: WDP | BG82: WDP | BL82: WDP | BQ82: WDP | BV82: WDP | CA82: WDP
A83: =A82+1 -> 71 | B83: 03 | C83: 03 | D83: 13 | G83: Kota Padang | H83: WTP | M83: WTP | R83: WTP | W83: WTP | AB83: WTP | AG83: WTP | AM83: WDP | AQ83: WTP | AW83: WDP | BB83: WDP | BG83: WDP | BL83: WDP | BS83: TMP | BV83: WDP | CA83: WDP
A84: =A83+1 -> 72 | B84: 03 | C84: 03 | D84: 14 | G84: Kota Payakumbuh | H84: WTP | M84: WTP | R84: WTP | W84: WTP | AB84: WTP | AG84: WTP | AM84: WDP | AR84: WDP | AW84: WDP | BB84: WDP | BG84: WDP | BL84: WDP | BQ84: WDP | BV84: WDP | CA84: WDP
A85: =A84+1 -> 73 | B85: 03 | C85: 03 | D85: 15 | G85: Kota Sawahlunto | H85: WTP | M85: WTP | R85: WTP | W85: WTP | AB85: WTP | AH85: WDP | AM85: WDP | AR85: WDP | AW85: WDP | BB85: WDP | BG85: WDP | BL85: WDP | BQ85: WDP | BV85: WDP | CA85: WDP
A86: =A85+1 -> 74 | B86: 03 | C86: 03 | D86: 16 | G86: Kota Solok | H86: WTP | M86: WTP | R86: WTP | W86: WTP | AC86: WDP | AH86: WDP | AM86: WDP | AQ86: WTP | AW86: WDP | BB86: WDP | BG86: WDP | BL86: WDP | BQ86: WDP | BV86: WDP | CA86: WDP
A87: =A86+1 -> 75 | B87: 03 | C87: 03 | D87: 17 | G87: Kota Pariaman | H87: WTP | M87: WTP | R87: WTP | W87: WTP | AB87: WTP | AH87: WDP | AM87: WDP | AQ87: WTP | AW87: WDP | BB87: WDP | BG87: WDP | BK87: WTP | BQ87: WDP | BV87: WDP
A88: =A87+1 -> 76 | B88: 03 | C88: 03 | D88: 18 | G88: Kab. Pasaman Barat | H88: WTP | M88: WTP | R88: WTP | W88: WTP | AC88: WDP | AH88: WDP | AM88: WDP | AR88: WDP | AW88: WDP | BB88: WDP | BI88: TMP | BN88: TMP | BS88: TMP | BX88: TMP | CA88: WDP
A89: =A88+1 -> 77 | B89: 03 | C89: 03 | D89: 19 | G89: Kab. Dharmasraya | H89: WTP | M89: WTP | R89: WTP | W89: WTP | AB89: WTP | AH89: WDP | AM89: WDP | AR89: WDP | AW89: WDP | BD89: TMP | BG89: WDP | BL89: WDP | BQ89: WDP | BV89: WDP | CA89: WDP
A90: =A89+1 -> 78 | B90: 03 | C90: 03 | D90: 20 | G90: Kab. Solok Selatan | H90: WTP | M90: WTP | R90: WTP | W90: WTP | AC90: WDP | AH90: WDP | AM90: WDP | AR90: WDP | AY90: TMP | BD90: TMP | BI90: TMP | BN90: TMP | BS90: TMP | BX90: TMP | CA90: WDP
B92: 04 | C92: 04 | F92: PROV RIAU | H92: =COUNTIF(H93:H105,"WTP") -> 10 | I92: =COUNTIF(I93:I105,"WDP") -> 0 | J92: =COUNTIF(J93:J105,"TW") -> 0 | K92: =COUNTIF(K93:K105,"TMP") -> 0 | L92: =SUM(H92:K92) -> 10 | M92: =COUNTIF(M93:M105,"WTP") -> 13 | N92: =COUNTIF(N93:N105,"WDP") -> 0 | O92: =COUNTIF(O93:O105,"TW") -> 0 | P92: =COUNTIF(P93:P105,"TMP") -> 0 | Q92: =SUM(M92:P92) -> 13 | R92: =COUNTIF(R93:R105,"WTP") -> 12 | S92: =COUNTIF(S93:S105,"WDP") -> 1 | T92: =COUNTIF(T93:T105,"TW") -> 0 | U92: =COUNTIF(U93:U105,"TMP") -> 0 | V92: =SUM(R92:U92) -> 13 | W92: =COUNTIF(W93:W105,"WTP") -> 11 | X92: =COUNTIF(X93:X105,"WDP") -> 2 | Y92: =COUNTIF(Y93:Y105,"TW") -> 0 | Z92: =COUNTIF(Z93:Z105,"TMP") -> 0 | AA92: =SUM(W92:Z92) -> 13 | AB92: =COUNTIF(AB93:AB105,"WTP") -> 6 | AC92: =COUNTIF(AC93:AC105,"WDP") -> 7 | AD92: =COUNTIF(AD93:AD105,"TW") -> 0 | AE92: =COUNTIF(AE93:AE105,"TMP") -> 0 | AF92: =SUM(AB92:AE92) -> 13 | AG92: =COUNTIF(AG93:AG105,"WTP") -> 7 | AH92: =COUNTIF(AH93:AH105,"WDP") -> 6 | AI92: =COUNTIF(AI93:AI105,"TW") -> 0 | AJ92: =COUNTIF(AJ93:AJ105,"TMP") -> 0 | AK92: =SUM(AG92:AJ92) -> 13 | AL92: =COUNTIF(AL93:AL105,"WTP") -> 7 | AM92: =COUNTIF(AM93:AM105,"WDP") -> 6 | AN92: =COUNTIF(AN93:AN105,"TW") -> 0 | AO92: =COUNTIF(AO93:AO105,"TMP") -> 0 | AP92: =SUM(AL92:AO92) -> 13 | AQ92: =COUNTIF(AQ93:AQ105,"WTP") -> 5 | AR92: =COUNTIF(AR93:AR105,"WDP") -> 8 | AS92: =COUNTIF(AS93:AS105,"TW") -> 0 | AT92: =COUNTIF(AT93:AT105,"TMP") -> 0 | AU92: =SUM(AQ92:AT92) -> 13 | AV92: =COUNTIF(AV93:AV105,"WTP") -> 2 | AW92: =COUNTIF(AW93:AW105,"WDP") -> 10 | AX92: =COUNTIF(AX93:AX105,"TW") -> 0 | AY92: =COUNTIF(AY93:AY105,"TMP") -> 1 | AZ92: =SUM(AV92:AY92) -> 13 | BA92: =COUNTIF(BA93:BA105,"WTP") -> 1 | BB92: =COUNTIF(BB93:BB105,"WDP") -> 11 | BC92: =COUNTIF(BC93:BC105,"TW") -> 1 | BD92: =COUNTIF(BD93:BD105,"TMP") -> 0 | BE92: =SUM(BA92:BD92) -> 13 | BF92: =COUNTIF(BF93:BF104,"WTP") -> 0 | BG92: =COUNTIF(BG93:BG104,"WDP") -> 11 | BH92: =COUNTIF(BH93:BH104,"TW") -> 0 | BI92: =COUNTIF(BI93:BI104,"TMP") -> 1 | BJ92: =SUM(BF92:BI92) -> 12 | BK92: =COUNTIF(BK93:BK104,"WTP") -> 1 | BL92: =COUNTIF(BL93:BL104,"WDP") -> 10 | BM92: =COUNTIF(BM93:BM104,"TW") -> 0 | BN92: =COUNTIF(BN93:BN104,"TMP") -> 1 | BO92: =SUM(BK92:BN92) -> 12 | BP92: =COUNTIF(BP93:BP104,"WTP") -> 0 | BQ92: =COUNTIF(BQ93:BQ104,"WDP") -> 10 | BR92: =COUNTIF(BR93:BR104,"TW") -> 0 | BS92: =COUNTIF(BS93:BS104,"TMP") -> 2 | BT92: =SUM(BP92:BS92) -> 12 | BU92: =COUNTIF(BU93:BU104,"WTP") -> 0 | BV92: =COUNTIF(BV93:BV104,"WDP") -> 9 | BW92: =COUNTIF(BW93:BW104,"TW") -> 0 | BX92: =COUNTIF(BX93:BX104,"TMP") -> 3 | BY92: =SUM(BU92:BX92) -> 12 | BZ92: =COUNTIF(BZ93:BZ104,"WTP") -> 0 | CA92: =COUNTIF(CA93:CA104,"WDP") -> 9 | CB92: =COUNTIF(CB93:CB104,"TW") -> 0 | CC92: =COUNTIF(CC93:CC104,"TMP") -> 0 | CD92: =SUM(BZ92:CC92) -> 9
A93: =A90+1 -> 79 | B93: 04 | C93: 04 | D93: 01 | G93: Provinsi Riau | H93: WTP | M93: WTP | R93: WTP | W93: WTP | AB93: WTP | AG93: WTP | AL93: WTP | AQ93: WTP | AW93: WDP | BA93: WTP | BG93: WDP | BL93: WDP | BQ93: WDP | BV93: WDP | CA93: WDP
A94: =A93+1 -> 80 | B94: 04 | C94: 04 | D94: 02 | G94: Kab. Bengkalis | H94: WTP | M94: WTP | R94: WTP | W94: WTP | AB94: WTP | AG94: WTP | AL94: WTP | AR94: WDP | AY94: TMP | BB94: WDP | BG94: WDP | BL94: WDP | BQ94: WDP | BV94: WDP
A95: =A94+1 -> 81 | B95: 04 | C95: 04 | D95: 03 | G95: Kab. Indragiri Hilir | M95: WTP | R95: WTP | W95: WTP | AC95: WDP | AH95: WDP | AM95: WDP | AR95: WDP | AW95: WDP | BB95: WDP | BG95: WDP | BL95: WDP | BS95: TMP | BX95: TMP | CA95: WDP
A96: =A95+1 -> 82 | B96: 04 | C96: 04 | D96: 04 | G96: Kab. Indragiri Hulu | H96: WTP | M96: WTP | R96: WTP | W96: WTP | AC96: WDP | AH96: WDP | AM96: WDP | AR96: WDP | AW96: WDP | BC96: TW | BI96: TMP | BN96: TMP | BS96: TMP | BX96: TMP
A97: =A96+1 -> 83 | B97: 04 | C97: 04 | D97: 05 | G97: Kab. Kampar | M97: WTP | R97: WTP | W97: WTP | AC97: WDP | AH97: WDP | AM97: WDP | AR97: WDP | AW97: WDP | BB97: WDP | BG97: WDP | BL97: WDP | BQ97: WDP | BV97: WDP | CA97: WDP
A98: =A97+1 -> 84 | B98: 04 | C98: 04 | D98: 06 | G98: Kab. Kuantan Singingi | H98: WTP | M98: WTP | R98: WTP | W98: WTP | AB98: WTP | AG98: WTP | AL98: WTP | AQ98: WTP | AV98: WTP | BB98: WDP | BG98: WDP | BL98: WDP | BQ98: WDP | BX98: TMP | CA98: WDP
A99: =A98+1 -> 85 | B99: 04 | C99: 04 | D99: 07 | G99: Kab. Pelalawan | H99: WTP | M99: WTP | R99: WTP | W99: WTP | AB99: WTP | AG99: WTP | AL99: WTP | AQ99: WTP | AW99: WDP | BB99: WDP | BG99: WDP | BL99: WDP | BQ99: WDP | BV99: WDP | CA99: WDP
A100: =A99+1 -> 86 | B100: 04 | C100: 04 | D100: 08 | G100: Kab. Rokan Hilir | H100: WTP | M100: WTP | S100: WDP | X100: WDP | AC100: WDP | AH100: WDP | AM100: WDP | AR100: WDP | AW100: WDP | BB100: WDP | BG100: WDP | BL100: WDP | BQ100: WDP | BV100: WDP | CA100: WDP
A101: =A100+1 -> 87 | B101: 04 | C101: 04 | D101: 09 | G101: Kab. Rokan Hulu | H101: WTP | M101: WTP | R101: WTP | W101: WTP | AC101: WDP | AG101: WTP | AL101: WTP | AR101: WDP | AW101: WDP | BB101: WDP | BG101: WDP | BL101: WDP | BQ101: WDP | BV101: WDP
A102: =A101+1 -> 88 | B102: 04 | C102: 04 | D102: 10 | G102: Kab. Siak | H102: WTP | M102: WTP | R102: WTP | W102: WTP | AB102: WTP | AG102: WTP | AL102: WTP | AQ102: WTP | AV102: WTP | BB102: WDP | BG102: WDP | BL102: WDP | BQ102: WDP | BV102: WDP | CA102: WDP
A103: =A102+1 -> 89 | B103: 04 | C103: 04 | D103: 11 | G103: Kota Dumai | M103: WTP | R103: WTP | X103: WDP | AC103: WDP | AH103: WDP | AM103: WDP | AR103: WDP | AW103: WDP | BB103: WDP | BG103: WDP | BL103: WDP | BQ103: WDP | BV103: WDP | CA103: WDP
...

Sheet OPINI 2010
B1: RINCIAN OPINI HASIL AUDIT BPK ATAS LKPD
B2: POSISI PER 30 JUNI 2011
B4: Nomor | E4: Perwakilan/Pemda | M4: WTP | N4: WDP | O4: TW | P4: TMP | Q4: JML | S4: WTP | V4: WDP | X4: TW | Z4: TMP | AB4: JML | AD4: WTP | AE4: WDP | AF4: TW | AG4: TMP | AH4: JML | AI4: WTP | AJ4: WDP | AK4: TW | AL4: TMP | AM4: JML | AN4: WTP | AO4: WDP | AP4: TW | AQ4: TMP | AS4: WTP | AT4: WDP | AU4: TW | AV4: TMP
H5: MOU | I5: ASS BPKP | J5: Asist BPKP | K5: SIMDA | L5: Meningkat | M5: 2010 | S5: 2009 | AC5: ASS BPKP | AD5: 2008 | AI5: 2007 | AN5: 2006 | AS5: 2005
B6: 01 | E6: PERW. BPKP PROV NAD | M6: =M7 -> 2 | N6: =N7 -> 0 | O6: =O7 -> 0 | P6: =P7 -> 0 | S6: =S7 -> 6 | V6: =V7 -> 15 | X6: =X7 -> 1 | Z6: =Z7 -> 2 | AD6: =AD7 -> 7 | AE6: =AE7 -> 15 | AF6: =AF7 -> 1 | AG6: =AG7 -> 1 | AI6: =AI7 -> 1 | AJ6: =AJ7 -> 18 | AK6: =AK7 -> 0 | AL6: =AL7 -> 3 | AN6: =AN7 -> 0 | AO6: =AO7 -> 19 | AP6: =AP7 -> 0 | AQ6: =AQ7 -> 3 | AS6: =AS7 -> 0 | AT6: =AT7 -> 17 | AU6: =AU7 -> 1 | AV6: =AV7 -> 0
B7: 01 | C7: 01 | F7: PROV NAD | M7: =COUNTIF(M8:M31,"WTP") -> 2 | N7: =COUNTIF(N8:N31,"WDP") -> 0 | O7: =COUNTIF(O8:O31,"TW") -> 0 | P7: =COUNTIF(P8:P31,"TMP") -> 0 | Q7: =SUM(H7:P7) -> 2 | S7: =COUNTIF(S8:S31,"WTP") -> 6 | V7: =COUNTIF(V8:V31,"WDP") -> 15 | X7: =COUNTIF(X8:X31,"TW") -> 1 | Z7: =COUNTIF(Z8:Z31,"TMP") -> 2 | AB7: =SUM(S7:Z7) -> 24 | AD7: =COUNTIF(AD8:AD31,"WTP") -> 7 | AE7: =COUNTIF(AE8:AE31,"WDP") -> 15 | AF7: =COUNTIF(AF8:AF31,"TW") -> 1 | AG7: =COUNTIF(AG8:AG31,"TMP") -> 1 | AH7: =SUM(AD7:AG7) -> 24 | AI7: =COUNTIF(AI8:AI31,"WTP") -> 1 | AJ7: =COUNTIF(AJ8:AJ31,"WDP") -> 18 | AK7: =COUNTIF(AK8:AK31,"TW") -> 0 | AL7: =COUNTIF(AL8:AL31,"TMP") -> 3 | AM7: =SUM(AI7:AL7) -> 22 | AN7: =COUNTIF(AN8:AN31,"WTP") -> 0 | AO7: =COUNTIF(AO8:AO31,"WDP") -> 19 | AP7: =COUNTIF(AP8:AP31,"TW") -> 0 | AQ7: =COUNTIF(AQ8:AQ31,"TMP") -> 3 | AR7: =SUM(AN7:AQ7) -> 22 | AS7: =COUNTIF(AS8:AS31,"WTP") -> 0 | AT7: =COUNTIF(AT8:AT31,"WDP") -> 17 | AU7: =COUNTIF(AU8:AU31,"TW") -> 1 | AV7: =COUNTIF(AV8:AV31,"TMP") -> 0 | AW7: =SUM(AS7:AV7) -> 18
A8: 1 | B8: 01 | C8: 01 | D8: 01 | G8: Provinsi Nanggroe Aceh Darussalam | H8: 1 | V8: WDP | W8: 1 | AE8: WDP | AJ8: WDP | AO8: WDP | AT8: WDP
A9: 2 | B9: 01 | C9: 01 | D9: 02 | G9: Kab. Aceh Barat | H9: 1 | V9: WDP | W9: 1 | AE9: WDP | AJ9: WDP | AQ9: TMP | AT9: WDP
A10: 3 | B10: 01 | C10: 01 | D10: 03 | G10: Kab. Aceh Besar | H10: 1 | V10: WDP | W10: 1 | AE10: WDP | AJ10: WDP | AO10: WDP | AT10: WDP
A11: 4 | B11: 01 | C11: 01 | D11: 04 | G11: Kab. Aceh Selatan | V11: WDP | AE11: WDP | AJ11: WDP | AO11: WDP | AT11: WDP
A12: 5 | B12: 01 | C12: 01 | D12: 05 | G12: Kab. Aceh Singkil | H12: 1 | V12: WDP | W12: 1 | AE12: WDP | AJ12: WDP | AO12: WDP | AT12: WDP
A13: 6 | B13: 01 | C13: 01 | D13: 06 | G13: Kab. Aceh Tengah | H13: 1 | I13: 1 | S13: WTP | AD13: WTP | AI13: WTP | AO13: WDP | AT13: WDP
A14: 7 | B14: 01 | C14: 01 | D14: 07 | G14: Kab. Aceh Tenggara | H14: 1 | V14: WDP | W14: 1 | AE14: WDP | AL14: TMP | AO14: WDP
A15: 8 | B15: 01 | C15: 01 | D15: 08 | G15: Kab. Aceh Timur | H15: 1 | V15: WDP | W15: 1 | AE15: WDP | AL15: TMP | AQ15: TMP | AU15: TW
A16: 9 | B16: 01 | C16: 01 | D16: 09 | G16: Kab. Aceh Utara | H16: 1 | Z16: TMP | AA16: 1 | AE16: WDP | AJ16: WDP | AO16: WDP | AT16: WDP
A17: 10 | B17: 01 | C17: 01 | D17: 10 | G17: Kab. Bireun | Z17: TMP | AG17: TMP | AJ17: WDP | AO17: WDP | AT17: WDP
A18: 11 | B18: 01 | C18: 01 | D18: 11 | G18: Kab. Pidie | H18: 1 | V18: WDP | W18: 1 | AE18: WDP | AJ18: WDP | AO18: WDP
A19: 12 | B19: 01 | C19: 01 | D19: 12 | G19: Kab. Simeulue | H19: 1 | X19: TW | Y19: 1 | AE19: WDP | AJ19: WDP | AO19: WDP
A20: 13 | B20: 01 | C20: 01 | D20: 13 | G20: Kota Banda Aceh | H20: 1 | I20: 1 | M20: WTP | S20: WTP | U20: 1 | AC20: 1 | AD20: WTP | AJ20: WDP | AO20: WDP | AT20: WDP
A21: 14 | B21: 01 | C21: 01 | D21: 14 | G21: Kota Sabang | H21: 1 | I21: 1 | M21: WTP | S21: WTP | U21: 1 | AC21: 1 | AD21: WTP | AJ21: WDP | AO21: WDP | AT21: WDP
A22: 15 | B22: 01 | C22: 01 | D22: 15 | G22: Kota Langsa | H22: 1 | I22: 1 | S22: WTP | U22: 1 | AC22: 1 | AD22: WTP | AJ22: WDP | AO22: WDP | AT22: WDP
A23: 16 | B23: 01 | C23: 01 | D23: 16 | G23: Kota Lhokseumawe | H23: 1 | I23: 1 | S23: WTP | U23: 1 | AC23: 1 | AD23: WTP | AJ23: WDP | AO23: WDP | AT23: WDP
A24: 17 | B24: 01 | C24: 01 | D24: 17 | G24: Kab. Nagan Raya | H24: 1 | S24: WTP | U24: 1 | AC24: 1 | AD24: WTP | AJ24: WDP | AO24: WDP | AT24: WDP
A25: 18 | B25: 01 | C25: 01 | D25: 18 | G25: Kab. Aceh Jaya | H25: 1 | V25: WDP | W25: 1 | AF25: TW | AJ25: WDP | AO25: WDP
A26: 19 | B26: 01 | C26: 01 | D26: 19 | G26: Kab. Aceh Barat Daya | H26: 1 | V26: WDP | W26: 1 | AE26: WDP | AJ26: WDP | AO26: WDP | AT26: WDP
A27: 20 | B27: 01 | C27: 01 | D27: 20 | G27: Kab. Gayo Lues | H27: 1 | V27: WDP | W27: 1 | AE27: WDP | AJ27: WDP | AO27: WDP | AT27: WDP
A28: 21 | B28: 01 | C28: 01 | D28: 21 | G28: Kab. Aceh Tamiang | H28: 1 | V28: WDP | W28: 1 | AE28: WDP | AL28: TMP | AQ28: TMP | AT28: WDP
A29: 22 | B29: 01 | C29: 01 | D29: 22 | G29: Kab. Bener Meriah | H29: 1 | V29: WDP | W29: 1 | AE29: WDP | AJ29: WDP | AO29: WDP | AT29: WDP
A30: 23 | B30: 01 | C30: 01 | D30: 23 | G30: Kota Subulussalam | H30: 1 | V30: WDP | W30: 1 | AE30: WDP
A31: 24 | B31: 01 | C31: 01 | D31: 24 | G31: Kab. Pidie jaya | H31: 1 | V31: WDP | W31: 1 | AC31: 1 | AD31: WTP
B32: 02 | E32: PERW. BPKP PROV SUMUT | M32: =M33 -> 0 | N32: =N33 -> 19 | O32: =O33 -> 0 | P32: =P33 -> 8 | S32: =S33 -> 0 | V32: =V33 -> 18 | X32: =X33 -> 2 | Z32: =Z33 -> 9 | AD32: =AD33 -> 0 | AE32: =AE33 -> 14 | AF32: =AF33 -> 0 | AG32: =AG33 -> 13 | AI32: =AI33 -> 0 | AJ32: =AJ33 -> 12 | AK32: =AK33 -> 0 | AL32: =AL33 -> 15 | AN32: =AN33 -> 0 | AO32: =AO33 -> 8 | AP32: =AP33 -> 2 | AQ32: =AQ33 -> 16 | AS32: =AS33 -> 0 | AT32: =AT33 -> 17 | AU32: =AU33 -> 3 | AV32: =AV33 -> 0
B33: 02 | C33: 02 | F33: PROV SUMUT | M33: =COUNTIF(M34:M64,"WTP") -> 0 | N33: =COUNTIF(N34:N64,"WDP") -> 19 | O33: =COUNTIF(O34:O64,"TW") -> 0 | P33: =COUNTIF(P34:P64,"TMP") -> 8 | Q33: =SUM(H33:P33) -> 27 | S33: =COUNTIF(S34:S64,"WTP") -> 0 | V33: =COUNTIF(V34:V64,"WDP") -> 18 | X33: =COUNTIF(X34:X64,"TW") -> 2 | Z33: =COUNTIF(Z34:Z64,"TMP") -> 9 | AB33: =SUM(S33:Z33) -> 29 | AD33: =COUNTIF(AD34:AD64,"WTP") -> 0 | AE33: =COUNTIF(AE34:AE64,"WDP") -> 14 | AF33: =COUNTIF(AF34:AF64,"TW") -> 0 | AG33: =COUNTIF(AG34:AG64,"TMP") -> 13 | AH33: =SUM(AD33:AG33) -> 27 | AI33: =COUNTIF(AI34:AI64,"WTP") -> 0 | AJ33: =COUNTIF(AJ34:AJ64,"WDP") -> 12 | AK33: =COUNTIF(AK34:AK64,"TW") -> 0 | AL33: =COUNTIF(AL34:AL64,"TMP") -> 15 | AM33: =SUM(AI33:AL33) -> 27 | AN33: =COUNTIF(AN34:AN64,"WTP") -> 0 | AO33: =COUNTIF(AO34:AO64,"WDP") -> 8 | AP33: =COUNTIF(AP34:AP64,"TW") -> 2 | AQ33: =COUNTIF(AQ34:AQ64,"TMP") -> 16 | AR33: =SUM(AN33:AQ33) -> 26 | AS33: =COUNTIF(AS34:AS64,"WTP") -> 0 | AT33: =COUNTIF(AT34:AT64,"WDP") -> 17 | AU33: =COUNTIF(AU34:AU64,"TW") -> 3 | AV33: =COUNTIF(AV34:AV64,"TMP") -> 0 | AW33: =SUM(AS33:AV33) -> 20
A34: 25 | B34: 02 | C34: 02 | D34: 01 | G34: Provinsi Sumatera Utara | H34: 1 | N34: WDP | T34: 1 | V34: WDP | W34: 1 | AE34: WDP | AL34: TMP | AQ34: TMP | AT34: WDP
A35: 26 | B35: 02 | C35: 02 | D35: 02 | G35: Kab. Asahan | H35: 1 | N35: WDP | V35: WDP | W35: 1 | AE35: WDP | AL35: TMP | AO35: WDP | AT35: WDP
A36: 27 | B36: 02 | C36: 02 | D36: 03 | G36: Kab. Dairi | H36: 1 | N36: WDP | V36: WDP | W36: 1 | AE36: WDP | AL36: TMP | AQ36: TMP | AT36: WDP
A37: 28 | B37: 02 | C37: 02 | D37: 04 | G37: Kab. Deli Serdang | H37: 1 | P37: TMP | Z37: TMP | AG37: TMP | AJ37: WDP | AQ37: TMP | AT37: WDP
A38: 29 | B38: 02 | C38: 02 | D38: 05 | G38: Kab. Tanah Karo | H38: 1 | N38: WDP | T38: 1 | V38: WDP | W38: 1 | AE38: WDP | AL38: TMP | AO38: WDP | AT38: WDP
A39: 30 | B39: 02 | C39: 02 | D39: 06 | G39: Kab. Labuhan Batu | H39: 1 | N39: WDP | V39: WDP | W39: 1 | AG39: TMP | AL39: TMP | AO39: WDP | AT39: WDP
A40: 31 | B40: 02 | C40: 02 | D40: 07 | G40: Kab. Langkat | H40: 1 | P40: TMP | Z40: TMP | AA40: 1 | AG40: TMP | AL40: TMP | AO40: WDP
A41: 32 | B41: 02 | C41: 02 | D41: 08 | G41: Kab. Mandailing Natal | N41: WDP | V41: WDP | W41: 1 | AG41: TMP | AL41: TMP | AP41: TW | AT41: WDP
A42: 33 | B42: 02 | C42: 02 | D42: 09 | G42: Kab. Nias | H42: 1 | P42: TMP | Z42: TMP | AA42: 1 | AG42: TMP | AL42: TMP | AQ42: TMP
A43: 34 | B43: 02 | C43: 02 | D43: 10 | G43: Kab. Simalungun | H43: 1 | N43: WDP | T43: 1 | V43: WDP | W43: 1 | AE43: WDP | AL43: TMP | AO43: WDP
A44: 35 | B44: 02 | C44: 02 | D44: 11 | G44: Kab. Tapanuli Selatan | H44: 1 | P44: TMP | X44: TW | AG44: TMP | AJ44: WDP | AQ44: TMP | AU44: TW
A45: 36 | B45: 02 | C45: 02 | D45: 12 | G45: Kab. Tapanuli Tengah | H45: 1 | N45: WDP | V45: WDP | AE45: WDP | AJ45: WDP | AQ45: TMP | AT45: WDP
A46: 37 | B46: 02 | C46: 02 | D46: 13 | G46: Kab. Tapanuli Utara | H46: 1 | N46: WDP | V46: WDP | W46: 1 | AG46: TMP | AL46: TMP | AQ46: TMP | AT46: WDP
A47: 38 | B47: 02 | C47: 02 | D47: 14 | G47: Kab. Toba Samosir | H47: 1 | N47: WDP | V47: WDP | W47: 1 | AG47: TMP | AL47: TMP | AQ47: TMP | AT47: WDP
A48: 39 | B48: 02 | C48: 02 | D48: 15 | G48: Kota Binjai | H48: 1 | P48: TMP | X48: TW | AE48: WDP | AJ48: WDP | AQ48: TMP
A49: 40 | B49: 02 | C49: 02 | D49: 16 | G49: Kota Medan | H49: 1 | P49: TMP | Z49: TMP | AA49: 1 | AG49: TMP | AL49: TMP | AQ49: TMP | AT49: WDP
A50: 41 | B50: 02 | C50: 02 | D50: 17 | G50: Kota Pematang Siantar | H50: 1 | P50: TMP | Z50: TMP | AA50: 1 | AG50: TMP | AL50: TMP | AP50: TW | AU50: TW
A51: 42 | B51: 02 | C51: 02 | D51: 18 | G51: Kota Sibolga | N51: WDP | V51: WDP | W51: 1 | AE51: WDP | AJ51: WDP | AQ51: TMP | AT51: WDP
A52: 43 | B52: 02 | C52: 02 | D52: 19 | G52: Kota Tanjung Balai | H52: 1 | N52: WDP | T52: 1 | V52: WDP | W52: 1 | AE52: WDP | AJ52: WDP | AQ52: TMP | AT52: WDP
A53: 44 | B53: 02 | C53: 02 | D53: 20 | G53: Kota Tebing Tinggi | H53: 1 | N53: WDP | V53: WDP | W53: 1 | AE53: WDP | AJ53: WDP | AQ53: TMP | AT53: WDP
A54: 45 | B54: 02 | C54: 02 | D54: 21 | G54: Kota Padang Sidempuan | H54: 1 | N54: WDP | V54: WDP | W54: 1 | AG54: TMP | AL54: TMP | AQ54: TMP | AT54: WDP
A55: 46 | B55: 02 | C55: 02 | D55: 22 | G55: Kab. Pakpak Bharat | H55: 1 | N55: WDP | T55: 1 | V55: WDP | W55: 1 | AE55: WDP | AJ55: WDP | AO55: WDP | AU55: TW
A56: 47 | B56: 02 | C56: 02 | D56: 23 | G56: Kab. Nias Selatan | H56: 1 | P56: TMP | Z56: TMP | AA56: 1 | AG56: TMP | AL56: TMP | AQ56: TMP
A57: 48 | B57: 02 | C57: 02 | D57: 24 | G57: Kab. Humbang Hasundutan | N57: WDP | T57: 1 | V57: WDP | W57: 1 | AE57: WDP | AJ57: WDP | AQ57: TMP | AT57: WDP
A58: 49 | B58: 02 | C58: 02 | D58: 25 | G58: Kab. Serdang Berdagai | H58: 1 | N58: WDP | T58: 1 | V58: WDP | W58: 1 | AE58: WDP | AJ58: WDP | AO58: WDP | AT58: WDP
A59: 50 | B59: 02 | C59: 02 | D59: 26 | G59: Kab. Samosir | H59: 1 | N59: WDP | T59: 1 | V59: WDP | W59: 1 | AE59: WDP | AJ59: WDP | AO59: WDP
A60: 51 | B60: 02 | C60: 02 | D60: 27 | G60: kab. Batu bara | N60: WDP | Z60: TMP | AA60: 1 | AG60: TMP | AJ60: WDP
A61: 52 | B61: 02 | C61: 02 | D61: 28 | G61: Kab. Labuhan Batu Utara
A62: 53 | B62: 02 | C62: 02 | D62: 29 | G62: Kab. Labuhan Batu Selatan
A63: 54 | B63: 02 | C63: 02 | D63: 30 | G63: Kab. Padang Lawas Utara | Z63: TMP
A64: 55 | B64: 02 | C64: 02 | D64: 31 | G64: Kab. Padang Lawas | Z64: TMP | AA64: 1
B65: 03 | E65: PERW. BPKP PROV SUMBAR | M65: =M66 -> 0 | N65: =N66 -> 0 | O65: =O66 -> 0 | P65: =P66 -> 0 | S65: =S66 -> 1 | V65: =V66 -> 16 | X65: =X66 -> 0 | Z65: =Z66 -> 3 | AD65: =AD66 -> 2 | AE65: =AE66 -> 16 | AF65: =AF66 -> 0 | AG65: =AG66 -> 2 | AI65: =AI66 -> 0 | AJ65: =AJ66 -> 15 | AK65: =AK66 -> 0 | AL65: =AL66 -> 5 | AN65: =AN66 -> 0 | AO65: =AO66 -> 17 | AP65: =AP66 -> 0 | AQ65: =AQ66 -> 3 | AS65: =AS66 -> 0 | AT65: =AT66 -> 18 | AU65: =AU66 -> 0 | AV65: =AV66 -> 0
B66: 03 | C66: 03 | F66: PROV SUMBAR | M66: =COUNTIF(M67:M86,"WTP") -> 0 | N66: =COUNTIF(N67:N86,"WDP") -> 0 | O66: =COUNTIF(O67:O86,"TW") -> 0 | P66: =COUNTIF(P67:P86,"TMP") -> 0 | Q66: =SUM(H66:P66) -> 0 | S66: =COUNTIF(S67:S86,"WTP") -> 1 | V66: =COUNTIF(V67:V86,"WDP") -> 16 | X66: =COUNTIF(X67:X86,"TW") -> 0 | Z66: =COUNTIF(Z67:Z86,"TMP") -> 3 | AB66: =SUM(S66:Z66) -> 20 | AD66: =COUNTIF(AD67:AD86,"WTP") -> 2 | AE66: =COUNTIF(AE67:AE86,"WDP") -> 16 | AF66: =COUNTIF(AF67:AF86,"TW") -> 0 | AG66: =COUNTIF(AG67:AG86,"TMP") -> 2 | AH66: =SUM(AD66:AG66) -> 20 | AI66: =COUNTIF(AI67:AI86,"WTP") -> 0 | AJ66: =COUNTIF(AJ67:AJ86,"WDP") -> 15 | AK66: =COUNTIF(AK67:AK86,"TW") -> 0 | AL66: =COUNTIF(AL67:AL86,"TMP") -> 5 | AM66: =SUM(AI66:AL66) -> 20 | AN66: =COUNTIF(AN67:AN86,"WTP") -> 0 | AO66: =COUNTIF(AO67:AO86,"WDP") -> 17 | AP66: =COUNTIF(AP67:AP86,"TW") -> 0 | AQ66: =COUNTIF(AQ67:AQ86,"TMP") -> 3 | AR66: =SUM(AN66:AQ66) -> 20 | AS66: =COUNTIF(AS67:AS86,"WTP") -> 0 | AT66: =COUNTIF(AT67:AT86,"WDP") -> 18 | AU66: =COUNTIF(AU67:AU86,"TW") -> 0 | AV66: =COUNTIF(AV67:AV86,"TMP") -> 0 | AW66: =SUM(AS66:AV66) -> 18
A67: 56 | B67: 03 | C67: 03 | D67: 01 | G67: Provinsi Sumatera Barat | H67: 1 | Z67: TMP | AA67: 1 | AE67: WDP | AJ67: WDP | AO67: WDP | AT67: WDP
A68: 57 | B68: 03 | C68: 03 | D68: 02 | G68: Kab. Limapuluh Kota | V68: WDP | W68: 1 | AE68: WDP | AJ68: WDP | AO68: WDP
A69: 58 | B69: 03 | C69: 03 | D69: 03 | G69: Kab. Agam | H69: 1 | V69: WDP | W69: 1 | AE69: WDP | AJ69: WDP | AO69: WDP | AT69: WDP
A70: 59 | B70: 03 | C70: 03 | D70: 04 | G70: Kab. Kepulauan Mentawai | V70: WDP | W70: 1 | AE70: WDP | AJ70: WDP | AO70: WDP | AT70: WDP
A71: 60 | B71: 03 | C71: 03 | D71: 05 | G71: Kab. Padang Pariaman | H71: 1 | V71: WDP | W71: 1 | AC71: 1 | AD71: WTP | AJ71: WDP | AO71: WDP | AT71: WDP
A72: 61 | B72: 03 | C72: 03 | D72: 06 | G72: Kab. Pasaman | H72: 1 | V72: WDP | W72: 1 | AE72: WDP | AJ72: WDP | AQ72: TMP | AT72: WDP
A73: 62 | B73: 03 | C73: 03 | D73: 07 | G73: Kab. Pesisir Selatan | V73: WDP | AE73: WDP | AJ73: WDP | AO73: WDP | AT73: WDP
A74: 63 | B74: 03 | C74: 03 | D74: 08 | G74: Kab. Sijunjung | V74: WDP | AE74: WDP | AL74: TMP | AO74: WDP | AT74: WDP
A75: 64 | B75: 03 | C75: 03 | D75: 09 | G75: Kab. Solok | V75: WDP | AE75: WDP | AJ75: WDP | AO75: WDP | AT75: WDP
A76: 65 | B76: 03 | C76: 03 | D76: 10 | G76: Kab. Tanah Datar | H76: 1 | I76: 1 | S76: WTP | U76: 1 | AE76: WDP | AL76: TMP | AO76: WDP | AT76: WDP
A77: 66 | B77: 03 | C77: 03 | D77: 11 | G77: Kota Bukit Tinggi | V77: WDP | W77: 1 | AE77: WDP | AJ77: WDP | AO77: WDP | AT77: WDP
A78: 67 | B78: 03 | C78: 03 | D78: 12 | G78: Kota Padang Panjang | V78: WDP | W78: 1 | AE78: WDP | AJ78: WDP | AO78: WDP | AT78: WDP
A79: 68 | B79: 03 | C79: 03 | D79: 13 | G79: Kota Padang | V79: WDP | W79: 1 | AE79: WDP | AL79: TMP | AO79: WDP | AT79: WDP
A80: 69 | B80: 03 | C80: 03 | D80: 14 | G80: Kota Payakumbuh | V80: WDP | AE80: WDP | AJ80: WDP | AO80: WDP | AT80: WDP
A81: 70 | B81: 03 | C81: 03 | D81: 15 | G81: Kota Sawahlunto | V81: WDP | AE81: WDP | AJ81: WDP | AO81: WDP | AT81: WDP
A82: 71 | B82: 03 | C82: 03 | D82: 16 | G82: Kota Solok | V82: WDP | AE82: WDP | AJ82: WDP | AO82: WDP | AT82: WDP
A83: 72 | B83: 03 | C83: 03 | D83: 17 | G83: Kota Pariaman | H83: 1 | J83: 1 | K83: 1 | L83: 1 | V83: WDP | W83: 1 | AC83: 1 | AD83: WTP | AJ83: WDP | AO83: WDP
A84: 73 | B84: 03 | C84: 03 | D84: 18 | G84: Kab. Pasaman Barat | H84: 1 | Z84: TMP | AA84: 1 | AG84: TMP | AL84: TMP | AQ84: TMP | AT84: WDP
A85: 74 | B85: 03 | C85: 03 | D85: 19 | G85: Kab. Dharmasraya | V85: WDP | AE85: WDP | AJ85: WDP | AO85: WDP | AT85: WDP
A86: 75 | B86: 03 | C86: 03 | D86: 20 | G86: Kab. Solok Selatan | Z86: TMP | AG86: TMP | AL86: TMP | AQ86: TMP | AT86: WDP
B87: 04 | E87: PERW. BPKP PROV RIAU | M87: =M88+M102 -> 1 | N87: =N88+N102 -> 1 | O87: =O88+O102 -> 0 | P87: =P88+P102 -> 0 | S87: =S88+S102 -> 0 | V87: =V88+V102 -> 18 | X87: =X88+X102 -> 0 | Z87: =Z88+Z102 -> 2 | AD87: =AD88+AD102 -> 1 | AE87: =AE88+AE102 -> 17 | AF87: =AF88+AF102 -> 0 | AG87: =AG88+AG102 -> 1 | AI87: =AI88+AI102 -> 0 | AJ87: =AJ88+AJ102 -> 17 | AK87: =AK88+AK102 -> 0 | AL87: =AL88+AL102 -> 2 | AN87: =AN88+AN102 -> 0 | AO87: =AO88+AO102 -> 13 | AP87: =AP88+AP102 -> 0 | AQ87: =AQ88+AQ102 -> 6 | AS87: =AS88+AS102 -> 0 | AT87: =AT88+AT102 -> 14 | AU87: =AU88+AU102 -> 0 | AV87: =AV88+AV102 -> 0
B88: 04 | C88: 04 | F88: PROV RIAU | M88: =COUNTIF(M89:M100,"WTP") -> 1 | N88: =COUNTIF(N89:N100,"WDP") -> 1 | O88: =COUNTIF(O89:O100,"TW") -> 0 | P88: =COUNTIF(P89:P100,"TMP") -> 0 | Q88: =SUM(H88:P88) -> 2 | S88: =COUNTIF(S89:S100,"WTP") -> 0 | V88: =COUNTIF(V89:V100,"WDP") -> 11 | X88: =COUNTIF(X89:X100,"TW") -> 0 | Z88: =COUNTIF(Z89:Z100,"TMP") -> 1 | AB88: =SUM(S88:Z88) -> 12 | AD88: =COUNTIF(AD89:AD100,"WTP") -> 1 | AE88: =COUNTIF(AE89:AE100,"WDP") -> 10 | AF88: =COUNTIF(AF89:AF100,"TW") -> 0 | AG88: =COUNTIF(AG89:AG100,"TMP") -> 1 | AH88: =SUM(AD88:AG88) -> 12 | AI88: =COUNTIF(AI89:AI100,"WTP") -> 0 | AJ88: =COUNTIF(AJ89:AJ100,"WDP") -> 10 | AK88: =COUNTIF(AK89:AK100,"TW") -> 0 | AL88: =COUNTIF(AL89:AL100,"TMP") -> 2 | AM88: =SUM(AI88:AL88) -> 12 | AN88: =COUNTIF(AN89:AN100,"WTP") -> 0 | AO88: =COUNTIF(AO89:AO100,"WDP") -> 9 | AP88: =COUNTIF(AP89:AP100,"TW") -> 0 | AQ88: =COUNTIF(AQ89:AQ100,"TMP") -> 3 | AR88: =SUM(AN88:AQ88) -> 12 | AS88: =COUNTIF(AS89:AS100,"WTP") -> 0 | AT88: =COUNTIF(AT89:AT100,"WDP") -> 9 | AU88: =COUNTIF(AU89:AU100,"TW") -> 0 | AV88: =COUNTIF(AV89:AV100,"TMP") -> 0 | AW88: =SUM(AS88:AV88) -> 9
A89: 76 | B89: 04 | C89: 04 | D89: 01 | G89: Provinsi Riau | M89: WTP | V89: WDP | W89: 1 | AE89: WDP | AJ89: WDP | AO89: WDP | AT89: WDP
A90: 77 | B90: 04 | C90: 04 | D90: 02 | G90: Kab. Bengkalis | H90: 1 | V90: WDP | W90: 1 | AE90: WDP | AJ90: WDP | AO90: WDP
A91: 78 | B91: 04 | C91: 04 | D91: 03 | G91: Kab. Indragiri Hilir | V91: WDP | AE91: WDP | AL91: TMP | AQ91: TMP | AT91: WDP
A92: 79 | B92: 04 | C92: 04 | D92: 04 | G92: Kab. Indragiri Hulu | Z92: TMP | AG92: TMP | AL92: TMP | AQ92: TMP
A93: 80 | B93: 04 | C93: 04 | D93: 05 | G93: Kab. Kampar | V93: WDP | AE93: WDP | AJ93: WDP | AO93: WDP | AT93: WDP
A94: 81 | B94: 04 | C94: 04 | D94: 06 | G94: Kab. Kuantan Singingi | V94: WDP | W94: 1 | AE94: WDP | AJ94: WDP | AQ94: TMP | AT94: WDP
A95: 82 | B95: 04 | C95: 04 | D95: 07 | G95: Kab. Pelalawan | V95: WDP | AE95: WDP | AJ95: WDP | AO95: WDP | AT95: WDP
A96: 83 | B96: 04 | C96: 04 | D96: 08 | G96: Kab. Rokan Hilir | V96: WDP | W96: 1 | AE96: WDP | AJ96: WDP | AO96: WDP | AT96: WDP
A97: 84 | B97: 04 | C97: 04 | D97: 09 | G97: Kab. Rokan Hulu | N97: WDP | V97: WDP | W97: 1 | AE97: WDP | AJ97: WDP | AO97: WDP
A98: 85 | B98: 04 | C98: 04 | D98: 10 | G98: Kab. Siak | V98: WDP | W98: 1 | AE98: WDP | AJ98: WDP | AO98: WDP | AT98: WDP
A99: 86 | B99: 04 | C99: 04 | D99: 11 | G99: Kota Dumai | H99: 1 | V99: WDP | W99: 1 | AE99: WDP | AJ99: WDP | AO99: WDP | AT99: WDP
A100: 87 | B100: 04 | C100: 04 | D100: 12 | G100: Kota Pekanbaru | V100: WDP | W100: 1 | AC100: 1 | AD100: WTP | AJ100: WDP | AO100: WDP | AT100: WDP
B101: 04 | C101: 04 | D101: 13 | G101: Kab. Kepualauan Meranti
...

Sheet Opini Rinci v2 
D1: RINCIAN OPINI HASIL AUDIT BPK ATAS LKPD
D2: ='OPINI Total'!A2 -> POSISI PER 27 AGUSTUS 2020 JAM 09.42
A4: Nomor | E4: Nama Pemda | F4: 2019 | G4: 2018 | H4: 2017 | I4: 2016 | J4: 2015 | K4: 2014 | L4: KET 2013 | M4: Keg | N4: Keg | O4: 2013 | P4: KET 2012 | Q4: 2012 | R4: 2011 | S4: 2010 | T4: 2009 | U4: 2008 | V4: 2007 | W4: 2006 | X4: 2005
B6: 01 | D6: PROV NAD
A7: =IF(C7="","",1) -> 1 | B7: 01 | C7: 01 | E7: Provinsi Aceh | F7: =CONCATENATE('OPINI Rinci v1'!H9,'OPINI Rinci v1'!I9,'OPINI Rinci v1'!J9,'OPINI Rinci v1'!K9) | G7: =CONCATENATE('OPINI Rinci v1'!M9,'OPINI Rinci v1'!N9,'OPINI Rinci v1'!O9,'OPINI Rinci v1'!P9) -> WTP | H7: =CONCATENATE('OPINI Rinci v1'!R9,'OPINI Rinci v1'!S9,'OPINI Rinci v1'!T9,'OPINI Rinci v1'!U9) -> WTP | I7: =CONCATENATE('OPINI Rinci v1'!W9,'OPINI Rinci v1'!X9,'OPINI Rinci v1'!Y9,'OPINI Rinci v1'!Z9) -> WTP | J7: =CONCATENATE('OPINI Rinci v1'!AB9,'OPINI Rinci v1'!AC9,'OPINI Rinci v1'!AD9,'OPINI Rinci v1'!AE9) -> WTP | K7: =CONCATENATE('OPINI Rinci v1'!AG9,'OPINI Rinci v1'!AH9,'OPINI Rinci v1'!AI9,'OPINI Rinci v1'!AJ9) -> WDP | L7: BNS | O7: =CONCATENATE('OPINI Rinci v1'!AL9,'OPINI Rinci v1'!AM9,'OPINI Rinci v1'!AO9,'OPINI Rinci v1'!AN9) -> WDP | P7: BNS | Q7: =CONCATENATE('OPINI Rinci v1'!AQ9,'OPINI Rinci v1'!AR9,'OPINI Rinci v1'!AT9,'OPINI Rinci v1'!AS9) -> WDP | R7: =CONCATENATE('OPINI Rinci v1'!AV9,'OPINI Rinci v1'!AW9,'OPINI Rinci v1'!AX9,'OPINI Rinci v1'!AY9) -> WDP | S7: =CONCATENATE('OPINI Rinci v1'!BA9,'OPINI Rinci v1'!BB9,'OPINI Rinci v1'!BC9,'OPINI Rinci v1'!BD9) -> WDP | T7: =CONCATENATE('OPINI Rinci v1'!BF9,'OPINI Rinci v1'!BG9,'OPINI Rinci v1'!BH9,'OPINI Rinci v1'!BI9) -> WDP | U7: =CONCATENATE('OPINI Rinci v1'!BK9,'OPINI Rinci v1'!BL9,'OPINI Rinci v1'!BM9,'OPINI Rinci v1'!BN9) -> WDP | V7: =CONCATENATE('OPINI Rinci v1'!BP9,'OPINI Rinci v1'!BQ9,'OPINI Rinci v1'!BR9,'OPINI Rinci v1'!BS9) -> WDP | W7: =CONCATENATE('OPINI Rinci v1'!BU9,'OPINI Rinci v1'!BV9,'OPINI Rinci v1'!BW9,'OPINI Rinci v1'!BX9) -> WDP | X7: =CONCATENATE('OPINI Rinci v1'!BZ9,'OPINI Rinci v1'!CA9,'OPINI Rinci v1'!CB9,'OPINI Rinci v1'!CC9) -> WDP | Z7: 1
A8: =IF(C8="","",A7+1) -> 2 | B8: 01 | C8: 02 | E8: Kab. Aceh Barat | F8: =CONCATENATE('OPINI Rinci v1'!H10,'OPINI Rinci v1'!I10,'OPINI Rinci v1'!J10,'OPINI Rinci v1'!K10) -> WTP | G8: =CONCATENATE('OPINI Rinci v1'!M10,'OPINI Rinci v1'!N10,'OPINI Rinci v1'!O10,'OPINI Rinci v1'!P10) -> WTP | H8: =CONCATENATE('OPINI Rinci v1'!R10,'OPINI Rinci v1'!S10,'OPINI Rinci v1'!T10,'OPINI Rinci v1'!U10) -> WTP | I8: =CONCATENATE('OPINI Rinci v1'!W10,'OPINI Rinci v1'!X10,'OPINI Rinci v1'!Y10,'OPINI Rinci v1'!Z10) -> WTP | J8: =CONCATENATE('OPINI Rinci v1'!AB10,'OPINI Rinci v1'!AC10,'OPINI Rinci v1'!AD10,'OPINI Rinci v1'!AE10) -> WTP | K8: =CONCATENATE('OPINI Rinci v1'!AG10,'OPINI Rinci v1'!AH10,'OPINI Rinci v1'!AI10,'OPINI Rinci v1'!AJ10) -> WTP | L8: BS | O8: =CONCATENATE('OPINI Rinci v1'!AL10,'OPINI Rinci v1'!AM10,'OPINI Rinci v1'!AO10,'OPINI Rinci v1'!AN10) -> WDP | P8: BS | Q8: =CONCATENATE('OPINI Rinci v1'!AQ10,'OPINI Rinci v1'!AR10,'OPINI Rinci v1'!AT10,'OPINI Rinci v1'!AS10) -> WDP | R8: =CONCATENATE('OPINI Rinci v1'!AV10,'OPINI Rinci v1'!AW10,'OPINI Rinci v1'!AX10,'OPINI Rinci v1'!AY10) -> WDP | S8: =CONCATENATE('OPINI Rinci v1'!BA10,'OPINI Rinci v1'!BB10,'OPINI Rinci v1'!BC10,'OPINI Rinci v1'!BD10) -> WDP | T8: =CONCATENATE('OPINI Rinci v1'!BF10,'OPINI Rinci v1'!BG10,'OPINI Rinci v1'!BH10,'OPINI Rinci v1'!BI10) -> WDP | U8: =CONCATENATE('OPINI Rinci v1'!BK10,'OPINI Rinci v1'!BL10,'OPINI Rinci v1'!BM10,'OPINI Rinci v1'!BN10) -> WDP | V8: =CONCATENATE('OPINI Rinci v1'!BP10,'OPINI Rinci v1'!BQ10,'OPINI Rinci v1'!BR10,'OPINI Rinci v1'!BS10) -> WDP | W8: =CONCATENATE('OPINI Rinci v1'!BU10,'OPINI Rinci v1'!BV10,'OPINI Rinci v1'!BW10,'OPINI Rinci v1'!BX10) -> TMP | X8: =CONCATENATE('OPINI Rinci v1'!BZ10,'OPINI Rinci v1'!CA10,'OPINI Rinci v1'!CB10,'OPINI Rinci v1'!CC10) -> WDP | Z8: 2
A9: =IF(C9="","",A8+1) -> 3 | B9: 01 | C9: 03 | E9: Kab. Aceh Besar | F9: =CONCATENATE('OPINI Rinci v1'!H11,'OPINI Rinci v1'!I11,'OPINI Rinci v1'!J11,'OPINI Rinci v1'!K11) -> WTP | G9: =CONCATENATE('OPINI Rinci v1'!M11,'OPINI Rinci v1'!N11,'OPINI Rinci v1'!O11,'OPINI Rinci v1'!P11) -> WTP | H9: =CONCATENATE('OPINI Rinci v1'!R11,'OPINI Rinci v1'!S11,'OPINI Rinci v1'!T11,'OPINI Rinci v1'!U11) -> WTP | I9: =CONCATENATE('OPINI Rinci v1'!W11,'OPINI Rinci v1'!X11,'OPINI Rinci v1'!Y11,'OPINI Rinci v1'!Z11) -> WTP | J9: =CONCATENATE('OPINI Rinci v1'!AB11,'OPINI Rinci v1'!AC11,'OPINI Rinci v1'!AD11,'OPINI Rinci v1'!AE11) -> WTP | K9: =CONCATENATE('OPINI Rinci v1'!AG11,'OPINI Rinci v1'!AH11,'OPINI Rinci v1'!AI11,'OPINI Rinci v1'!AJ11) -> WTP | L9: BS | O9: =CONCATENATE('OPINI Rinci v1'!AL11,'OPINI Rinci v1'!AM11,'OPINI Rinci v1'!AO11,'OPINI Rinci v1'!AN11) -> WTP | P9: BS | Q9: =CONCATENATE('OPINI Rinci v1'!AQ11,'OPINI Rinci v1'!AR11,'OPINI Rinci v1'!AT11,'OPINI Rinci v1'!AS11) -> WTP | R9: =CONCATENATE('OPINI Rinci v1'!AV11,'OPINI Rinci v1'!AW11,'OPINI Rinci v1'!AX11,'OPINI Rinci v1'!AY11) -> WDP | S9: =CONCATENATE('OPINI Rinci v1'!BA11,'OPINI Rinci v1'!BB11,'OPINI Rinci v1'!BC11,'OPINI Rinci v1'!BD11) -> WDP | T9: =CONCATENATE('OPINI Rinci v1'!BF11,'OPINI Rinci v1'!BG11,'OPINI Rinci v1'!BH11,'OPINI Rinci v1'!BI11) -> WDP | U9: =CONCATENATE('OPINI Rinci v1'!BK11,'OPINI Rinci v1'!BL11,'OPINI Rinci v1'!BM11,'OPINI Rinci v1'!BN11) -> WDP | V9: =CONCATENATE('OPINI Rinci v1'!BP11,'OPINI Rinci v1'!BQ11,'OPINI Rinci v1'!BR11,'OPINI Rinci v1'!BS11) -> WDP | W9: =CONCATENATE('OPINI Rinci v1'!BU11,'OPINI Rinci v1'!BV11,'OPINI Rinci v1'!BW11,'OPINI Rinci v1'!BX11) -> WDP | X9: =CONCATENATE('OPINI Rinci v1'!BZ11,'OPINI Rinci v1'!CA11,'OPINI Rinci v1'!CB11,'OPINI Rinci v1'!CC11) -> WDP | Z9: 3
A10: =IF(C10="","",A9+1) -> 4 | B10: 01 | C10: 04 | E10: Kab. Aceh Selatan | F10: =CONCATENATE('OPINI Rinci v1'!H12,'OPINI Rinci v1'!I12,'OPINI Rinci v1'!J12,'OPINI Rinci v1'!K12) -> WTP | G10: =CONCATENATE('OPINI Rinci v1'!M12,'OPINI Rinci v1'!N12,'OPINI Rinci v1'!O12,'OPINI Rinci v1'!P12) -> WTP | H10: =CONCATENATE('OPINI Rinci v1'!R12,'OPINI Rinci v1'!S12,'OPINI Rinci v1'!T12,'OPINI Rinci v1'!U12) -> WTP | I10: =CONCATENATE('OPINI Rinci v1'!W12,'OPINI Rinci v1'!X12,'OPINI Rinci v1'!Y12,'OPINI Rinci v1'!Z12) -> WTP | J10: =CONCATENATE('OPINI Rinci v1'!AB12,'OPINI Rinci v1'!AC12,'OPINI Rinci v1'!AD12,'OPINI Rinci v1'!AE12) -> WTP | K10: =CONCATENATE('OPINI Rinci v1'!AG12,'OPINI Rinci v1'!AH12,'OPINI Rinci v1'!AI12,'OPINI Rinci v1'!AJ12) -> WDP | L10: BS | O10: =CONCATENATE('OPINI Rinci v1'!AL12,'OPINI Rinci v1'!AM12,'OPINI Rinci v1'!AO12,'OPINI Rinci v1'!AN12) -> WDP | P10: BS | Q10: =CONCATENATE('OPINI Rinci v1'!AQ12,'OPINI Rinci v1'!AR12,'OPINI Rinci v1'!AT12,'OPINI Rinci v1'!AS12) -> WDP | R10: =CONCATENATE('OPINI Rinci v1'!AV12,'OPINI Rinci v1'!AW12,'OPINI Rinci v1'!AX12,'OPINI Rinci v1'!AY12) -> WDP | S10: =CONCATENATE('OPINI Rinci v1'!BA12,'OPINI Rinci v1'!BB12,'OPINI Rinci v1'!BC12,'OPINI Rinci v1'!BD12) -> WDP | T10: =CONCATENATE('OPINI Rinci v1'!BF12,'OPINI Rinci v1'!BG12,'OPINI Rinci v1'!BH12,'OPINI Rinci v1'!BI12) -> WDP | U10: =CONCATENATE('OPINI Rinci v1'!BK12,'OPINI Rinci v1'!BL12,'OPINI Rinci v1'!BM12,'OPINI Rinci v1'!BN12) -> WDP | V10: =CONCATENATE('OPINI Rinci v1'!BP12,'OPINI Rinci v1'!BQ12,'OPINI Rinci v1'!BR12,'OPINI Rinci v1'!BS12) -> WDP | W10: =CONCATENATE('OPINI Rinci v1'!BU12,'OPINI Rinci v1'!BV12,'OPINI Rinci v1'!BW12,'OPINI Rinci v1'!BX12) -> WDP | X10: =CONCATENATE('OPINI Rinci v1'!BZ12,'OPINI Rinci v1'!CA12,'OPINI Rinci v1'!CB12,'OPINI Rinci v1'!CC12) -> WDP | Z10: 4
A11: =IF(C11="","",A10+1) -> 5 | B11: 01 | C11: 05 | E11: Kab. Aceh Singkil | F11: =CONCATENATE('OPINI Rinci v1'!H13,'OPINI Rinci v1'!I13,'OPINI Rinci v1'!J13,'OPINI Rinci v1'!K13) -> WTP | G11: =CONCATENATE('OPINI Rinci v1'!M13,'OPINI Rinci v1'!N13,'OPINI Rinci v1'!O13,'OPINI Rinci v1'!P13) -> WTP | H11: =CONCATENATE('OPINI Rinci v1'!R13,'OPINI Rinci v1'!S13,'OPINI Rinci v1'!T13,'OPINI Rinci v1'!U13) -> WTP | I11: =CONCATENATE('OPINI Rinci v1'!W13,'OPINI Rinci v1'!X13,'OPINI Rinci v1'!Y13,'OPINI Rinci v1'!Z13) -> WTP | J11: =CONCATENATE('OPINI Rinci v1'!AB13,'OPINI Rinci v1'!AC13,'OPINI Rinci v1'!AD13,'OPINI Rinci v1'!AE13) -> WDP | K11: =CONCATENATE('OPINI Rinci v1'!AG13,'OPINI Rinci v1'!AH13,'OPINI Rinci v1'!AI13,'OPINI Rinci v1'!AJ13) -> WTP | L11: BNS | O11: =CONCATENATE('OPINI Rinci v1'!AL13,'OPINI Rinci v1'!AM13,'OPINI Rinci v1'!AO13,'OPINI Rinci v1'!AN13) -> WDP | P11: BNS | Q11: =CONCATENATE('OPINI Rinci v1'!AQ13,'OPINI Rinci v1'!AR13,'OPINI Rinci v1'!AT13,'OPINI Rinci v1'!AS13) -> WDP | R11: =CONCATENATE('OPINI Rinci v1'!AV13,'OPINI Rinci v1'!AW13,'OPINI Rinci v1'!AX13,'OPINI Rinci v1'!AY13) -> WDP | S11: =CONCATENATE('OPINI Rinci v1'!BA13,'OPINI Rinci v1'!BB13,'OPINI Rinci v1'!BC13,'OPINI Rinci v1'!BD13) -> WDP | T11: =CONCATENATE('OPINI Rinci v1'!BF13,'OPINI Rinci v1'!BG13,'OPINI Rinci v1'!BH13,'OPINI Rinci v1'!BI13) -> WDP | U11: =CONCATENATE('OPINI Rinci v1'!BK13,'OPINI Rinci v1'!BL13,'OPINI Rinci v1'!BM13,'OPINI Rinci v1'!BN13) -> WDP | V11: =CONCATENATE('OPINI Rinci v1'!BP13,'OPINI Rinci v1'!BQ13,'OPINI Rinci v1'!BR13,'OPINI Rinci v1'!BS13) -> WDP | W11: =CONCATENATE('OPINI Rinci v1'!BU13,'OPINI Rinci v1'!BV13,'OPINI Rinci v1'!BW13,'OPINI Rinci v1'!BX13) -> WDP | X11: =CONCATENATE('OPINI Rinci v1'!BZ13,'OPINI Rinci v1'!CA13,'OPINI Rinci v1'!CB13,'OPINI Rinci v1'!CC13) -> WDP | Z11: 5
A12: =IF(C12="","",A11+1) -> 6 | B12: 01 | C12: 06 | E12: Kab. Aceh Tengah | F12: =CONCATENATE('OPINI Rinci v1'!H14,'OPINI Rinci v1'!I14,'OPINI Rinci v1'!J14,'OPINI Rinci v1'!K14) -> WTP | G12: =CONCATENATE('OPINI Rinci v1'!M14,'OPINI Rinci v1'!N14,'OPINI Rinci v1'!O14,'OPINI Rinci v1'!P14) -> WTP | H12: =CONCATENATE('OPINI Rinci v1'!R14,'OPINI Rinci v1'!S14,'OPINI Rinci v1'!T14,'OPINI Rinci v1'!U14) -> WTP | I12: =CONCATENATE('OPINI Rinci v1'!W14,'OPINI Rinci v1'!X14,'OPINI Rinci v1'!Y14,'OPINI Rinci v1'!Z14) -> WTP | J12: =CONCATENATE('OPINI Rinci v1'!AB14,'OPINI Rinci v1'!AC14,'OPINI Rinci v1'!AD14,'OPINI Rinci v1'!AE14) -> WTP | K12: =CONCATENATE('OPINI Rinci v1'!AG14,'OPINI Rinci v1'!AH14,'OPINI Rinci v1'!AI14,'OPINI Rinci v1'!AJ14) -> WTP | L12: BS | O12: =CONCATENATE('OPINI Rinci v1'!AL14,'OPINI Rinci v1'!AM14,'OPINI Rinci v1'!AO14,'OPINI Rinci v1'!AN14) -> WDP | P12: BS | Q12: =CONCATENATE('OPINI Rinci v1'!AQ14,'OPINI Rinci v1'!AR14,'OPINI Rinci v1'!AT14,'OPINI Rinci v1'!AS14) -> WTP | R12: =CONCATENATE('OPINI Rinci v1'!AV14,'OPINI Rinci v1'!AW14,'OPINI Rinci v1'!AX14,'OPINI Rinci v1'!AY14) -> WDP | S12: =CONCATENATE('OPINI Rinci v1'!BA14,'OPINI Rinci v1'!BB14,'OPINI Rinci v1'!BC14,'OPINI Rinci v1'!BD14) -> WTP | T12: =CONCATENATE('OPINI Rinci v1'!BF14,'OPINI Rinci v1'!BG14,'OPINI Rinci v1'!BH14,'OPINI Rinci v1'!BI14) -> WTP | U12: =CONCATENATE('OPINI Rinci v1'!BK14,'OPINI Rinci v1'!BL14,'OPINI Rinci v1'!BM14,'OPINI Rinci v1'!BN14) -> WTP | V12: =CONCATENATE('OPINI Rinci v1'!BP14,'OPINI Rinci v1'!BQ14,'OPINI Rinci v1'!BR14,'OPINI Rinci v1'!BS14) -> WTP | W12: =CONCATENATE('OPINI Rinci v1'!BU14,'OPINI Rinci v1'!BV14,'OPINI Rinci v1'!BW14,'OPINI Rinci v1'!BX14) -> WDP | X12: =CONCATENATE('OPINI Rinci v1'!BZ14,'OPINI Rinci v1'!CA14,'OPINI Rinci v1'!CB14,'OPINI Rinci v1'!CC14) -> WDP | Z12: 6
A13: =IF(C13="","",A12+1) -> 7 | B13: 01 | C13: 07 | E13: Kab. Aceh Tenggara | F13: =CONCATENATE('OPINI Rinci v1'!H15,'OPINI Rinci v1'!I15,'OPINI Rinci v1'!J15,'OPINI Rinci v1'!K15) -> WTP | G13: =CONCATENATE('OPINI Rinci v1'!M15,'OPINI Rinci v1'!N15,'OPINI Rinci v1'!O15,'OPINI Rinci v1'!P15) -> WTP | H13: =CONCATENATE('OPINI Rinci v1'!R15,'OPINI Rinci v1'!S15,'OPINI Rinci v1'!T15,'OPINI Rinci v1'!U15) -> WTP | I13: =CONCATENATE('OPINI Rinci v1'!W15,'OPINI Rinci v1'!X15,'OPINI Rinci v1'!Y15,'OPINI Rinci v1'!Z15) -> WDP | J13: =CONCATENATE('OPINI Rinci v1'!AB15,'OPINI Rinci v1'!AC15,'OPINI Rinci v1'!AD15,'OPINI Rinci v1'!AE15) -> WTP | K13: =CONCATENATE('OPINI Rinci v1'!AG15,'OPINI Rinci v1'!AH15,'OPINI Rinci v1'!AI15,'OPINI Rinci v1'!AJ15) -> WDP | L13: BS | O13: =CONCATENATE('OPINI Rinci v1'!AL15,'OPINI Rinci v1'!AM15,'OPINI Rinci v1'!AO15,'OPINI Rinci v1'!AN15) -> WDP | P13: BS | Q13: =CONCATENATE('OPINI Rinci v1'!AQ15,'OPINI Rinci v1'!AR15,'OPINI Rinci v1'!AT15,'OPINI Rinci v1'!AS15) -> WDP | R13: =CONCATENATE('OPINI Rinci v1'!AV15,'OPINI Rinci v1'!AW15,'OPINI Rinci v1'!AX15,'OPINI Rinci v1'!AY15) -> WDP | S13: =CONCATENATE('OPINI Rinci v1'!BA15,'OPINI Rinci v1'!BB15,'OPINI Rinci v1'!BC15,'OPINI Rinci v1'!BD15) -> WDP | T13: =CONCATENATE('OPINI Rinci v1'!BF15,'OPINI Rinci v1'!BG15,'OPINI Rinci v1'!BH15,'OPINI Rinci v1'!BI15) -> WDP | U13: =CONCATENATE('OPINI Rinci v1'!BK15,'OPINI Rinci v1'!BL15,'OPINI Rinci v1'!BM15,'OPINI Rinci v1'!BN15) -> WDP | V13: =CONCATENATE('OPINI Rinci v1'!BP15,'OPINI Rinci v1'!BQ15,'OPINI Rinci v1'!BR15,'OPINI Rinci v1'!BS15) -> TMP | W13: =CONCATENATE('OPINI Rinci v1'!BU15,'OPINI Rinci v1'!BV15,'OPINI Rinci v1'!BW15,'OPINI Rinci v1'!BX15) -> WDP | X13: =CONCATENATE('OPINI Rinci v1'!BZ15,'OPINI Rinci v1'!CA15,'OPINI Rinci v1'!CB15,'OPINI Rinci v1'!CC15) | Z13: 7
A14: =IF(C14="","",A13+1) -> 8 | B14: 01 | C14: 08 | E14: Kab. Aceh Timur | F14: =CONCATENATE('OPINI Rinci v1'!H16,'OPINI Rinci v1'!I16,'OPINI Rinci v1'!J16,'OPINI Rinci v1'!K16) -> WTP | G14: =CONCATENATE('OPINI Rinci v1'!M16,'OPINI Rinci v1'!N16,'OPINI Rinci v1'!O16,'OPINI Rinci v1'!P16) -> WTP | H14: =CONCATENATE('OPINI Rinci v1'!R16,'OPINI Rinci v1'!S16,'OPINI Rinci v1'!T16,'OPINI Rinci v1'!U16) -> WTP | I14: =CONCATENATE('OPINI Rinci v1'!W16,'OPINI Rinci v1'!X16,'OPINI Rinci v1'!Y16,'OPINI Rinci v1'!Z16) -> WTP | J14: =CONCATENATE('OPINI Rinci v1'!AB16,'OPINI Rinci v1'!AC16,'OPINI Rinci v1'!AD16,'OPINI Rinci v1'!AE16) -> WTP | K14: =CONCATENATE('OPINI Rinci v1'!AG16,'OPINI Rinci v1'!AH16,'OPINI Rinci v1'!AI16,'OPINI Rinci v1'!AJ16) -> WTP | L14: BS | O14: =CONCATENATE('OPINI Rinci v1'!AL16,'OPINI Rinci v1'!AM16,'OPINI Rinci v1'!AO16,'OPINI Rinci v1'!AN16) -> WDP | P14: BS | Q14: =CONCATENATE('OPINI Rinci v1'!AQ16,'OPINI Rinci v1'!AR16,'OPINI Rinci v1'!AT16,'OPINI Rinci v1'!AS16) -> WDP | R14: =CONCATENATE('OPINI Rinci v1'!AV16,'OPINI Rinci v1'!AW16,'OPINI Rinci v1'!AX16,'OPINI Rinci v1'!AY16) -> WDP | S14: =CONCATENATE('OPINI Rinci v1'!BA16,'OPINI Rinci v1'!BB16,'OPINI Rinci v1'!BC16,'OPINI Rinci v1'!BD16) -> WDP | T14: =CONCATENATE('OPINI Rinci v1'!BF16,'OPINI Rinci v1'!BG16,'OPINI Rinci v1'!BH16,'OPINI Rinci v1'!BI16) -> WDP | U14: =CONCATENATE('OPINI Rinci v1'!BK16,'OPINI Rinci v1'!BL16,'OPINI Rinci v1'!BM16,'OPINI Rinci v1'!BN16) -> WDP | V14: =CONCATENATE('OPINI Rinci v1'!BP16,'OPINI Rinci v1'!BQ16,'OPINI Rinci v1'!BR16,'OPINI Rinci v1'!BS16) -> TMP | W14: =CONCATENATE('OPINI Rinci v1'!BU16,'OPINI Rinci v1'!BV16,'OPINI Rinci v1'!BW16,'OPINI Rinci v1'!BX16) -> TMP | X14: =CONCATENATE('OPINI Rinci v1'!BZ16,'OPINI Rinci v1'!CA16,'OPINI Rinci v1'!CB16,'OPINI Rinci v1'!CC16) -> TW | Z14: 8
A15: =IF(C15="","",A14+1) -> 9 | B15: 01 | C15: 09 | E15: Kab. Aceh Utara | F15: =CONCATENATE('OPINI Rinci v1'!H17,'OPINI Rinci v1'!I17,'OPINI Rinci v1'!J17,'OPINI Rinci v1'!K17) -> WTP | G15: =CONCATENATE('OPINI Rinci v1'!M17,'OPINI Rinci v1'!N17,'OPINI Rinci v1'!O17,'OPINI Rinci v1'!P17) -> WTP | H15: =CONCATENATE('OPINI Rinci v1'!R17,'OPINI Rinci v1'!S17,'OPINI Rinci v1'!T17,'OPINI Rinci v1'!U17) -> WTP | I15: =CONCATENATE('OPINI Rinci v1'!W17,'OPINI Rinci v1'!X17,'OPINI Rinci v1'!Y17,'OPINI Rinci v1'!Z17) -> WTP | J15: =CONCATENATE('OPINI Rinci v1'!AB17,'OPINI Rinci v1'!AC17,'OPINI Rinci v1'!AD17,'OPINI Rinci v1'!AE17) -> WTP | K15: =CONCATENATE('OPINI Rinci v1'!AG17,'OPINI Rinci v1'!AH17,'OPINI Rinci v1'!AI17,'OPINI Rinci v1'!AJ17) -> WDP | L15: BS | O15: =CONCATENATE('OPINI Rinci v1'!AL17,'OPINI Rinci v1'!AM17,'OPINI Rinci v1'!AO17,'OPINI Rinci v1'!AN17) -> WDP | P15: BS | Q15: =CONCATENATE('OPINI Rinci v1'!AQ17,'OPINI Rinci v1'!AR17,'OPINI Rinci v1'!AT17,'OPINI Rinci v1'!AS17) -> WDP | R15: =CONCATENATE('OPINI Rinci v1'!AV17,'OPINI Rinci v1'!AW17,'OPINI Rinci v1'!AX17,'OPINI Rinci v1'!AY17) -> WDP | S15: =CONCATENATE('OPINI Rinci v1'!BA17,'OPINI Rinci v1'!BB17,'OPINI Rinci v1'!BC17,'OPINI Rinci v1'!BD17) -> TMP | T15: =CONCATENATE('OPINI Rinci v1'!BF17,'OPINI Rinci v1'!BG17,'OPINI Rinci v1'!BH17,'OPINI Rinci v1'!BI17) -> TMP | U15: =CONCATENATE('OPINI Rinci v1'!BK17,'OPINI Rinci v1'!BL17,'OPINI Rinci v1'!BM17,'OPINI Rinci v1'!BN17) -> WDP | V15: =CONCATENATE('OPINI Rinci v1'!BP17,'OPINI Rinci v1'!BQ17,'OPINI Rinci v1'!BR17,'OPINI Rinci v1'!BS17) -> WDP | W15: =CONCATENATE('OPINI Rinci v1'!BU17,'OPINI Rinci v1'!BV17,'OPINI Rinci v1'!BW17,'OPINI Rinci v1'!BX17) -> WDP | X15: =CONCATENATE('OPINI Rinci v1'!BZ17,'OPINI Rinci v1'!CA17,'OPINI Rinci v1'!CB17,'OPINI Rinci v1'!CC17) -> WDP | Z15: 9
A16: =IF(C16="","",A15+1) -> 10 | B16: 01 | C16: 10 | E16: Kab. Bireun | F16: =CONCATENATE('OPINI Rinci v1'!H18,'OPINI Rinci v1'!I18,'OPINI Rinci v1'!J18,'OPINI Rinci v1'!K18) -> WTP | G16: =CONCATENATE('OPINI Rinci v1'!M18,'OPINI Rinci v1'!N18,'OPINI Rinci v1'!O18,'OPINI Rinci v1'!P18) -> WTP | H16: =CONCATENATE('OPINI Rinci v1'!R18,'OPINI Rinci v1'!S18,'OPINI Rinci v1'!T18,'OPINI Rinci v1'!U18) -> WTP | I16: =CONCATENATE('OPINI Rinci v1'!W18,'OPINI Rinci v1'!X18,'OPINI Rinci v1'!Y18,'OPINI Rinci v1'!Z18) -> WTP | J16: =CONCATENATE('OPINI Rinci v1'!AB18,'OPINI Rinci v1'!AC18,'OPINI Rinci v1'!AD18,'OPINI Rinci v1'!AE18) -> WTP | K16: =CONCATENATE('OPINI Rinci v1'!AG18,'OPINI Rinci v1'!AH18,'OPINI Rinci v1'!AI18,'OPINI Rinci v1'!AJ18) -> WTP | L16: BS | O16: =CONCATENATE('OPINI Rinci v1'!AL18,'OPINI Rinci v1'!AM18,'OPINI Rinci v1'!AO18,'OPINI Rinci v1'!AN18) -> WDP | P16: BS | Q16: =CONCATENATE('OPINI Rinci v1'!AQ18,'OPINI Rinci v1'!AR18,'OPINI Rinci v1'!AT18,'OPINI Rinci v1'!AS18) -> WDP | R16: =CONCATENATE('OPINI Rinci v1'!AV18,'OPINI Rinci v1'!AW18,'OPINI Rinci v1'!AX18,'OPINI Rinci v1'!AY18) -> WDP | S16: =CONCATENATE('OPINI Rinci v1'!BA18,'OPINI Rinci v1'!BB18,'OPINI Rinci v1'!BC18,'OPINI Rinci v1'!BD18) -> WDP | T16: =CONCATENATE('OPINI Rinci v1'!BF18,'OPINI Rinci v1'!BG18,'OPINI Rinci v1'!BH18,'OPINI Rinci v1'!BI18) -> TMP | U16: =CONCATENATE('OPINI Rinci v1'!BK18,'OPINI Rinci v1'!BL18,'OPINI Rinci v1'!BM18,'OPINI Rinci v1'!BN18) -> TMP | V16: =CONCATENATE('OPINI Rinci v1'!BP18,'OPINI Rinci v1'!BQ18,'OPINI Rinci v1'!BR18,'OPINI Rinci v1'!BS18) -> WDP | W16: =CONCATENATE('OPINI Rinci v1'!BU18,'OPINI Rinci v1'!BV18,'OPINI Rinci v1'!BW18,'OPINI Rinci v1'!BX18) -> WDP | X16: =CONCATENATE('OPINI Rinci v1'!BZ18,'OPINI Rinci v1'!CA18,'OPINI Rinci v1'!CB18,'OPINI Rinci v1'!CC18) -> WDP | Z16: 10
A17: =IF(C17="","",A16+1) -> 11 | B17: 01 | C17: 11 | E17: Kab. Pidie | F17: =CONCATENATE('OPINI Rinci v1'!H19,'OPINI Rinci v1'!I19,'OPINI Rinci v1'!J19,'OPINI Rinci v1'!K19) -> WTP | G17: =CONCATENATE('OPINI Rinci v1'!M19,'OPINI Rinci v1'!N19,'OPINI Rinci v1'!O19,'OPINI Rinci v1'!P19) -> WTP | H17: =CONCATENATE('OPINI Rinci v1'!R19,'OPINI Rinci v1'!S19,'OPINI Rinci v1'!T19,'OPINI Rinci v1'!U19) -> WTP | I17: =CONCATENATE('OPINI Rinci v1'!W19,'OPINI Rinci v1'!X19,'OPINI Rinci v1'!Y19,'OPINI Rinci v1'!Z19) -> WTP | J17: =CONCATENATE('OPINI Rinci v1'!AB19,'OPINI Rinci v1'!AC19,'OPINI Rinci v1'!AD19,'OPINI Rinci v1'!AE19) -> WTP | K17: =CONCATENATE('OPINI Rinci v1'!AG19,'OPINI Rinci v1'!AH19,'OPINI Rinci v1'!AI19,'OPINI Rinci v1'!AJ19) -> WDP | L17: BS | O17: =CONCATENATE('OPINI Rinci v1'!AL19,'OPINI Rinci v1'!AM19,'OPINI Rinci v1'!AO19,'OPINI Rinci v1'!AN19) -> WDP | P17: BS | Q17: =CONCATENATE('OPINI Rinci v1'!AQ19,'OPINI Rinci v1'!AR19,'OPINI Rinci v1'!AT19,'OPINI Rinci v1'!AS19) -> WDP | R17: =CONCATENATE('OPINI Rinci v1'!AV19,'OPINI Rinci v1'!AW19,'OPINI Rinci v1'!AX19,'OPINI Rinci v1'!AY19) -> WDP | S17: =CONCATENATE('OPINI Rinci v1'!BA19,'OPINI Rinci v1'!BB19,'OPINI Rinci v1'!BC19,'OPINI Rinci v1'!BD19) -> WDP | T17: =CONCATENATE('OPINI Rinci v1'!BF19,'OPINI Rinci v1'!BG19,'OPINI Rinci v1'!BH19,'OPINI Rinci v1'!BI19) -> WDP | U17: =CONCATENATE('OPINI Rinci v1'!BK19,'OPINI Rinci v1'!BL19,'OPINI Rinci v1'!BM19,'OPINI Rinci v1'!BN19) -> WDP | V17: =CONCATENATE('OPINI Rinci v1'!BP19,'OPINI Rinci v1'!BQ19,'OPINI Rinci v1'!BR19,'OPINI Rinci v1'!BS19) -> WDP | W17: =CONCATENATE('OPINI Rinci v1'!BU19,'OPINI Rinci v1'!BV19,'OPINI Rinci v1'!BW19,'OPINI Rinci v1'!BX19) -> WDP | X17: =CONCATENATE('OPINI Rinci v1'!BZ19,'OPINI Rinci v1'!CA19,'OPINI Rinci v1'!CB19,'OPINI Rinci v1'!CC19) | Z17: 11
A18: =IF(C18="","",A17+1) -> 12 | B18: 01 | C18: 12 | E18: Kab. Simeulue | F18: =CONCATENATE('OPINI Rinci v1'!H20,'OPINI Rinci v1'!I20,'OPINI Rinci v1'!J20,'OPINI Rinci v1'!K20) -> WTP | G18: =CONCATENATE('OPINI Rinci v1'!M20,'OPINI Rinci v1'!N20,'OPINI Rinci v1'!O20,'OPINI Rinci v1'!P20) -> WTP | H18: =CONCATENATE('OPINI Rinci v1'!R20,'OPINI Rinci v1'!S20,'OPINI Rinci v1'!T20,'OPINI Rinci v1'!U20) -> WTP | I18: =CONCATENATE('OPINI Rinci v1'!W20,'OPINI Rinci v1'!X20,'OPINI Rinci v1'!Y20,'OPINI Rinci v1'!Z20) -> WTP | J18: =CONCATENATE('OPINI Rinci v1'!AB20,'OPINI Rinci v1'!AC20,'OPINI Rinci v1'!AD20,'OPINI Rinci v1'!AE20) -> WTP | K18: =CONCATENATE('OPINI Rinci v1'!AG20,'OPINI Rinci v1'!AH20,'OPINI Rinci v1'!AI20,'OPINI Rinci v1'!AJ20) -> WDP | L18: BS | O18: =CONCATENATE('OPINI Rinci v1'!AL20,'OPINI Rinci v1'!AM20,'OPINI Rinci v1'!AO20,'OPINI Rinci v1'!AN20) -> WDP | P18: BS | Q18: =CONCATENATE('OPINI Rinci v1'!AQ20,'OPINI Rinci v1'!AR20,'OPINI Rinci v1'!AT20,'OPINI Rinci v1'!AS20) -> WDP | R18: =CONCATENATE('OPINI Rinci v1'!AV20,'OPINI Rinci v1'!AW20,'OPINI Rinci v1'!AX20,'OPINI Rinci v1'!AY20) -> WDP | S18: =CONCATENATE('OPINI Rinci v1'!BA20,'OPINI Rinci v1'!BB20,'OPINI Rinci v1'!BC20,'OPINI Rinci v1'!BD20) -> TW | T18: =CONCATENATE('OPINI Rinci v1'!BF20,'OPINI Rinci v1'!BG20,'OPINI Rinci v1'!BH20,'OPINI Rinci v1'!BI20) -> TW | U18: =CONCATENATE('OPINI Rinci v1'!BK20,'OPINI Rinci v1'!BL20,'OPINI Rinci v1'!BM20,'OPINI Rinci v1'!BN20) -> WDP | V18: =CONCATENATE('OPINI Rinci v1'!BP20,'OPINI Rinci v1'!BQ20,'OPINI Rinci v1'!BR20,'OPINI Rinci v1'!BS20) -> WDP | W18: =CONCATENATE('OPINI Rinci v1'!BU20,'OPINI Rinci v1'!BV20,'OPINI Rinci v1'!BW20,'OPINI Rinci v1'!BX20) -> WDP | X18: =CONCATENATE('OPINI Rinci v1'!BZ20,'OPINI Rinci v1'!CA20,'OPINI Rinci v1'!CB20,'OPINI Rinci v1'!CC20) | Z18: 12
A19: =IF(C19="","",A18+1) -> 13 | B19: 01 | C19: 13 | E19: Kota Banda Aceh | F19: =CONCATENATE('OPINI Rinci v1'!H21,'OPINI Rinci v1'!I21,'OPINI Rinci v1'!J21,'OPINI Rinci v1'!K21) -> WTP | G19: =CONCATENATE('OPINI Rinci v1'!M21,'OPINI Rinci v1'!N21,'OPINI Rinci v1'!O21,'OPINI Rinci v1'!P21) -> WTP | H19: =CONCATENATE('OPINI Rinci v1'!R21,'OPINI Rinci v1'!S21,'OPINI Rinci v1'!T21,'OPINI Rinci v1'!U21) -> WTP | I19: =CONCATENATE('OPINI Rinci v1'!W21,'OPINI Rinci v1'!X21,'OPINI Rinci v1'!Y21,'OPINI Rinci v1'!Z21) -> WTP | J19: =CONCATENATE('OPINI Rinci v1'!AB21,'OPINI Rinci v1'!AC21,'OPINI Rinci v1'!AD21,'OPINI Rinci v1'!AE21) -> WTP | K19: =CONCATENATE('OPINI Rinci v1'!AG21,'OPINI Rinci v1'!AH21,'OPINI Rinci v1'!AI21,'OPINI Rinci v1'!AJ21) -> WTP | L19: NON | O19: =CONCATENATE('OPINI Rinci v1'!AL21,'OPINI Rinci v1'!AM21,'OPINI Rinci v1'!AO21,'OPINI Rinci v1'!AN21) -> WTP | P19: BNS | Q19: =CONCATENATE('OPINI Rinci v1'!AQ21,'OPINI Rinci v1'!AR21,'OPINI Rinci v1'!AT21,'OPINI Rinci v1'!AS21) -> WTP | R19: =CONCATENATE('OPINI Rinci v1'!AV21,'OPINI Rinci v1'!AW21,'OPINI Rinci v1'!AX21,'OPINI Rinci v1'!AY21) -> WTP | S19: =CONCATENATE('OPINI Rinci v1'!BA21,'OPINI Rinci v1'!BB21,'OPINI Rinci v1'!BC21,'OPINI Rinci v1'!BD21) -> WTP | T19: =CONCATENATE('OPINI Rinci v1'!BF21,'OPINI Rinci v1'!BG21,'OPINI Rinci v1'!BH21,'OPINI Rinci v1'!BI21) -> WTP | U19: =CONCATENATE('OPINI Rinci v1'!BK21,'OPINI Rinci v1'!BL21,'OPINI Rinci v1'!BM21,'OPINI Rinci v1'!BN21) -> WTP | V19: =CONCATENATE('OPINI Rinci v1'!BP21,'OPINI Rinci v1'!BQ21,'OPINI Rinci v1'!BR21,'OPINI Rinci v1'!BS21) -> WDP | W19: =CONCATENATE('OPINI Rinci v1'!BU21,'OPINI Rinci v1'!BV21,'OPINI Rinci v1'!BW21,'OPINI Rinci v1'!BX21) -> WDP | X19: =CONCATENATE('OPINI Rinci v1'!BZ21,'OPINI Rinci v1'!CA21,'OPINI Rinci v1'!CB21,'OPINI Rinci v1'!CC21) -> WDP | Z19: 13
... A30: =IF(C30="","",A29+1) -> 24 | B30: 01 | C30: 24 | E30: Kab. Pidie jaya | F30: =CONCATENATE('OPINI Rinci v1'!H32,'OPINI Rinci v1'!I32,'OPINI Rinci v1'!J32,'OPINI Rinci v1'!K32) -> WTP | G30: =CONCATENATE('OPINI Rinci v1'!M32,'OPINI Rinci v1'!N32,'OPINI Rinci v1'!O32,'OPINI Rinci v1'!P32) -> WTP | H30: =CONCATENATE('OPINI Rinci v1'!R32,'OPINI Rinci v1'!S32,'OPINI Rinci v1'!T32,'OPINI Rinci v1'!U32) -> WTP | I30: =CONCATENATE('OPINI Rinci v1'!W32,'OPINI Rinci v1'!X32,'OPINI Rinci v1'!Y32,'OPINI Rinci v1'!Z32) -> WTP | J30: =CONCATENATE('OPINI Rinci v1'!AB32,'OPINI Rinci v1'!AC32,'OPINI Rinci v1'!AD32,'OPINI Rinci v1'!AE32) -> WTP | K30: =CONCATENATE('OPINI Rinci v1'!AG32,'OPINI Rinci v1'!AH32,'OPINI Rinci v1'!AI32,'OPINI Rinci v1'!AJ32) -> WDP | L30: BS | O30: =CONCATENATE('OPINI Rinci v1'!AL32,'OPINI Rinci v1'!AM32,'OPINI Rinci v1'!AO32,'OPINI Rinci v1'!AN32) -> WDP | P30: BS | Q30: =CONCATENATE('OPINI Rinci v1'!AQ32,'OPINI Rinci v1'!AR32,'OPINI Rinci v1'!AT32,'OPINI Rinci v1'!AS32) -> WDP | R30: =CONCATENATE('OPINI Rinci v1'!AV32,'OPINI Rinci v1'!AW32,'OPINI Rinci v1'!AX32,'OPINI Rinci v1'!AY32) -> WDP | S30: =CONCATENATE('OPINI Rinci v1'!BA32,'OPINI Rinci v1'!BB32,'OPINI Rinci v1'!BC32,'OPINI Rinci v1'!BD32) -> WDP | T30: =CONCATENATE('OPINI Rinci v1'!BF32,'OPINI Rinci v1'!BG32,'OPINI Rinci v1'!BH32,'OPINI Rinci v1'!BI32) -> WDP | U30: =CONCATENATE('OPINI Rinci v1'!BK32,'OPINI Rinci v1'!BL32,'OPINI Rinci v1'!BM32,'OPINI Rinci v1'!BN32) -> WTP | V30: =CONCATENATE('OPINI Rinci v1'!BP32,'OPINI Rinci v1'!BQ32,'OPINI Rinci v1'!BR32,'OPINI Rinci v1'!BS32) | W30: =CONCATENATE('OPINI Rinci v1'!BU32,'OPINI Rinci v1'!BV32,'OPINI Rinci v1'!BW32,'OPINI Rinci v1'!BX32) | X30: =CONCATENATE('OPINI Rinci v1'!BZ32,'OPINI Rinci v1'!CA32,'OPINI Rinci v1'!CB32,'OPINI Rinci v1'!CC32) | Z30: 24
G31: =CONCATENATE('OPINI Rinci v1'!M33,'OPINI Rinci v1'!N33,'OPINI Rinci v1'!O33,'OPINI Rinci v1'!P33)
B32: 02 | D32: PROV SUMUT
A33: =IF(C33="","",A30+1) -> 25 | B33: 02 | C33: 01 | E33: Provinsi Sumatera Utara | F33: =CONCATENATE('OPINI Rinci v1'!H35,'OPINI Rinci v1'!I35,'OPINI Rinci v1'!J35,'OPINI Rinci v1'!K35) -> WTP | G33: =CONCATENATE('OPINI Rinci v1'!M35,'OPINI Rinci v1'!N35,'OPINI Rinci v1'!O35,'OPINI Rinci v1'!P35) -> WTP | H33: =CONCATENATE('OPINI Rinci v1'!R35,'OPINI Rinci v1'!S35,'OPINI Rinci v1'!T35,'OPINI Rinci v1'!U35) -> WTP | I33: =CONCATENATE('OPINI Rinci v1'!W35,'OPINI Rinci v1'!X35,'OPINI Rinci v1'!Y35,'OPINI Rinci v1'!Z35) -> WTP | J33: =CONCATENATE('OPINI Rinci v1'!AB35,'OPINI Rinci v1'!AC35,'OPINI Rinci v1'!AD35,'OPINI Rinci v1'!AE35) -> WTP | K33: =CONCATENATE('OPINI Rinci v1'!AG35,'OPINI Rinci v1'!AH35,'OPINI Rinci v1'!AI35,'OPINI Rinci v1'!AJ35) -> WTP | L33: BS | O33: =CONCATENATE('OPINI Rinci v1'!AL35,'OPINI Rinci v1'!AM35,'OPINI Rinci v1'!AO35,'OPINI Rinci v1'!AN35) -> WDP | P33: BNS | Q33: =CONCATENATE('OPINI Rinci v1'!AQ35,'OPINI Rinci v1'!AR35,'OPINI Rinci v1'!AT35,'OPINI Rinci v1'!AS35) -> WDP | R33: =CONCATENATE('OPINI Rinci v1'!AV35,'OPINI Rinci v1'!AW35,'OPINI Rinci v1'!AX35,'OPINI Rinci v1'!AY35) -> WDP | S33: =CONCATENATE('OPINI Rinci v1'!BA35,'OPINI Rinci v1'!BB35,'OPINI Rinci v1'!BC35,'OPINI Rinci v1'!BD35) -> WDP | T33: =CONCATENATE('OPINI Rinci v1'!BF35,'OPINI Rinci v1'!BG35,'OPINI Rinci v1'!BH35,'OPINI Rinci v1'!BI35) -> WDP | U33: =CONCATENATE('OPINI Rinci v1'!BK35,'OPINI Rinci v1'!BL35,'OPINI Rinci v1'!BM35,'OPINI Rinci v1'!BN35) -> WDP | V33: =CONCATENATE('OPINI Rinci v1'!BP35,'OPINI Rinci v1'!BQ35,'OPINI Rinci v1'!BR35,'OPINI Rinci v1'!BS35) -> TMP | W33: =CONCATENATE('OPINI Rinci v1'!BU35,'OPINI Rinci v1'!BV35,'OPINI Rinci v1'!BW35,'OPINI Rinci v1'!BX35) -> TMP | X33: =CONCATENATE('OPINI Rinci v1'!BZ35,'OPINI Rinci v1'!CA35,'OPINI Rinci v1'!CB35,'OPINI Rinci v1'!CC35) -> WDP | Z33: 25
A34: =IF(C34="","",A33+1) -> 26 | B34: 02 | C34: 02 | E34: Kab. Asahan | F34: =CONCATENATE('OPINI Rinci v1'!H36,'OPINI Rinci v1'!I36,'OPINI Rinci v1'!J36,'OPINI Rinci v1'!K36) -> WTP | G34: =CONCATENATE('OPINI Rinci v1'!M36,'OPINI Rinci v1'!N36,'OPINI Rinci v1'!O36,'OPINI Rinci v1'!P36) -> WTP | H34: =CONCATENATE('OPINI Rinci v1'!R36,'OPINI Rinci v1'!S36,'OPINI Rinci v1'!T36,'OPINI Rinci v1'!U36) -> WTP | I34: =CONCATENATE('OPINI Rinci v1'!W36,'OPINI Rinci v1'!X36,'OPINI Rinci v1'!Y36,'OPINI Rinci v1'!Z36) -> WDP | J34: =CONCATENATE('OPINI Rinci v1'!AB36,'OPINI Rinci v1'!AC36,'OPINI Rinci v1'!AD36,'OPINI Rinci v1'!AE36) -> WDP | K34: =CONCATENATE('OPINI Rinci v1'!AG36,'OPINI Rinci v1'!AH36,'OPINI Rinci v1'!AI36,'OPINI Rinci v1'!AJ36) -> WTP | L34: BS | O34: =CONCATENATE('OPINI Rinci v1'!AL36,'OPINI Rinci v1'!AM36,'OPINI Rinci v1'!AO36,'OPINI Rinci v1'!AN36) -> WDP | P34: BS | Q34: =CONCATENATE('OPINI Rinci v1'!AQ36,'OPINI Rinci v1'!AR36,'OPINI Rinci v1'!AT36,'OPINI Rinci v1'!AS36) -> WDP | R34: =CONCATENATE('OPINI Rinci v1'!AV36,'OPINI Rinci v1'!AW36,'OPINI Rinci v1'!AX36,'OPINI Rinci v1'!AY36) -> WDP | S34: =CONCATENATE('OPINI Rinci v1'!BA36,'OPINI Rinci v1'!BB36,'OPINI Rinci v1'!BC36,'OPINI Rinci v1'!BD36) -> TMP | T34: =CONCATENATE('OPINI Rinci v1'!BF36,'OPINI Rinci v1'!BG36,'OPINI Rinci v1'!BH36,'OPINI Rinci v1'!BI36) -> WDP | U34: =CONCATENATE('OPINI Rinci v1'!BK36,'OPINI Rinci v1'!BL36,'OPINI Rinci v1'!BM36,'OPINI Rinci v1'!BN36) -> WDP | V34: =CONCATENATE('OPINI Rinci v1'!BP36,'OPINI Rinci v1'!BQ36,'OPINI Rinci v1'!BR36,'OPINI Rinci v1'!BS36) -> TMP | W34: =CONCATENATE('OPINI Rinci v1'!BU36,'OPINI Rinci v1'!BV36,'OPINI Rinci v1'!BW36,'OPINI Rinci v1'!BX36) -> WDP | X34: =CONCATENATE('OPINI Rinci v1'!BZ36,'OPINI Rinci v1'!CA36,'OPINI Rinci v1'!CB36,'OPINI Rinci v1'!CC36) -> WDP | Z34: 26
A35: =IF(C35="","",A34+1) -> 27 | B35: 02 | C35: 03 | E35: Kab. Dairi | F35: =CONCATENATE('OPINI Rinci v1'!H37,'OPINI Rinci v1'!I37,'OPINI Rinci v1'!J37,'OPINI Rinci v1'!K37) -> WTP | G35: =CONCATENATE('OPINI Rinci v1'!M37,'OPINI Rinci v1'!N37,'OPINI Rinci v1'!O37,'OPINI Rinci v1'!P37) -> WTP | H35: =CONCATENATE('OPINI Rinci v1'!R37,'OPINI Rinci v1'!S37,'OPINI Rinci v1'!T37,'OPINI Rinci v1'!U37) -> WTP | I35: =CONCATENATE('OPINI Rinci v1'!W37,'OPINI Rinci v1'!X37,'OPINI Rinci v1'!Y37,'OPINI Rinci v1'!Z37) -> WTP | J35: =CONCATENATE('OPINI Rinci v1'!AB37,'OPINI Rinci v1'!AC37,'OPINI Rinci v1'!AD37,'OPINI Rinci v1'!AE37) -> WTP | K35: =CONCATENATE('OPINI Rinci v1'!AG37,'OPINI Rinci v1'!AH37,'OPINI Rinci v1'!AI37,'OPINI Rinci v1'!AJ37) -> WTP | L35: NON | O35: =CONCATENATE('OPINI Rinci v1'!AL37,'OPINI Rinci v1'!AM37,'OPINI Rinci v1'!AO37,'OPINI Rinci v1'!AN37) -> WDP | P35: BNS | Q35: =CONCATENATE('OPINI Rinci v1'!AQ37,'OPINI Rinci v1'!AR37,'OPINI Rinci v1'!AT37,'OPINI Rinci v1'!AS37) -> WDP | R35: =CONCATENATE('OPINI Rinci v1'!AV37,'OPINI Rinci v1'!AW37,'OPINI Rinci v1'!AX37,'OPINI Rinci v1'!AY37) -> WDP | S35: =CONCATENATE('OPINI Rinci v1'!BA37,'OPINI Rinci v1'!BB37,'OPINI Rinci v1'!BC37,'OPINI Rinci v1'!BD37) -> WDP | T35: =CONCATENATE('OPINI Rinci v1'!BF37,'OPINI Rinci v1'!BG37,'OPINI Rinci v1'!BH37,'OPINI Rinci v1'!BI37) -> WDP | U35: =CONCATENATE('OPINI Rinci v1'!BK37,'OPINI Rinci v1'!BL37,'OPINI Rinci v1'!BM37,'OPINI Rinci v1'!BN37) -> WDP | V35: =CONCATENATE('OPINI Rinci v1'!BP37,'OPINI Rinci v1'!BQ37,'OPINI Rinci v1'!BR37,'OPINI Rinci v1'!BS37) -> TMP | W35: =CONCATENATE('OPINI Rinci v1'!BU37,'OPINI Rinci v1'!BV37,'OPINI Rinci v1'!BW37,'OPINI Rinci v1'!BX37) -> TMP | X35: =CONCATENATE('OPINI Rinci v1'!BZ37,'OPINI Rinci v1'!CA37,'OPINI Rinci v1'!CB37,'OPINI Rinci v1'!CC37) -> WDP | Z35: 27
A36: =IF(C36="","",A35+1) -> 28 | B36: 02 | C36: 04 | E36: Kab. Deli Serdang | F36: =CONCATENATE('OPINI Rinci v1'!H38,'OPINI Rinci v1'!I38,'OPINI Rinci v1'!J38,'OPINI Rinci v1'!K38) -> WTP | G36: =CONCATENATE('OPINI Rinci v1'!M38,'OPINI Rinci v1'!N38,'OPINI Rinci v1'!O38,'OPINI Rinci v1'!P38) -> WTP | H36: =CONCATENATE('OPINI Rinci v1'!R38,'OPINI Rinci v1'!S38,'OPINI Rinci v1'!T38,'OPINI Rinci v1'!U38) -> WDP | I36: =CONCATENATE('OPINI Rinci v1'!W38,'OPINI Rinci v1'!X38,'OPINI Rinci v1'!Y38,'OPINI Rinci v1'!Z38) -> WDP | J36: =CONCATENATE('OPINI Rinci v1'!AB38,'OPINI Rinci v1'!AC38,'OPINI Rinci v1'!AD38,'OPINI Rinci v1'!AE38) -> TMP | K36: =CONCATENATE('OPINI Rinci v1'!AG38,'OPINI Rinci v1'!AH38,'OPINI Rinci v1'!AI38,'OPINI Rinci v1'!AJ38) -> WDP | L36: NON | O36: =CONCATENATE('OPINI Rinci v1'!AL38,'OPINI Rinci v1'!AM38,'OPINI Rinci v1'!AO38,'OPINI Rinci v1'!AN38) -> TMP | P36: BNS | Q36: =CONCATENATE('OPINI Rinci v1'!AQ38,'OPINI Rinci v1'!AR38,'OPINI Rinci v1'!AT38,'OPINI Rinci v1'!AS38) -> TW | R36: =CONCATENATE('OPINI Rinci v1'!AV38,'OPINI Rinci v1'!AW38,'OPINI Rinci v1'!AX38,'OPINI Rinci v1'!AY38) -> TMP | S36: =CONCATENATE('OPINI Rinci v1'!BA38,'OPINI Rinci v1'!BB38,'OPINI Rinci v1'!BC38,'OPINI Rinci v1'!BD38) -> TMP | T36: =CONCATENATE('OPINI Rinci v1'!BF38,'OPINI Rinci v1'!BG38,'OPINI Rinci v1'!BH38,'OPINI Rinci v1'!BI38) -> TMP | U36: =CONCATENATE('OPINI Rinci v1'!BK38,'OPINI Rinci v1'!BL38,'OPINI Rinci v1'!BM38,'OPINI Rinci v1'!BN38) -> TMP | V36: =CONCATENATE('OPINI Rinci v1'!BP38,'OPINI Rinci v1'!BQ38,'OPINI Rinci v1'!BR38,'OPINI Rinci v1'!BS38) -> WDP | W36: =CONCATENATE('OPINI Rinci v1'!BU38,'OPINI Rinci v1'!BV38,'OPINI Rinci v1'!BW38,'OPINI Rinci v1'!BX38) -> TMP | X36: =CONCATENATE('OPINI Rinci v1'!BZ38,'OPINI Rinci v1'!CA38,'OPINI Rinci v1'!CB38,'OPINI Rinci v1'!CC38) -> WDP | Z36: 28
A37: =IF(C37="","",A36+1) -> 29 | B37: 02 | C37: 05 | E37: Kab. Tanah Karo | F37: =CONCATENATE('OPINI Rinci v1'!H39,'OPINI Rinci v1'!I39,'OPINI Rinci v1'!J39,'OPINI Rinci v1'!K39) -> WTP | G37: =CONCATENATE('OPINI Rinci v1'!M39,'OPINI Rinci v1'!N39,'OPINI Rinci v1'!O39,'OPINI Rinci v1'!P39) -> WDP | H37: =CONCATENATE('OPINI Rinci v1'!R39,'OPINI Rinci v1'!S39,'OPINI Rinci v1'!T39,'OPINI Rinci v1'!U39) -> WDP | I37: =CONCATENATE('OPINI Rinci v1'!W39,'OPINI Rinci v1'!X39,'OPINI Rinci v1'!Y39,'OPINI Rinci v1'!Z39) -> TMP | J37: =CONCATENATE('OPINI Rinci v1'!AB39,'OPINI Rinci v1'!AC39,'OPINI Rinci v1'!AD39,'OPINI Rinci v1'!AE39) -> WDP | K37: =CONCATENATE('OPINI Rinci v1'!AG39,'OPINI Rinci v1'!AH39,'OPINI Rinci v1'!AI39,'OPINI Rinci v1'!AJ39) -> WDP | L37: BS | O37: =CONCATENATE('OPINI Rinci v1'!AL39,'OPINI Rinci v1'!AM39,'OPINI Rinci v1'!AO39,'OPINI Rinci v1'!AN39) -> WDP | P37: BS | Q37: =CONCATENATE('OPINI Rinci v1'!AQ39,'OPINI Rinci v1'!AR39,'OPINI Rinci v1'!AT39,'OPINI Rinci v1'!AS39) -> WDP | R37: =CONCATENATE('OPINI Rinci v1'!AV39,'OPINI Rinci v1'!AW39,'OPINI Rinci v1'!AX39,'OPINI Rinci v1'!AY39) -> WDP | S37: =CONCATENATE('OPINI Rinci v1'!BA39,'OPINI Rinci v1'!BB39,'OPINI Rinci v1'!BC39,'OPINI Rinci v1'!BD39) -> WDP | T37: =CONCATENATE('OPINI Rinci v1'!BF39,'OPINI Rinci v1'!BG39,'OPINI Rinci v1'!BH39,'OPINI Rinci v1'!BI39) -> WDP | U37: =CONCATENATE('OPINI Rinci v1'!BK39,'OPINI Rinci v1'!BL39,'OPINI Rinci v1'!BM39,'OPINI Rinci v1'!BN39) -> WDP | V37: =CONCATENATE('OPINI Rinci v1'!BP39,'OPINI Rinci v1'!BQ39,'OPINI Rinci v1'!BR39,'OPINI Rinci v1'!BS39) -> TMP | W37: =CONCATENATE('OPINI Rinci v1'!BU39,'OPINI Rinci v1'!BV39,'OPINI Rinci v1'!BW39,'OPINI Rinci v1'!BX39) -> WDP | X37: =CONCATENATE('OPINI Rinci v1'!BZ39,'OPINI Rinci v1'!CA39,'OPINI Rinci v1'!CB39,'OPINI Rinci v1'!CC39) -> WDP | Z37: 29
A38: =IF(C38="","",A37+1) -> 30 | B38: 02 | C38: 06 | E38: Kab. Labuhan Batu | F38: =CONCATENATE('OPINI Rinci v1'!H40,'OPINI Rinci v1'!I40,'OPINI Rinci v1'!J40,'OPINI Rinci v1'!K40) | G38: =CONCATENATE('OPINI Rinci v1'!M40,'OPINI Rinci v1'!N40,'OPINI Rinci v1'!O40,'OPINI Rinci v1'!P40) -> WDP | H38: =CONCATENATE('OPINI Rinci v1'!R40,'OPINI Rinci v1'!S40,'OPINI Rinci v1'!T40,'OPINI Rinci v1'!U40) -> WDP | I38: =CONCATENATE('OPINI Rinci v1'!W40,'OPINI Rinci v1'!X40,'OPINI Rinci v1'!Y40,'OPINI Rinci v1'!Z40) -> WDP | J38: =CONCATENATE('OPINI Rinci v1'!AB40,'OPINI Rinci v1'!AC40,'OPINI Rinci v1'!AD40,'OPINI Rinci v1'!AE40) -> WDP | K38: =CONCATENATE('OPINI Rinci v1'!AG40,'OPINI Rinci v1'!AH40,'OPINI Rinci v1'!AI40,'OPINI Rinci v1'!AJ40) -> WTP | L38: BS | O38: =CONCATENATE('OPINI Rinci v1'!AL40,'OPINI Rinci v1'!AM40,'OPINI Rinci v1'!AO40,'OPINI Rinci v1'!AN40) -> WDP | P38: BS | Q38: =CONCATENATE('OPINI Rinci v1'!AQ40,'OPINI Rinci v1'!AR40,'OPINI Rinci v1'!AT40,'OPINI Rinci v1'!AS40) -> WDP | R38: =CONCATENATE('OPINI Rinci v1'!AV40,'OPINI Rinci v1'!AW40,'OPINI Rinci v1'!AX40,'OPINI Rinci v1'!AY40) -> WDP | S38: =CONCATENATE('OPINI Rinci v1'!BA40,'OPINI Rinci v1'!BB40,'OPINI Rinci v1'!BC40,'OPINI Rinci v1'!BD40) -> WDP | T38: =CONCATENATE('OPINI Rinci v1'!BF40,'OPINI Rinci v1'!BG40,'OPINI Rinci v1'!BH40,'OPINI Rinci v1'!BI40) -> WDP | U38: =CONCATENATE('OPINI Rinci v1'!BK40,'OPINI Rinci v1'!BL40,'OPINI Rinci v1'!BM40,'OPINI Rinci v1'!BN40) -> TMP | V38: =CONCATENATE('OPINI Rinci v1'!BP40,'OPINI Rinci v1'!BQ40,'OPINI Rinci v1'!BR40,'OPINI Rinci v1'!BS40) -> TMP | W38: =CONCATENATE('OPINI Rinci v1'!BU40,'OPINI Rinci v1'!BV40,'OPINI Rinci v1'!BW40,'OPINI Rinci v1'!BX40) -> WDP | X38: =CONCATENATE('OPINI Rinci v1'!BZ40,'OPINI Rinci v1'!CA40,'OPINI Rinci v1'!CB40,'OPINI Rinci v1'!CC40) -> WDP | Z38: 30
A39: =IF(C39="","",A38+1) -> 31 | B39: 02 | C39: 07 | E39: Kab. Langkat | F39: =CONCATENATE('OPINI Rinci v1'!H41,'OPINI Rinci v1'!I41,'OPINI Rinci v1'!J41,'OPINI Rinci v1'!K41) -> WTP | G39: =CONCATENATE('OPINI Rinci v1'!M41,'OPINI Rinci v1'!N41,'OPINI Rinci v1'!O41,'OPINI Rinci v1'!P41) -> WDP | H39: =CONCATENATE('OPINI Rinci v1'!R41,'OPINI Rinci v1'!S41,'OPINI Rinci v1'!T41,'OPINI Rinci v1'!U41) -> WDP | I39: =CONCATENATE('OPINI Rinci v1'!W41,'OPINI Rinci v1'!X41,'OPINI Rinci v1'!Y41,'OPINI Rinci v1'!Z41) -> WDP | J39: =CONCATENATE('OPINI Rinci v1'!AB41,'OPINI Rinci v1'!AC41,'OPINI Rinci v1'!AD41,'OPINI Rinci v1'!AE41) -> WDP | K39: =CONCATENATE('OPINI Rinci v1'!AG41,'OPINI Rinci v1'!AH41,'OPINI Rinci v1'!AI41,'OPINI Rinci v1'!AJ41) -> WDP | L39: BS | O39: =CONCATENATE('OPINI Rinci v1'!AL41,'OPINI Rinci v1'!AM41,'OPINI Rinci v1'!AO41,'OPINI Rinci v1'!AN41) -> WDP | P39: BS | Q39: =CONCATENATE('OPINI Rinci v1'!AQ41,'OPINI Rinci v1'!AR41,'OPINI Rinci v1'!AT41,'OPINI Rinci v1'!AS41) -> WDP | R39: =CONCATENATE('OPINI Rinci v1'!AV41,'OPINI Rinci v1'!AW41,'OPINI Rinci v1'!AX41,'OPINI Rinci v1'!AY41) -> WDP | S39: =CONCATENATE('OPINI Rinci v1'!BA41,'OPINI Rinci v1'!BB41,'OPINI Rinci v1'!BC41,'OPINI Rinci v1'!BD41) -> TMP | T39: =CONCATENATE('OPINI Rinci v1'!BF41,'OPINI Rinci v1'!BG41,'OPINI Rinci v1'!BH41,'OPINI Rinci v1'!BI41) -> TMP | U39: =CONCATENATE('OPINI Rinci v1'!BK41,'OPINI Rinci v1'!BL41,'OPINI Rinci v1'!BM41,'OPINI Rinci v1'!BN41) -> TMP | V39: =CONCATENATE('OPINI Rinci v1'!BP41,'OPINI Rinci v1'!BQ41,'OPINI Rinci v1'!BR41,'OPINI Rinci v1'!BS41) -> TMP | W39: =CONCATENATE('OPINI Rinci v1'!BU41,'OPINI Rinci v1'!BV41,'OPINI Rinci v1'!BW41,'OPINI Rinci v1'!BX41) -> WDP | X39: =CONCATENATE('OPINI Rinci v1'!BZ41,'OPINI Rinci v1'!CA41,'OPINI Rinci v1'!CB41,'OPINI Rinci v1'!CC41) | Z39: 31
A40: =IF(C40="","",A39+1) -> 32 | B40: 02 | C40: 08 | E40: Kab. Mandailing Natal | F40: =CONCATENATE('OPINI Rinci v1'!H42,'OPINI Rinci v1'!I42,'OPINI Rinci v1'!J42,'OPINI Rinci v1'!K42) | G40: =CONCATENATE('OPINI Rinci v1'!M42,'OPINI Rinci v1'!N42,'OPINI Rinci v1'!O42,'OPINI Rinci v1'!P42) -> WDP | H40: =CONCATENATE('OPINI Rinci v1'!R42,'OPINI Rinci v1'!S42,'OPINI Rinci v1'!T42,'OPINI Rinci v1'!U42) -> WDP | I40: =CONCATENATE('OPINI Rinci v1'!W42,'OPINI Rinci v1'!X42,'OPINI Rinci v1'!Y42,'OPINI Rinci v1'!Z42) -> WDP | J40: =CONCATENATE('OPINI Rinci v1'!AB42,'OPINI Rinci v1'!AC42,'OPINI Rinci v1'!AD42,'OPINI Rinci v1'!AE42) -> WDP | K40: =CONCATENATE('OPINI Rinci v1'!AG42,'OPINI Rinci v1'!AH42,'OPINI Rinci v1'!AI42,'OPINI Rinci v1'!AJ42) -> WDP | L40: NON | O40: =CONCATENATE('OPINI Rinci v1'!AL42,'OPINI Rinci v1'!AM42,'OPINI Rinci v1'!AO42,'OPINI Rinci v1'!AN42) -> TMP | P40: NON | Q40: =CONCATENATE('OPINI Rinci v1'!AQ42,'OPINI Rinci v1'!AR42,'OPINI Rinci v1'!AT42,'OPINI Rinci v1'!AS42) -> TMP | R40: =CONCATENATE('OPINI Rinci v1'!AV42,'OPINI Rinci v1'!AW42,'OPINI Rinci v1'!AX42,'OPINI Rinci v1'!AY42) -> WDP | S40: =CONCATENATE('OPINI Rinci v1'!BA42,'OPINI Rinci v1'!BB42,'OPINI Rinci v1'!BC42,'OPINI Rinci v1'!BD42) -> WDP | T40: =CONCATENATE('OPINI Rinci v1'!BF42,'OPINI Rinci v1'!BG42,'OPINI Rinci v1'!BH42,'OPINI Rinci v1'!BI42) -> WDP | U40: =CONCATENATE('OPINI Rinci v1'!BK42,'OPINI Rinci v1'!BL42,'OPINI Rinci v1'!BM42,'OPINI Rinci v1'!BN42) -> TMP | V40: =CONCATENATE('OPINI Rinci v1'!BP42,'OPINI Rinci v1'!BQ42,'OPINI Rinci v1'!BR42,'OPINI Rinci v1'!BS42) -> TMP | W40: =CONCATENATE('OPINI Rinci v1'!BU42,'OPINI Rinci v1'!BV42,'OPINI Rinci v1'!BW42,'OPINI Rinci v1'!BX42) -> TW | X40: =CONCATENATE('OPINI Rinci v1'!BZ42,'OPINI Rinci v1'!CA42,'OPINI Rinci v1'!CB42,'OPINI Rinci v1'!CC42) -> WDP | Z40: 32
A41: =IF(C41="","",A40+1) -> 33 | B41: 02 | C41: 09 | E41: Kab. Nias | F41: =CONCATENATE('OPINI Rinci v1'!H43,'OPINI Rinci v1'!I43,'OPINI Rinci v1'!J43,'OPINI Rinci v1'!K43) | G41: =CONCATENATE('OPINI Rinci v1'!M43,'OPINI Rinci v1'!N43,'OPINI Rinci v1'!O43,'OPINI Rinci v1'!P43) -> WDP | H41: =CONCATENATE('OPINI Rinci v1'!R43,'OPINI Rinci v1'!S43,'OPINI Rinci v1'!T43,'OPINI Rinci v1'!U43) -> WDP | I41: =CONCATENATE('OPINI Rinci v1'!W43,'OPINI Rinci v1'!X43,'OPINI Rinci v1'!Y43,'OPINI Rinci v1'!Z43) -> WDP | J41: =CONCATENATE('OPINI Rinci v1'!AB43,'OPINI Rinci v1'!AC43,'OPINI Rinci v1'!AD43,'OPINI Rinci v1'!AE43) -> WDP | K41: =CONCATENATE('OPINI Rinci v1'!AG43,'OPINI Rinci v1'!AH43,'OPINI Rinci v1'!AI43,'OPINI Rinci v1'!AJ43) -> WDP | L41: NON | O41: =CONCATENATE('OPINI Rinci v1'!AL43,'OPINI Rinci v1'!AM43,'OPINI Rinci v1'!AO43,'OPINI Rinci v1'!AN43) -> WDP | P41: BNS | Q41: =CONCATENATE('OPINI Rinci v1'!AQ43,'OPINI Rinci v1'!AR43,'OPINI Rinci v1'!AT43,'OPINI Rinci v1'!AS43) -> TMP | R41: =CONCATENATE('OPINI Rinci v1'!AV43,'OPINI Rinci v1'!AW43,'OPINI Rinci v1'!AX43,'OPINI Rinci v1'!AY43) -> TMP | S41: =CONCATENATE('OPINI Rinci v1'!BA43,'OPINI Rinci v1'!BB43,'OPINI Rinci v1'!BC43,'OPINI Rinci v1'!BD43) -> TMP | T41: =CONCATENATE('OPINI Rinci v1'!BF43,'OPINI Rinci v1'!BG43,'OPINI Rinci v1'!BH43,'OPINI Rinci v1'!BI43) -> TMP | U41: =CONCATENATE('OPINI Rinci v1'!BK43,'OPINI Rinci v1'!BL43,'OPINI Rinci v1'!BM43,'OPINI Rinci v1'!BN43) -> TMP | V41: =CONCATENATE('OPINI Rinci v1'!BP43,'OPINI Rinci v1'!BQ43,'OPINI Rinci v1'!BR43,'OPINI Rinci v1'!BS43) -> TMP | W41: =CONCATENATE('OPINI Rinci v1'!BU43,'OPINI Rinci v1'!BV43,'OPINI Rinci v1'!BW43,'OPINI Rinci v1'!BX43) -> TMP | X41: =CONCATENATE('OPINI Rinci v1'!BZ43,'OPINI Rinci v1'!CA43,'OPINI Rinci v1'!CB43,'OPINI Rinci v1'!CC43) | Z41: 33
A42: =IF(C42="","",A41+1) -> 34 | B42: 02 | C42: 10 | E42: Kab. Simalungun | F42: =CONCATENATE('OPINI Rinci v1'!H44,'OPINI Rinci v1'!I44,'OPINI Rinci v1'!J44,'OPINI Rinci v1'!K44) | G42: =CONCATENATE('OPINI Rinci v1'!M44,'OPINI Rinci v1'!N44,'OPINI Rinci v1'!O44,'OPINI Rinci v1'!P44) -> TMP | H42: =CONCATENATE('OPINI Rinci v1'!R44,'OPINI Rinci v1'!S44,'OPINI Rinci v1'!T44,'OPINI Rinci v1'!U44) -> TMP | I42: =CONCATENATE('OPINI Rinci v1'!W44,'OPINI Rinci v1'!X44,'OPINI Rinci v1'!Y44,'OPINI Rinci v1'!Z44) -> WDP | J42: =CONCATENATE('OPINI Rinci v1'!AB44,'OPINI Rinci v1'!AC44,'OPINI Rinci v1'!AD44,'OPINI Rinci v1'!AE44) -> WDP | K42: =CONCATENATE('OPINI Rinci v1'!AG44,'OPINI Rinci v1'!AH44,'OPINI Rinci v1'!AI44,'OPINI Rinci v1'!AJ44) -> WDP | L42: BS | O42: =CONCATENATE('OPINI Rinci v1'!AL44,'OPINI Rinci v1'!AM44,'OPINI Rinci v1'!AO44,'OPINI Rinci v1'!AN44) -> TMP | P42: BS | Q42: =CONCATENATE('OPINI Rinci v1'!AQ44,'OPINI Rinci v1'!AR44,'OPINI Rinci v1'!AT44,'OPINI Rinci v1'!AS44) -> WDP | R42: =CONCATENATE('OPINI Rinci v1'!AV44,'OPINI Rinci v1'!AW44,'OPINI Rinci v1'!AX44,'OPINI Rinci v1'!AY44) -> WDP | S42: =CONCATENATE('OPINI Rinci v1'!BA44,'OPINI Rinci v1'!BB44,'OPINI Rinci v1'!BC44,'OPINI Rinci v1'!BD44) -> WDP | T42: =CONCATENATE('OPINI Rinci v1'!BF44,'OPINI Rinci v1'!BG44,'OPINI Rinci v1'!BH44,'OPINI Rinci v1'!BI44) -> WDP | U42: =CONCATENATE('OPINI Rinci v1'!BK44,'OPINI Rinci v1'!BL44,'OPINI Rinci v1'!BM44,'OPINI Rinci v1'!BN44) -> WDP | V42: =CONCATENATE('OPINI Rinci v1'!BP44,'OPINI Rinci v1'!BQ44,'OPINI Rinci v1'!BR44,'OPINI Rinci v1'!BS44) -> TMP | W42: =CONCATENATE('OPINI Rinci v1'!BU44,'OPINI Rinci v1'!BV44,'OPINI Rinci v1'!BW44,'OPINI Rinci v1'!BX44) -> WDP | X42: =CONCATENATE('OPINI Rinci v1'!BZ44,'OPINI Rinci v1'!CA44,'OPINI Rinci v1'!CB44,'OPINI Rinci v1'!CC44) | Z42: 34
A43: =IF(C43="","",A42+1) -> 35 | B43: 02 | C43: 11 | E43: Kab. Tapanuli Selatan | F43: =CONCATENATE('OPINI Rinci v1'!H45,'OPINI Rinci v1'!I45,'OPINI Rinci v1'!J45,'OPINI Rinci v1'!K45) -> WTP | G43: =CONCATENATE('OPINI Rinci v1'!M45,'OPINI Rinci v1'!N45,'OPINI Rinci v1'!O45,'OPINI Rinci v1'!P45) -> WTP | H43: =CONCATENATE('OPINI Rinci v1'!R45,'OPINI Rinci v1'!S45,'OPINI Rinci v1'!T45,'OPINI Rinci v1'!U45) -> WTP | I43: =CONCATENATE('OPINI Rinci v1'!W45,'OPINI Rinci v1'!X45,'OPINI Rinci v1'!Y45,'OPINI Rinci v1'!Z45) -> WTP | J43: =CONCATENATE('OPINI Rinci v1'!AB45,'OPINI Rinci v1'!AC45,'OPINI Rinci v1'!AD45,'OPINI Rinci v1'!AE45) -> WTP | K43: =CONCATENATE('OPINI Rinci v1'!AG45,'OPINI Rinci v1'!AH45,'OPINI Rinci v1'!AI45,'OPINI Rinci v1'!AJ45) -> WTP | L43: BNS | O43: =CONCATENATE('OPINI Rinci v1'!AL45,'OPINI Rinci v1'!AM45,'OPINI Rinci v1'!AO45,'OPINI Rinci v1'!AN45) -> WDP | P43: NON | Q43: =CONCATENATE('OPINI Rinci v1'!AQ45,'OPINI Rinci v1'!AR45,'OPINI Rinci v1'!AT45,'OPINI Rinci v1'!AS45) -> WDP | R43: =CONCATENATE('OPINI Rinci v1'!AV45,'OPINI Rinci v1'!AW45,'OPINI Rinci v1'!AX45,'OPINI Rinci v1'!AY45) -> WDP | S43: =CONCATENATE('OPINI Rinci v1'!BA45,'OPINI Rinci v1'!BB45,'OPINI Rinci v1'!BC45,'OPINI Rinci v1'!BD45) -> TW | T43: =CONCATENATE('OPINI Rinci v1'!BF45,'OPINI Rinci v1'!BG45,'OPINI Rinci v1'!BH45,'OPINI Rinci v1'!BI45) -> TW | U43: =CONCATENATE('OPINI Rinci v1'!BK45,'OPINI Rinci v1'!BL45,'OPINI Rinci v1'!BM45,'OPINI Rinci v1'!BN45) -> TMP | V43: =CONCATENATE('OPINI Rinci v1'!BP45,'OPINI Rinci v1'!BQ45,'OPINI Rinci v1'!BR45,'OPINI Rinci v1'!BS45) -> WDP | W43: =CONCATENATE('OPINI Rinci v1'!BU45,'OPINI Rinci v1'!BV45,'OPINI Rinci v1'!BW45,'OPINI Rinci v1'!BX45) -> TMP | X43: =CONCATENATE('OPINI Rinci v1'!BZ45,'OPINI Rinci v1'!CA45,'OPINI Rinci v1'!CB45,'OPINI Rinci v1'!CC45) -> TW | Z43: 35
A44: =IF(C44="","",A43+1) -> 36 | B44: 02 | C44: 12 | E44: Kab. Tapanuli Tengah | F44: =CONCATENATE('OPINI Rinci v1'!H46,'OPINI Rinci v1'!I46,'OPINI Rinci v1'!J46,'OPINI Rinci v1'!K46) | G44: =CONCATENATE('OPINI Rinci v1'!M46,'OPINI Rinci v1'!N46,'OPINI Rinci v1'!O46,'OPINI Rinci v1'!P46) -> WDP | H44: =CONCATENATE('OPINI Rinci v1'!R46,'OPINI Rinci v1'!S46,'OPINI Rinci v1'!T46,'OPINI Rinci v1'!U46) -> WDP | I44: =CONCATENATE('OPINI Rinci v1'!W46,'OPINI Rinci v1'!X46,'OPINI Rinci v1'!Y46,'OPINI Rinci v1'!Z46) -> WDP | J44: =CONCATENATE('OPINI Rinci v1'!AB46,'OPINI Rinci v1'!AC46,'OPINI Rinci v1'!AD46,'OPINI Rinci v1'!AE46) -> WDP | K44: =CONCATENATE('OPINI Rinci v1'!AG46,'OPINI Rinci v1'!AH46,'OPINI Rinci v1'!AI46,'OPINI Rinci v1'!AJ46) -> WDP | L44: BNS | O44: =CONCATENATE('OPINI Rinci v1'!AL46,'OPINI Rinci v1'!AM46,'OPINI Rinci v1'!AO46,'OPINI Rinci v1'!AN46) -> WDP | P44: BNS | Q44: =CONCATENATE('OPINI Rinci v1'!AQ46,'OPINI Rinci v1'!AR46,'OPINI Rinci v1'!AT46,'OPINI Rinci v1'!AS46) -> WDP | R44: =CONCATENATE('OPINI Rinci v1'!AV46,'OPINI Rinci v1'!AW46,'OPINI Rinci v1'!AX46,'OPINI Rinci v1'!AY46) -> TMP | S44: =CONCATENATE('OPINI Rinci v1'!BA46,'OPINI Rinci v1'!BB46,'OPINI Rinci v1'!BC46,'OPINI Rinci v1'!BD46) -> WDP | T44: =CONCATENATE('OPINI Rinci v1'!BF46,'OPINI Rinci v1'!BG46,'OPINI Rinci v1'!BH46,'OPINI Rinci v1'!BI46) -> WDP | U44: =CONCATENATE('OPINI Rinci v1'!BK46,'OPINI Rinci v1'!BL46,'OPINI Rinci v1'!BM46,'OPINI Rinci v1'!BN46) -> WDP | V44: =CONCATENATE('OPINI Rinci v1'!BP46,'OPINI Rinci v1'!BQ46,'OPINI Rinci v1'!BR46,'OPINI Rinci v1'!BS46) -> WDP | W44: =CONCATENATE('OPINI Rinci v1'!BU46,'OPINI Rinci v1'!BV46,'OPINI Rinci v1'!BW46,'OPINI Rinci v1'!BX46) -> TMP | X44: =CONCATENATE('OPINI Rinci v1'!BZ46,'OPINI Rinci v1'!CA46,'OPINI Rinci v1'!CB46,'OPINI Rinci v1'!CC46) -> WDP | Z44: 36
A45: =IF(C45="","",A44+1) -> 37 | B45: 02 | C45: 13 | E45: Kab. Tapanuli Utara | F45: =CONCATENATE('OPINI Rinci v1'!H47,'OPINI Rinci v1'!I47,'OPINI Rinci v1'!J47,'OPINI Rinci v1'!K47) -> WTP | G45: =CONCATENATE('OPINI Rinci v1'!M47,'OPINI Rinci v1'!N47,'OPINI Rinci v1'!O47,'OPINI Rinci v1'!P47) -> WTP | H45: =CONCATENATE('OPINI Rinci v1'!R47,'OPINI Rinci v1'!S47,'OPINI Rinci v1'!T47,'OPINI Rinci v1'!U47) -> WTP | I45: =CONCATENATE('OPINI Rinci v1'!W47,'OPINI Rinci v1'!X47,'OPINI Rinci v1'!Y47,'OPINI Rinci v1'!Z47) -> WTP | J45: =CONCATENATE('OPINI Rinci v1'!AB47,'OPINI Rinci v1'!AC47,'OPINI Rinci v1'!AD47,'OPINI Rinci v1'!AE47) -> WTP | K45: =CONCATENATE('OPINI Rinci v1'!AG47,'OPINI Rinci v1'!AH47,'OPINI Rinci v1'!AI47,'OPINI Rinci v1'!AJ47) -> WTP | L45: BS | O45: =CONCATENATE('OPINI Rinci v1'!AL47,'OPINI Rinci v1'!AM47,'OPINI Rinci v1'!AO47,'OPINI Rinci v1'!AN47) -> WDP | P45: BS | Q45: =CONCATENATE('OPINI Rinci v1'!AQ47,'OPINI Rinci v1'!AR47,'OPINI Rinci v1'!AT47,'OPINI Rinci v1'!AS47) -> WDP | R45: =CONCATENATE('OPINI Rinci v1'!AV47,'OPINI Rinci v1'!AW47,'OPINI Rinci v1'!AX47,'OPINI Rinci v1'!AY47) -> WDP | S45: =CONCATENATE('OPINI Rinci v1'!BA47,'OPINI Rinci v1'!BB47,'OPINI Rinci v1'!BC47,'OPINI Rinci v1'!BD47) -> WDP | T45: =CONCATENATE('OPINI Rinci v1'!BF47,'OPINI Rinci v1'!BG47,'OPINI Rinci v1'!BH47,'OPINI Rinci v1'!BI47) -> WDP | U45: =CONCATENATE('OPINI Rinci v1'!BK47,'OPINI Rinci v1'!BL47,'OPINI Rinci v1'!BM47,'OPINI Rinci v1'!BN47) -> TMP | V45: =CONCATENATE('OPINI Rinci v1'!BP47,'OPINI Rinci v1'!BQ47,'OPINI Rinci v1'!BR47,'OPINI Rinci v1'!BS47) -> TMP | W45: =CONCATENATE('OPINI Rinci v1'!BU47,'OPINI Rinci v1'!BV47,'OPINI Rinci v1'!BW47,'OPINI Rinci v1'!BX47) -> TMP | X45: =CONCATENATE('OPINI Rinci v1'!BZ47,'OPINI Rinci v1'!CA47,'OPINI Rinci v1'!CB47,'OPINI Rinci v1'!CC47) -> WDP | Z45: 37
... A66: =IF(C66="","",A65+1) -> 58 | B66: 02 | C66: 34 | E66: Kota Gunung Sitoli | F66: =CONCATENATE('OPINI Rinci v1'!H68,'OPINI Rinci v1'!I68,'OPINI Rinci v1'!J68,'OPINI Rinci v1'!K68) -> WTP | G66: =CONCATENATE('OPINI Rinci v1'!M68,'OPINI Rinci v1'!N68,'OPINI Rinci v1'!O68,'OPINI Rinci v1'!P68) -> WTP | H66: =CONCATENATE('OPINI Rinci v1'!R68,'OPINI Rinci v1'!S68,'OPINI Rinci v1'!T68,'OPINI Rinci v1'!U68) -> WDP | I66: =CONCATENATE('OPINI Rinci v1'!W68,'OPINI Rinci v1'!X68,'OPINI Rinci v1'!Y68,'OPINI Rinci v1'!Z68) -> WDP | J66: =CONCATENATE('OPINI Rinci v1'!AB68,'OPINI Rinci v1'!AC68,'OPINI Rinci v1'!AD68,'OPINI Rinci v1'!AE68) -> WDP | K66: =CONCATENATE('OPINI Rinci v1'!AG68,'OPINI Rinci v1'!AH68,'OPINI Rinci v1'!AI68,'OPINI Rinci v1'!AJ68) -> WDP | L66: NON | O66: =CONCATENATE('OPINI Rinci v1'!AL68,'OPINI Rinci v1'!AM68,'OPINI Rinci v1'!AO68,'OPINI Rinci v1'!AN68) -> WDP | P66: BNS | Q66: =CONCATENATE('OPINI Rinci v1'!AQ68,'OPINI Rinci v1'!AR68,'OPINI Rinci v1'!AT68,'OPINI Rinci v1'!AS68) -> WDP | R66: =CONCATENATE('OPINI Rinci v1'!AV68,'OPINI Rinci v1'!AW68,'OPINI Rinci v1'!AX68,'OPINI Rinci v1'!AY68) -> WDP | S66: =CONCATENATE('OPINI Rinci v1'!BA68,'OPINI Rinci v1'!BB68,'OPINI Rinci v1'!BC68,'OPINI Rinci v1'!BD68) -> WDP | T66: =CONCATENATE('OPINI Rinci v1'!BF68,'OPINI Rinci v1'!BG68,'OPINI Rinci v1'!BH68,'OPINI Rinci v1'!BI68) | U66: =CONCATENATE('OPINI Rinci v1'!BK68,'OPINI Rinci v1'!BL68,'OPINI Rinci v1'!BM68,'OPINI Rinci v1'!BN68) | V66: =CONCATENATE('OPINI Rinci v1'!BP68,'OPINI Rinci v1'!BQ68,'OPINI Rinci v1'!BR68,'OPINI Rinci v1'!BS68) | W66: =CONCATENATE('OPINI Rinci v1'!BU68,'OPINI Rinci v1'!BV68,'OPINI Rinci v1'!BW68,'OPINI Rinci v1'!BX68) | X66: =CONCATENATE('OPINI Rinci v1'!BZ68,'OPINI Rinci v1'!CA68,'OPINI Rinci v1'!CB68,'OPINI Rinci v1'!CC68) | Z66: 58
A67: =IF(C67="","",A66+1) | G67: =CONCATENATE('OPINI Rinci v1'!M69,'OPINI Rinci v1'!N69,'OPINI Rinci v1'!O69,'OPINI Rinci v1'!P69) | Q67: =CONCATENATE('OPINI Rinci v1'!AQ69,'OPINI Rinci v1'!AR69,'OPINI Rinci v1'!AT69,'OPINI Rinci v1'!AS69)
A68: =IF(C68="","",A67+1) | B68: 03 | D68: PROV SUMBAR
A69: =IF(C69="","",A66+1) -> 59 | B69: 03 | C69: 01 | E69: Provinsi Sumatera Barat | F69: =CONCATENATE('OPINI Rinci v1'!H71,'OPINI Rinci v1'!I71,'OPINI Rinci v1'!J71,'OPINI Rinci v1'!K71) -> WTP | G69: =CONCATENATE('OPINI Rinci v1'!M71,'OPINI Rinci v1'!N71,'OPINI Rinci v1'!O71,'OPINI Rinci v1'!P71) -> WTP | H69: =CONCATENATE('OPINI Rinci v1'!R71,'OPINI Rinci v1'!S71,'OPINI Rinci v1'!T71,'OPINI Rinci v1'!U71) -> WTP | I69: =CONCATENATE('OPINI Rinci v1'!W71,'OPINI Rinci v1'!X71,'OPINI Rinci v1'!Y71,'OPINI Rinci v1'!Z71) -> WTP | J69: =CONCATENATE('OPINI Rinci v1'!AB71,'OPINI Rinci v1'!AC71,'OPINI Rinci v1'!AD71,'OPINI Rinci v1'!AE71) -> WTP | K69: =CONCATENATE('OPINI Rinci v1'!AG71,'OPINI Rinci v1'!AH71,'OPINI Rinci v1'!AI71,'OPINI Rinci v1'!AJ71) -> WTP | L69: BNS | O69: =CONCATENATE('OPINI Rinci v1'!AL71,'OPINI Rinci v1'!AM71,'OPINI Rinci v1'!AO71,'OPINI Rinci v1'!AN71) -> WTP | P69: BNS | Q69: =CONCATENATE('OPINI Rinci v1'!AQ71,'OPINI Rinci v1'!AR71,'OPINI Rinci v1'!AT71,'OPINI Rinci v1'!AS71) -> WTP | R69: =CONCATENATE('OPINI Rinci v1'!AV71,'OPINI Rinci v1'!AW71,'OPINI Rinci v1'!AX71,'OPINI Rinci v1'!AY71) -> WDP | S69: =CONCATENATE('OPINI Rinci v1'!BA71,'OPINI Rinci v1'!BB71,'OPINI Rinci v1'!BC71,'OPINI Rinci v1'!BD71) -> WDP | T69: =CONCATENATE('OPINI Rinci v1'!BF71,'OPINI Rinci v1'!BG71,'OPINI Rinci v1'!BH71,'OPINI Rinci v1'!BI71) -> TMP | U69: =CONCATENATE('OPINI Rinci v1'!BK71,'OPINI Rinci v1'!BL71,'OPINI Rinci v1'!BM71,'OPINI Rinci v1'!BN71) -> WDP | V69: =CONCATENATE('OPINI Rinci v1'!BP71,'OPINI Rinci v1'!BQ71,'OPINI Rinci v1'!BR71,'OPINI Rinci v1'!BS71) -> WDP | W69: =CONCATENATE('OPINI Rinci v1'!BU71,'OPINI Rinci v1'!BV71,'OPINI Rinci v1'!BW71,'OPINI Rinci v1'!BX71) -> WDP | X69: =CONCATENATE('OPINI Rinci v1'!BZ71,'OPINI Rinci v1'!CA71,'OPINI Rinci v1'!CB71,'OPINI Rinci v1'!CC71) -> WDP
A70: =IF(C70="","",A69+1) -> 60 | B70: 03 | C70: 02 | E70: Kab. Limapuluh Kota | F70: =CONCATENATE('OPINI Rinci v1'!H72,'OPINI Rinci v1'!I72,'OPINI Rinci v1'!J72,'OPINI Rinci v1'!K72) | G70: =CONCATENATE('OPINI Rinci v1'!M72,'OPINI Rinci v1'!N72,'OPINI Rinci v1'!O72,'OPINI Rinci v1'!P72) -> WTP | H70: =CONCATENATE('OPINI Rinci v1'!R72,'OPINI Rinci v1'!S72,'OPINI Rinci v1'!T72,'OPINI Rinci v1'!U72) -> WTP | I70: =CONCATENATE('OPINI Rinci v1'!W72,'OPINI Rinci v1'!X72,'OPINI Rinci v1'!Y72,'OPINI Rinci v1'!Z72) -> WTP | J70: =CONCATENATE('OPINI Rinci v1'!AB72,'OPINI Rinci v1'!AC72,'OPINI Rinci v1'!AD72,'OPINI Rinci v1'!AE72) -> WTP | K70: =CONCATENATE('OPINI Rinci v1'!AG72,'OPINI Rinci v1'!AH72,'OPINI Rinci v1'!AI72,'OPINI Rinci v1'!AJ72) -> WDP | L70: BNS | O70: =CONCATENATE('OPINI Rinci v1'!AL72,'OPINI Rinci v1'!AM72,'OPINI Rinci v1'!AO72,'OPINI Rinci v1'!AN72) -> WDP | P70: BNS | Q70: =CONCATENATE('OPINI Rinci v1'!AQ72,'OPINI Rinci v1'!AR72,'OPINI Rinci v1'!AT72,'OPINI Rinci v1'!AS72) -> WDP | R70: =CONCATENATE('OPINI Rinci v1'!AV72,'OPINI Rinci v1'!AW72,'OPINI Rinci v1'!AX72,'OPINI Rinci v1'!AY72) -> WDP | S70: =CONCATENATE('OPINI Rinci v1'!BA72,'OPINI Rinci v1'!BB72,'OPINI Rinci v1'!BC72,'OPINI Rinci v1'!BD72) -> WDP | T70: =CONCATENATE('OPINI Rinci v1'!BF72,'OPINI Rinci v1'!BG72,'OPINI Rinci v1'!BH72,'OPINI Rinci v1'!BI72) -> WDP | U70: =CONCATENATE('OPINI Rinci v1'!BK72,'OPINI Rinci v1'!BL72,'OPINI Rinci v1'!BM72,'OPINI Rinci v1'!BN72) -> WDP | V70: =CONCATENATE('OPINI Rinci v1'!BP72,'OPINI Rinci v1'!BQ72,'OPINI Rinci v1'!BR72,'OPINI Rinci v1'!BS72) -> WDP | W70: =CONCATENATE('OPINI Rinci v1'!BU72,'OPINI Rinci v1'!BV72,'OPINI Rinci v1'!BW72,'OPINI Rinci v1'!BX72) -> WDP | X70: =CONCATENATE('OPINI Rinci v1'!BZ72,'OPINI Rinci v1'!CA72,'OPINI Rinci v1'!CB72,'OPINI Rinci v1'!CC72)
A71: =IF(C71="","",A70+1) -> 61 | B71: 03 | C71: 03 | E71: Kab. Agam | F71: =CONCATENATE('OPINI Rinci v1'!H73,'OPINI Rinci v1'!I73,'OPINI Rinci v1'!J73,'OPINI Rinci v1'!K73) -> WTP | G71: =CONCATENATE('OPINI Rinci v1'!M73,'OPINI Rinci v1'!N73,'OPINI Rinci v1'!O73,'OPINI Rinci v1'!P73) -> WTP | H71: =CONCATENATE('OPINI Rinci v1'!R73,'OPINI Rinci v1'!S73,'OPINI Rinci v1'!T73,'OPINI Rinci v1'!U73) -> WTP | I71: =CONCATENATE('OPINI Rinci v1'!W73,'OPINI Rinci v1'!X73,'OPINI Rinci v1'!Y73,'OPINI Rinci v1'!Z73) -> WTP | J71: =CONCATENATE('OPINI Rinci v1'!AB73,'OPINI Rinci v1'!AC73,'OPINI Rinci v1'!AD73,'OPINI Rinci v1'!AE73) -> WTP | K71: =CONCATENATE('OPINI Rinci v1'!AG73,'OPINI Rinci v1'!AH73,'OPINI Rinci v1'!AI73,'OPINI Rinci v1'!AJ73) -> WTP | L71: BNS | O71: =CONCATENATE('OPINI Rinci v1'!AL73,'OPINI Rinci v1'!AM73,'OPINI Rinci v1'!AO73,'OPINI Rinci v1'!AN73) -> WDP | P71: BNS | Q71: =CONCATENATE('OPINI Rinci v1'!AQ73,'OPINI Rinci v1'!AR73,'OPINI Rinci v1'!AT73,'OPINI Rinci v1'!AS73) -> WDP | R71: =CONCATENATE('OPINI Rinci v1'!AV73,'OPINI Rinci v1'!AW73,'OPINI Rinci v1'!AX73,'OPINI Rinci v1'!AY73) -> WDP | S71: =CONCATENATE('OPINI Rinci v1'!BA73,'OPINI Rinci v1'!BB73,'OPINI Rinci v1'!BC73,'OPINI Rinci v1'!BD73) -> WDP | T71: =CONCATENATE('OPINI Rinci v1'!BF73,'OPINI Rinci v1'!BG73,'OPINI Rinci v1'!BH73,'OPINI Rinci v1'!BI73) -> WDP | U71: =CONCATENATE('OPINI Rinci v1'!BK73,'OPINI Rinci v1'!BL73,'OPINI Rinci v1'!BM73,'OPINI Rinci v1'!BN73) -> WDP | V71: =CONCATENATE('OPINI Rinci v1'!BP73,'OPINI Rinci v1'!BQ73,'OPINI Rinci v1'!BR73,'OPINI Rinci v1'!BS73) -> WDP | W71: =CONCATENATE('OPINI Rinci v1'!BU73,'OPINI Rinci v1'!BV73,'OPINI Rinci v1'!BW73,'OPINI Rinci v1'!BX73) -> WDP | X71: =CONCATENATE('OPINI Rinci v1'!BZ73,'OPINI Rinci v1'!CA73,'OPINI Rinci v1'!CB73,'OPINI Rinci v1'!CC73) -> WDP
A72: =IF(C72="","",A71+1) -> 62 | B72: 03 | C72: 04 | E72: Kab. Kepulauan Mentawai | F72: =CONCATENATE('OPINI Rinci v1'!H74,'OPINI Rinci v1'!I74,'OPINI Rinci v1'!J74,'OPINI Rinci v1'!K74) -> WTP | G72: =CONCATENATE('OPINI Rinci v1'!M74,'OPINI Rinci v1'!N74,'OPINI Rinci v1'!O74,'OPINI Rinci v1'!P74) -> WTP | H72: =CONCATENATE('OPINI Rinci v1'!R74,'OPINI Rinci v1'!S74,'OPINI Rinci v1'!T74,'OPINI Rinci v1'!U74) -> WTP | I72: =CONCATENATE('OPINI Rinci v1'!W74,'OPINI Rinci v1'!X74,'OPINI Rinci v1'!Y74,'OPINI Rinci v1'!Z74) -> WDP | J72: =CONCATENATE('OPINI Rinci v1'!AB74,'OPINI Rinci v1'!AC74,'OPINI Rinci v1'!AD74,'OPINI Rinci v1'!AE74) -> WDP | K72: =CONCATENATE('OPINI Rinci v1'!AG74,'OPINI Rinci v1'!AH74,'OPINI Rinci v1'!AI74,'OPINI Rinci v1'!AJ74) -> WDP | L72: BS | O72: =CONCATENATE('OPINI Rinci v1'!AL74,'OPINI Rinci v1'!AM74,'OPINI Rinci v1'!AO74,'OPINI Rinci v1'!AN74) -> WDP | P72: BS | Q72: =CONCATENATE('OPINI Rinci v1'!AQ74,'OPINI Rinci v1'!AR74,'OPINI Rinci v1'!AT74,'OPINI Rinci v1'!AS74) -> WDP | R72: =CONCATENATE('OPINI Rinci v1'!AV74,'OPINI Rinci v1'!AW74,'OPINI Rinci v1'!AX74,'OPINI Rinci v1'!AY74) -> WDP | S72: =CONCATENATE('OPINI Rinci v1'!BA74,'OPINI Rinci v1'!BB74,'OPINI Rinci v1'!BC74,'OPINI Rinci v1'!BD74) -> WDP | T72: =CONCATENATE('OPINI Rinci v1'!BF74,'OPINI Rinci v1'!BG74,'OPINI Rinci v1'!BH74,'OPINI Rinci v1'!BI74) -> WDP | U72: =CONCATENATE('OPINI Rinci v1'!BK74,'OPINI Rinci v1'!BL74,'OPINI Rinci v1'!BM74,'OPINI Rinci v1'!BN74) -> WDP | V72: =CONCATENATE('OPINI Rinci v1'!BP74,'OPINI Rinci v1'!BQ74,'OPINI Rinci v1'!BR74,'OPINI Rinci v1'!BS74) -> WDP | W72: =CONCATENATE('OPINI Rinci v1'!BU74,'OPINI Rinci v1'!BV74,'OPINI Rinci v1'!BW74,'OPINI Rinci v1'!BX74) -> WDP | X72: =CONCATENATE('OPINI Rinci v1'!BZ74,'OPINI Rinci v1'!CA74,'OPINI Rinci v1'!CB74,'OPINI Rinci v1'!CC74) -> WDP
A73: =IF(C73="","",A72+1) -> 63 | B73: 03 | C73: 05 | E73: Kab. Padang Pariaman | F73: =CONCATENATE('OPINI Rinci v1'!H75,'OPINI Rinci v1'!I75,'OPINI Rinci v1'!J75,'OPINI Rinci v1'!K75) -> WTP | G73: =CONCATENATE('OPINI Rinci v1'!M75,'OPINI Rinci v1'!N75,'OPINI Rinci v1'!O75,'OPINI Rinci v1'!P75) -> WDP | H73: =CONCATENATE('OPINI Rinci v1'!R75,'OPINI Rinci v1'!S75,'OPINI Rinci v1'!T75,'OPINI Rinci v1'!U75) -> WTP | I73: =CONCATENATE('OPINI Rinci v1'!W75,'OPINI Rinci v1'!X75,'OPINI Rinci v1'!Y75,'OPINI Rinci v1'!Z75) -> WTP | J73: =CONCATENATE('OPINI Rinci v1'!AB75,'OPINI Rinci v1'!AC75,'OPINI Rinci v1'!AD75,'OPINI Rinci v1'!AE75) -> WTP | K73: =CONCATENATE('OPINI Rinci v1'!AG75,'OPINI Rinci v1'!AH75,'OPINI Rinci v1'!AI75,'OPINI Rinci v1'!AJ75) -> WTP | L73: BS | O73: =CONCATENATE('OPINI Rinci v1'!AL75,'OPINI Rinci v1'!AM75,'OPINI Rinci v1'!AO75,'OPINI Rinci v1'!AN75) -> WTP | P73: BS | Q73: =CONCATENATE('OPINI Rinci v1'!AQ75,'OPINI Rinci v1'!AR75,'OPINI Rinci v1'!AT75,'OPINI Rinci v1'!AS75) -> WDP | R73: =CONCATENATE('OPINI Rinci v1'!AV75,'OPINI Rinci v1'!AW75,'OPINI Rinci v1'!AX75,'OPINI Rinci v1'!AY75) -> WDP | S73: =CONCATENATE('OPINI Rinci v1'!BA75,'OPINI Rinci v1'!BB75,'OPINI Rinci v1'!BC75,'OPINI Rinci v1'!BD75) -> WDP | T73: =CONCATENATE('OPINI Rinci v1'!BF75,'OPINI Rinci v1'!BG75,'OPINI Rinci v1'!BH75,'OPINI Rinci v1'!BI75) -> WDP | U73: =CONCATENATE('OPINI Rinci v1'!BK75,'OPINI Rinci v1'!BL75,'OPINI Rinci v1'!BM75,'OPINI Rinci v1'!BN75) -> WTP | V73: =CONCATENATE('OPINI Rinci v1'!BP75,'OPINI Rinci v1'!BQ75,'OPINI Rinci v1'!BR75,'OPINI Rinci v1'!BS75) -> WDP | W73: =CONCATENATE('OPINI Rinci v1'!BU75,'OPINI Rinci v1'!BV75,'OPINI Rinci v1'!BW75,'OPINI Rinci v1'!BX75) -> WDP | X73: =CONCATENATE('OPINI Rinci v1'!BZ75,'OPINI Rinci v1'!CA75,'OPINI Rinci v1'!CB75,'OPINI Rinci v1'!CC75) -> WDP
A74: =IF(C74="","",A73+1) -> 64 | B74: 03 | C74: 06 | E74: Kab. Pasaman | F74: =CONCATENATE('OPINI Rinci v1'!H76,'OPINI Rinci v1'!I76,'OPINI Rinci v1'!J76,'OPINI Rinci v1'!K76) -> WTP | G74: =CONCATENATE('OPINI Rinci v1'!M76,'OPINI Rinci v1'!N76,'OPINI Rinci v1'!O76,'OPINI Rinci v1'!P76) -> WTP | H74: =CONCATENATE('OPINI Rinci v1'!R76,'OPINI Rinci v1'!S76,'OPINI Rinci v1'!T76,'OPINI Rinci v1'!U76) -> WTP | I74: =CONCATENATE('OPINI Rinci v1'!W76,'OPINI Rinci v1'!X76,'OPINI Rinci v1'!Y76,'OPINI Rinci v1'!Z76) -> WTP | J74: =CONCATENATE('OPINI Rinci v1'!AB76,'OPINI Rinci v1'!AC76,'OPINI Rinci v1'!AD76,'OPINI Rinci v1'!AE76) -> WTP | K74: =CONCATENATE('OPINI Rinci v1'!AG76,'OPINI Rinci v1'!AH76,'OPINI Rinci v1'!AI76,'OPINI Rinci v1'!AJ76) -> WTP | L74: BS | O74: =CONCATENATE('OPINI Rinci v1'!AL76,'OPINI Rinci v1'!AM76,'OPINI Rinci v1'!AO76,'OPINI Rinci v1'!AN76) -> WTP | P74: BS | Q74: =CONCATENATE('OPINI Rinci v1'!AQ76,'OPINI Rinci v1'!AR76,'OPINI Rinci v1'!AT76,'OPINI Rinci v1'!AS76) -> WDP | R74: =CONCATENATE('OPINI Rinci v1'!AV76,'OPINI Rinci v1'!AW76,'OPINI Rinci v1'!AX76,'OPINI Rinci v1'!AY76) -> WDP | S74: =CONCATENATE('OPINI Rinci v1'!BA76,'OPINI Rinci v1'!BB76,'OPINI Rinci v1'!BC76,'OPINI Rinci v1'!BD76) -> WDP | T74: =CONCATENATE('OPINI Rinci v1'!BF76,'OPINI Rinci v1'!BG76,'OPINI Rinci v1'!BH76,'OPINI Rinci v1'!BI76) -> WDP | U74: =CONCATENATE('OPINI Rinci v1'!BK76,'OPINI Rinci v1'!BL76,'OPINI Rinci v1'!BM76,'OPINI Rinci v1'!BN76) -> WDP | V74: =CONCATENATE('OPINI Rinci v1'!BP76,'OPINI Rinci v1'!BQ76,'OPINI Rinci v1'!BR76,'OPINI Rinci v1'!BS76) -> WDP | W74: =CONCATENATE('OPINI Rinci v1'!BU76,'OPINI Rinci v1'!BV76,'OPINI Rinci v1'!BW76,'OPINI Rinci v1'!BX76) -> TMP | X74: =CONCATENATE('OPINI Rinci v1'!BZ76,'OPINI Rinci v1'!CA76,'OPINI Rinci v1'!CB76,'OPINI Rinci v1'!CC76) -> WDP
A75: =IF(C75="","",A74+1) -> 65 | B75: 03 | C75: 07 | E75: Kab. Pesisir Selatan | F75: =CONCATENATE('OPINI Rinci v1'!H77,'OPINI Rinci v1'!I77,'OPINI Rinci v1'!J77,'OPINI Rinci v1'!K77) -> WTP | G75: =CONCATENATE('OPINI Rinci v1'!M77,'OPINI Rinci v1'!N77,'OPINI Rinci v1'!O77,'OPINI Rinci v1'!P77) -> WTP | H75: =CONCATENATE('OPINI Rinci v1'!R77,'OPINI Rinci v1'!S77,'OPINI Rinci v1'!T77,'OPINI Rinci v1'!U77) -> WTP | I75: =CONCATENATE('OPINI Rinci v1'!W77,'OPINI Rinci v1'!X77,'OPINI Rinci v1'!Y77,'OPINI Rinci v1'!Z77) -> WTP | J75: =CONCATENATE('OPINI Rinci v1'!AB77,'OPINI Rinci v1'!AC77,'OPINI Rinci v1'!AD77,'OPINI Rinci v1'!AE77) -> WTP | K75: =CONCATENATE('OPINI Rinci v1'!AG77,'OPINI Rinci v1'!AH77,'OPINI Rinci v1'!AI77,'OPINI Rinci v1'!AJ77) -> WTP | L75: BNS | O75: =CONCATENATE('OPINI Rinci v1'!AL77,'OPINI Rinci v1'!AM77,'OPINI Rinci v1'!AO77,'OPINI Rinci v1'!AN77) -> WTP | P75: BNS | Q75: =CONCATENATE('OPINI Rinci v1'!AQ77,'OPINI Rinci v1'!AR77,'OPINI Rinci v1'!AT77,'OPINI Rinci v1'!AS77) -> WDP | R75: =CONCATENATE('OPINI Rinci v1'!AV77,'OPINI Rinci v1'!AW77,'OPINI Rinci v1'!AX77,'OPINI Rinci v1'!AY77) -> WDP | S75: =CONCATENATE('OPINI Rinci v1'!BA77,'OPINI Rinci v1'!BB77,'OPINI Rinci v1'!BC77,'OPINI Rinci v1'!BD77) -> WDP | T75: =CONCATENATE('OPINI Rinci v1'!BF77,'OPINI Rinci v1'!BG77,'OPINI Rinci v1'!BH77,'OPINI Rinci v1'!BI77) -> WDP | U75: =CONCATENATE('OPINI Rinci v1'!BK77,'OPINI Rinci v1'!BL77,'OPINI Rinci v1'!BM77,'OPINI Rinci v1'!BN77) -> WDP | V75: =CONCATENATE('OPINI Rinci v1'!BP77,'OPINI Rinci v1'!BQ77,'OPINI Rinci v1'!BR77,'OPINI Rinci v1'!BS77) -> WDP | W75: =CONCATENATE('OPINI Rinci v1'!BU77,'OPINI Rinci v1'!BV77,'OPINI Rinci v1'!BW77,'OPINI Rinci v1'!BX77) -> WDP | X75: =CONCATENATE('OPINI Rinci v1'!BZ77,'OPINI Rinci v1'!CA77,'OPINI Rinci v1'!CB77,'OPINI Rinci v1'!CC77) -> WDP
A76: =IF(C76="","",A75+1) -> 66 | B76: 03 | C76: 08 | E76: Kab. Sijunjung | F76: =CONCATENATE('OPINI Rinci v1'!H78,'OPINI Rinci v1'!I78,'OPINI Rinci v1'!J78,'OPINI Rinci v1'!K78) -> WTP | G76: =CONCATENATE('OPINI Rinci v1'!M78,'OPINI Rinci v1'!N78,'OPINI Rinci v1'!O78,'OPINI Rinci v1'!P78) -> WTP | H76: =CONCATENATE('OPINI Rinci v1'!R78,'OPINI Rinci v1'!S78,'OPINI Rinci v1'!T78,'OPINI Rinci v1'!U78) -> WTP | I76: =CONCATENATE('OPINI Rinci v1'!W78,'OPINI Rinci v1'!X78,'OPINI Rinci v1'!Y78,'OPINI Rinci v1'!Z78) -> WTP | J76: =CONCATENATE('OPINI Rinci v1'!AB78,'OPINI Rinci v1'!AC78,'OPINI Rinci v1'!AD78,'OPINI Rinci v1'!AE78) -> WDP | K76: =CONCATENATE('OPINI Rinci v1'!AG78,'OPINI Rinci v1'!AH78,'OPINI Rinci v1'!AI78,'OPINI Rinci v1'!AJ78) -> WDP | L76: BS | O76: =CONCATENATE('OPINI Rinci v1'!AL78,'OPINI Rinci v1'!AM78,'OPINI Rinci v1'!AO78,'OPINI Rinci v1'!AN78) -> WDP | P76: BNS | Q76: =CONCATENATE('OPINI Rinci v1'!AQ78,'OPINI Rinci v1'!AR78,'OPINI Rinci v1'!AT78,'OPINI Rinci v1'!AS78) -> WDP | R76: =CONCATENATE('OPINI Rinci v1'!AV78,'OPINI Rinci v1'!AW78,'OPINI Rinci v1'!AX78,'OPINI Rinci v1'!AY78) -> WDP | S76: =CONCATENATE('OPINI Rinci v1'!BA78,'OPINI Rinci v1'!BB78,'OPINI Rinci v1'!BC78,'OPINI Rinci v1'!BD78) -> WDP | T76: =CONCATENATE('OPINI Rinci v1'!BF78,'OPINI Rinci v1'!BG78,'OPINI Rinci v1'!BH78,'OPINI Rinci v1'!BI78) -> WDP | U76: =CONCATENATE('OPINI Rinci v1'!BK78,'OPINI Rinci v1'!BL78,'OPINI Rinci v1'!BM78,'OPINI Rinci v1'!BN78) -> WDP | V76: =CONCATENATE('OPINI Rinci v1'!BP78,'OPINI Rinci v1'!BQ78,'OPINI Rinci v1'!BR78,'OPINI Rinci v1'!BS78) -> TMP | W76: =CONCATENATE('OPINI Rinci v1'!BU78,'OPINI Rinci v1'!BV78,'OPINI Rinci v1'!BW78,'OPINI Rinci v1'!BX78) -> WDP | X76: =CONCATENATE('OPINI Rinci v1'!BZ78,'OPINI Rinci v1'!CA78,'OPINI Rinci v1'!CB78,'OPINI Rinci v1'!CC78) -> WDP
A77: =IF(C77="","",A76+1) -> 67 | B77: 03 | C77: 09 | E77: Kab. Solok | F77: =CONCATENATE('OPINI Rinci v1'!H79,'OPINI Rinci v1'!I79,'OPINI Rinci v1'!J79,'OPINI Rinci v1'!K79) -> WTP | G77: =CONCATENATE('OPINI Rinci v1'!M79,'OPINI Rinci v1'!N79,'OPINI Rinci v1'!O79,'OPINI Rinci v1'!P79) -> WTP | H77: =CONCATENATE('OPINI Rinci v1'!R79,'OPINI Rinci v1'!S79,'OPINI Rinci v1'!T79,'OPINI Rinci v1'!U79) -> WTP | I77: =CONCATENATE('OPINI Rinci v1'!W79,'OPINI Rinci v1'!X79,'OPINI Rinci v1'!Y79,'OPINI Rinci v1'!Z79) -> WDP | J77: =CONCATENATE('OPINI Rinci v1'!AB79,'OPINI Rinci v1'!AC79,'OPINI Rinci v1'!AD79,'OPINI Rinci v1'!AE79) -> WDP | K77: =CONCATENATE('OPINI Rinci v1'!AG79,'OPINI Rinci v1'!AH79,'OPINI Rinci v1'!AI79,'OPINI Rinci v1'!AJ79) -> WDP | L77: NON | O77: =CONCATENATE('OPINI Rinci v1'!AL79,'OPINI Rinci v1'!AM79,'OPINI Rinci v1'!AO79,'OPINI Rinci v1'!AN79) -> WDP | P77: BNS | Q77: =CONCATENATE('OPINI Rinci v1'!AQ79,'OPINI Rinci v1'!AR79,'OPINI Rinci v1'!AT79,'OPINI Rinci v1'!AS79) -> WDP | R77: =CONCATENATE('OPINI Rinci v1'!AV79,'OPINI Rinci v1'!AW79,'OPINI Rinci v1'!AX79,'OPINI Rinci v1'!AY79) -> WDP | S77: =CONCATENATE('OPINI Rinci v1'!BA79,'OPINI Rinci v1'!BB79,'OPINI Rinci v1'!BC79,'OPINI Rinci v1'!BD79) -> WDP | T77: =CONCATENATE('OPINI Rinci v1'!BF79,'OPINI Rinci v1'!BG79,'OPINI Rinci v1'!BH79,'OPINI Rinci v1'!BI79) -> WDP | U77: =CONCATENATE('OPINI Rinci v1'!BK79,'OPINI Rinci v1'!BL79,'OPINI Rinci v1'!BM79,'OPINI Rinci v1'!BN79) -> WDP | V77: =CONCATENATE('OPINI Rinci v1'!BP79,'OPINI Rinci v1'!BQ79,'OPINI Rinci v1'!BR79,'OPINI Rinci v1'!BS79) -> WDP | W77: =CONCATENATE('OPINI Rinci v1'!BU79,'OPINI Rinci v1'!BV79,'OPINI Rinci v1'!BW79,'OPINI Rinci v1'!BX79) -> WDP | X77: =CONCATENATE('OPINI Rinci v1'!BZ79,'OPINI Rinci v1'!CA79,'OPINI Rinci v1'!CB79,'OPINI Rinci v1'!CC79) -> WDP
