Workbook

Sheet OPINI Total
A1: PERKEMBANGAN DATA OPINI LKPD
A2: POSISI PER 27 AGUSTUS 2020 JAM 09.42
A3: NO | B3: TAHUN | C3: WTP | D3: WDP | E3: TW | F3: TMP | G3: JUMLAH
A4: 1 | B4: LKPD 2005 | C4: 17 | D4: 311 | E4: 13 | F4: 22 | G4: =C4+D4+E4+F4 -> 363
A5: 2 | B5: LKPD 2006 | C5: 4 | D5: 325 | E5: 27 | F5: 106 | G5: =C5+D5+E5+F5 -> 462
A6: 3 | B6: LKPD 2007 | C6: 4 | D6: 282 | E6: 58 | F6: 120 | G6: =C6+D6+E6+F6 -> 464
A7: 4 | B7: LKPD 2008 | C7: 13 | D7: 323 | E7: 31 | F7: 118 | G7: =C7+D7+E7+F7 -> 485
A8: 5 | B8: LKPD 2009 | C8: ='OPINI Rinci v1'!BF618 -> 15 | D8: ='OPINI Rinci v1'!BG618 -> 330 | E8: ='OPINI Rinci v1'!BH618 -> 48 | F8: ='OPINI Rinci v1'!BI618 -> 111 | G8: =C8+D8+E8+F8 -> 504
A9: 6 | B9: LKPD 2010 | C9: ='OPINI Rinci v1'!BA618 -> 34 | D9: ='OPINI Rinci v1'!BB618 -> 341 | E9: ='OPINI Rinci v1'!BC618 -> 26 | F9: ='OPINI Rinci v1'!BD618 -> 121 | G9: =C9+D9+E9+F9 -> 522 | I9: =G9/524 -> 0.99618321
A10: 7 | B10: LKPD 2011 | C10: ='OPINI Rinci v1'!AV618 -> 67 | D10: ='OPINI Rinci v1'!AW618 -> 352 | E10: ='OPINI Rinci v1'!AX618 -> 7 | F10: ='OPINI Rinci v1'!AY618 -> 98 | G10: =C10+D10+E10+F10 -> 524 | I10: =G10/524 -> 1 | K10: WTP +WDP / Total terbit | L10: WTP +WDP/524 | M10: WTP +WDP/542 | N10: WTP/524 | O10: WTP/542
A11: 8 | B11: LKPD 2012 | C11: ='OPINI Rinci v1'!AQ618 -> 119 | D11: ='OPINI Rinci v1'!AR618 -> 320 | E11: ='OPINI Rinci v1'!AS618 -> 6 | F11: ='OPINI Rinci v1'!AT618 -> 79 | G11: =C11+D11+E11+F11 -> 524 | I11: =G11/524 -> 1
A12: 9 | B12: LKPD 2013 | C12: ='OPINI Rinci v1'!AL618 -> 156 | D12: ='OPINI Rinci v1'!AM618 -> 311 | E12: ='OPINI Rinci v1'!AN618 -> 11 | F12: ='OPINI Rinci v1'!AO618 -> 46 | G12: =C12+D12+E12+F12 -> 524 | I12: =G12/542 -> 0.96678967 | K12: =(C12+D12)/G12 -> 0.89122137 | L12: =(C12+D12)/524 -> 0.89122137 | M12: =(C12+D12)/542 -> 0.86162362 | N12: =C12/524 -> 0.29770992 | O12: =C12/542 -> 0.28782288
A13: 10 | B13: LKPD 2014 | C13: ='OPINI Rinci v1'!AG618 -> 252 | D13: ='OPINI Rinci v1'!AH618 -> 248 | E13: ='OPINI Rinci v1'!AI618 -> 5 | F13: ='OPINI Rinci v1'!AJ618 -> 34 | G13: =C13+D13+E13+F13 -> 539 | I13: =G13/542 -> 0.99446494 | K13: =(C13+D13)/G13 -> 0.92764378 | L13: =(C13+D13)/524 -> 0.95419847 | M13: =(C13+D13)/542 -> 0.92250923 | N13: =C13/524 -> 0.48091603 | O13: =C13/542 -> 0.46494465
A14: 11 | B14: LKPD 2015 | C14: ='OPINI Rinci v1'!AB618 -> 313 | D14: ='OPINI Rinci v1'!AC618 -> 195 | E14: ='OPINI Rinci v1'!AD618 -> 4 | F14: ='OPINI Rinci v1'!AE618 -> 30 | G14: =C14+D14+E14+F14 -> 542
A15: 12 | B15: LKPD 2016 | C15: ='OPINI Rinci v1'!W618 -> 379 | D15: ='OPINI Rinci v1'!X618 -> 140 | E15: ='OPINI Rinci v1'!Y618 -> 0 | F15: ='OPINI Rinci v1'!Z618 -> 23 | G15: =C15+D15+E15+F15 -> 542
A16: 13 | B16: LKPD 2017 | C16: ='OPINI Rinci v1'!R618 -> 415 | D16: ='OPINI Rinci v1'!S618 -> 113 | E16: ='OPINI Rinci v1'!T618 -> 0 | F16: ='OPINI Rinci v1'!U618 -> 14 | G16: =C16+D16+E16+F16 -> 542
A17: 14 | B17: LKPD 2018 | C17: ='OPINI Rinci v1'!M618 -> 443 | D17: ='OPINI Rinci v1'!N618 -> 86 | E17: ='OPINI Rinci v1'!O618 -> 0 | F17: ='OPINI Rinci v1'!P618 -> 13 | G17: =SUM(C17:F17) -> 542
A18: 15 | B18: LKPD 2019 | C18: ='OPINI Rinci v1'!H618 -> 430 | D18: ='OPINI Rinci v1'!I618 -> 14 | E18: ='OPINI Rinci v1'!J618 -> 0 | F18: ='OPINI Rinci v1'!K618 -> 1 | G18: =SUM(C18:F18) -> 445
B21: PERSENTASE CAPAIAN BERDASARKAN LHP YANG TERBIT OPININYA
B23: TAHUN | C23: WTP | D23: WDP | E23: TW | F23: TMP | G23: JUMLAH
B24: LKPD 2010 | C24: =C9/G9 -> 0.0651341 | D24: =D9/G9 -> 0.6532567 | E24: =E9/G9 -> 0.049808429 | F24: =F9/G9 -> 0.23180077 | G24: =SUM(C24:F24) -> 1
B25: LKPD 2011 | C25: =C10/G10 -> 0.1278626 | D25: =D10/G10 -> 0.67175573 | E25: =E10/G10 -> 0.013358779 | F25: =F10/G10 -> 0.1870229 | G25: =SUM(C25:F25) -> 1
B26: LKPD 2012 | C26: =C11/G11 -> 0.22709924 | D26: =D11/G11 -> 0.61068702 | E26: =E11/G11 -> 0.011450382 | F26: =F11/G11 -> 0.15076336 | G26: =SUM(C26:F26) -> 1
B27: LKPD 2013 | C27: =C12/G12 -> 0.29770992 | D27: =D12/G12 -> 0.59351145 | E27: =E12/G12 -> 0.020992366 | F27: =F12/G12 -> 0.08778626 | G27: =SUM(C27:F27) -> 1
B28: LKPD 2014 | C28: =C13/G13 -> 0.46753247 | D28: =D13/G13 -> 0.46011132 | E28: =E13/G13 -> 0.0092764378 | F28: =F13/G13 -> 0.063079777 | G28: =SUM(C28:F28) -> 1
B29: LKPD 2015 | C29: =C14/G14 -> 0.57749077 | D29: =D14/G14 -> 0.3597786 | E29: =E14/G14 -> 0.0073800738 | F29: =F14/G14 -> 0.055350554 | G29: =SUM(C29:F29) -> 1 | J29: =C13-26 -> 226 | L29: =C13-26 -> 226
B30: LKPD 2016 | C30: =C15/G15 -> 0.69926199 | D30: =D15/G15 -> 0.25830258 | E30: =E15/G15 -> 0 | F30: =F15/G15 -> 0.042435424 | G30: =SUM(C30:F30) -> 1 | J30: =J29/4 -> 56.5
B31: LKPD 2017 | C31: =C16/G16 -> 0.76568266 | D31: =D16/G16 -> 0.20848708 | E31: =E16/G16 -> 0 | F31: =F16/G16 -> 0.025830258 | G31: =SUM(C31:F31) -> 1
B32: LKPD 2018 | C32: =C17/G17 -> 0.81734317 | D32: =D17/G17 -> 0.15867159 | E32: =E17/G17 -> 0 | F32: =F17/G17 -> 0.02398524 | G32: =SUM(C32:F32) -> 1
B33: LKPD 2019 | C33: =C18/G18 -> 0.96629213 | D33: =D18/G18 -> 0.031460674 | E33: =E18/G18 -> 0 | F33: =F18/G18 -> 0.002247191 | G33: =SUM(C33:F33) -> 1
C36: =32/34*100 -> 94.117647

Sheet OPINI PerProv
B1: RINCIAN OPINI HASIL AUDIT BPK ATAS LKPD
B2: PER WILAYAH PROVINSI
B3: ='OPINI Total'!A2 -> POSISI PER 27 AGUSTUS 2020 JAM 09.42
B5: No | C5: Perwakilan/Pemda | F5: JML PEMDA SD 2013 | G5: JML PEMDA SETELAH 2013 | H5: WTP | I5: WDP | J5: TW | K5: TMP | L5: JML | M5: WTP | N5: WDP | O5: TW | P5: TMP | Q5: JML | R5: WTP | S5: WDP | T5: TW | U5: TMP | V5: JML | W5: WTP | X5: WDP | Y5: TW | Z5: TMP | AA5: JML | AB5: WTP | AC5: WDP | AD5: TW | AE5: TMP | AF5: JML | AG5: WTP | AH5: WDP | AI5: TW | AJ5: TMP | AK5: JML | AL5: WTP | AM5: WDP | AN5: TW | AO5: TMP | AP5: JML | AQ5: WTP | AR5: WDP | AS5: TW | AT5: TMP | AU5: JML | AV5: SISA PEMDA | AW5: WTP | AX5: WDP | AY5: TW | AZ5: TMP | BA5: JML | BB5: SISA PEMDA | BC5: WTP | BD5: WDP | BE5: TW | BF5: TMP | BG5: JML | BH5: SISA PEMDA | BI5: WTP | BJ5: WDP | BK5: TW | BL5: TMP | BM5: JML | BN5: WTP | BO5: WDP | BP5: TW | BQ5: TMP | BR5: JML | BS5: WTP | BT5: WDP | BU5: TW | BV5: TMP | BW5: JML | BX5: WTP | BY5: WDP | BZ5: TW | CA5: TMP | CB5: JML | CC5: WTP | CD5: WDP | CE5: TW | CF5: TMP | CG5: JML
H6: 2019 | M6: 2018 | R6: 2017 | W6: 2016 | AB6: 2015 | AG6: 2014 | AL6: 2013 | AQ6: 2012 | AW6: 2011 | BC6: 2010 | BI6: 2009 | BN6: 2008 | BS6: 2007 | BX6: 2006 | CC6: 2005
B7: 01 | D7: PROV ACEH | F7: 24 | G7: 24 | H7: ='OPINI Rinci v1'!H8 -> 20 | I7: ='OPINI Rinci v1'!I8 -> 0 | J7: ='OPINI Rinci v1'!J8 -> 0 | K7: ='OPINI Rinci v1'!K8 -> 0 | L7: ='OPINI Rinci v1'!L8 -> 20 | M7: ='OPINI Rinci v1'!M8 -> 24 | N7: ='OPINI Rinci v1'!N8 -> 0 | O7: ='OPINI Rinci v1'!O8 -> 0 | ... AU7: ='OPINI Rinci v1'!AU8 -> 24 | AV7: =F7-AU7 -> 0 | AW7: ='OPINI Rinci v1'!AV8 -> 2 | AX7: ='OPINI Rinci v1'!AW8 -> 22 | AY7: ='OPINI Rinci v1'!AX8 -> 0 | AZ7: ='OPINI Rinci v1'!AY8 -> 0 | BA7: =SUM(AW7:AZ7) -> 24 | BB7: =F7-BA7 -> 0 | BC7: ='OPINI Rinci v1'!BA8 -> 5 | BD7: ='OPINI Rinci v1'!BB8 -> 17 | BE7: ='OPINI Rinci v1'!BC8 -> 1 | BF7: ='OPINI Rinci v1'!BD8 -> 1 | BG7: =SUM(BC7:BF7) -> 24 | BH7: =F7-BG7 -> 0 | BI7: ='OPINI Rinci v1'!BF8 -> 6 | BJ7: ='OPINI Rinci v1'!BG8 -> 15 | BK7: ='OPINI Rinci v1'!BH8 -> 1 | BL7: ='OPINI Rinci v1'!BI8 -> 2 | BM7: ='OPINI Rinci v1'!BJ8 -> 24 | BN7: ='OPINI Rinci v1'!BK8 -> 7 | BO7: ='OPINI Rinci v1'!BL8 -> 15 | BP7: ='OPINI Rinci v1'!BM8 -> 1 | ... CG7: ='OPINI Rinci v1'!CD8 -> 18
B8: 02 | D8: PROV SUMUT | F8: 34 | G8: 34 | H8: ='OPINI Rinci v1'!H34 -> 19 | I8: ='OPINI Rinci v1'!I34 -> 4 | J8: ='OPINI Rinci v1'!J34 -> 0 | K8: ='OPINI Rinci v1'!K34 -> 0 | L8: =SUM(H8:K8) -> 23 | M8: ='OPINI Rinci v1'!M34 -> 17 | N8: ='OPINI Rinci v1'!N34 -> 14 | O8: ='OPINI Rinci v1'!O34 -> 0 | P8: ='OPINI Rinci v1'!P34 -> 3 | Q8: =SUM(M8:P8) -> 34 | R8: ='OPINI Rinci v1'!R34 -> 14 | S8: ='OPINI Rinci v1'!S34 -> 17 | T8: ='OPINI Rinci v1'!T34 -> 0 | U8: ='OPINI Rinci v1'!U34 -> 3 | V8: =SUM(R8:U8) -> 34 | W8: ='OPINI Rinci v1'!W34 -> 12 | X8: ='OPINI Rinci v1'!X34 -> 17 | Y8: ='OPINI Rinci v1'!Y34 -> 0 | Z8: ='OPINI Rinci v1'!Z34 -> 5 | AA8: =SUM(W8:Z8) -> 34 | AB8: ='OPINI Rinci v1'!AB34 -> 6 | AC8: ='OPINI Rinci v1'!AC34 -> 25 | AD8: ='OPINI Rinci v1'!AD34 -> 0 | AE8: ='OPINI Rinci v1'!AE34 -> 3 | AF8: =SUM(AB8:AE8) -> 34 | AG8: ='OPINI Rinci v1'!AG34 -> 16 | AH8: ='OPINI Rinci v1'!AH34 -> 15 | AI8: ='OPINI Rinci v1'!AI34 -> 0 | AJ8: ='OPINI Rinci v1'!AJ34 -> 3 | AK8: =SUM(AG8:AJ8) -> 34 | AL8: ='OPINI Rinci v1'!AL34 -> 4 | AM8: ='OPINI Rinci v1'!AM34 -> 22 | AN8: ='OPINI Rinci v1'!AN34 -> 0 | AO8: ='OPINI Rinci v1'!AO34 -> 8 | AP8: =SUM(AL8:AO8) -> 34 | AQ8: ='OPINI Rinci v1'!AQ34 -> 2 | AR8: ='OPINI Rinci v1'!AR34 -> 23 | AS8: ='OPINI Rinci v1'!AS34 -> 1 | AT8: ='OPINI Rinci v1'!AT34 -> 8 | AU8: =SUM(AQ8:AT8) -> 34 | AV8: =F8-AU8 -> 0 | AW8: ='OPINI Rinci v1'!AV34 -> 3 | AX8: ='OPINI Rinci v1'!AW34 -> 22 | AY8: ='OPINI Rinci v1'!AX34 -> 0 | AZ8: ='OPINI Rinci v1'!AY34 -> 9 | BA8: =SUM(AW8:AZ8) -> 34 | BB8: =F8-BA8 -> 0 | BC8: ='OPINI Rinci v1'!BA34 -> 0 | BD8: ='OPINI Rinci v1'!BB34 -> 21 | BE8: ='OPINI Rinci v1'!BC34 -> 2 | BF8: ='OPINI Rinci v1'!BD34 -> 11 | BG8: =SUM(BC8:BF8) -> 34 | BH8: =F8-BG8 -> 0 | BI8: ='OPINI Rinci v1'!BF34 -> 0 | BJ8: ='OPINI Rinci v1'!BG34 -> 18 | BK8: ='OPINI Rinci v1'!BH34 -> 2 | BL8: ='OPINI Rinci v1'!BI34 -> 9 | BM8: ='OPINI Rinci v1'!BJ34 -> 29 | BN8: ='OPINI Rinci v1'!BK34 -> 0 | BO8: ='OPINI Rinci v1'!BL34 -> 14 | BP8: ='OPINI Rinci v1'!BM34 -> 0 | ... CG8: ='OPINI Rinci v1'!CD34 -> 20
B9: 03 | D9: PROV SUMBAR | F9: 20 | G9: 20 | H9: ='OPINI Rinci v1'!H70 -> 18 | I9: ='OPINI Rinci v1'!I70 -> 0 | J9: ='OPINI Rinci v1'!J70 -> 0 | K9: ='OPINI Rinci v1'!K70 -> 0 | L9: =SUM(H9:K9) -> 18 | M9: ='OPINI Rinci v1'!M70 -> 19 | N9: ='OPINI Rinci v1'!N70 -> 1 | O9: ='OPINI Rinci v1'!O70 -> 0 | P9: ='OPINI Rinci v1'!P70 -> 0 | Q9: =SUM(M9:P9) -> 20 | R9: ='OPINI Rinci v1'!R70 -> 20 | S9: ='OPINI Rinci v1'!S70 -> 0 | T9: ='OPINI Rinci v1'!T70 -> 0 | U9: ='OPINI Rinci v1'!U70 -> 0 | V9: =SUM(R9:U9) -> 20 | W9: ='OPINI Rinci v1'!W70 -> 18 | X9: ='OPINI Rinci v1'!X70 -> 2 | Y9: ='OPINI Rinci v1'!Y70 -> 0 | Z9: ='OPINI Rinci v1'!Z70 -> 0 | AA9: =SUM(W9:Z9) -> 20 | AB9: ='OPINI Rinci v1'!AB70 -> 13 | AC9: ='OPINI Rinci v1'!AC70 -> 7 | AD9: ='OPINI Rinci v1'!AD70 -> 0 | AE9: ='OPINI Rinci v1'!AE70 -> 0 | AF9: =SUM(AB9:AE9) -> 20 | AG9: ='OPINI Rinci v1'!AG70 -> 9 | AH9: ='OPINI Rinci v1'!AH70 -> 11 | AI9: ='OPINI Rinci v1'!AI70 -> 0 | AJ9: ='OPINI Rinci v1'!AJ70 -> 0 | AK9: =SUM(AG9:AJ9) -> 20 | AL9: ='OPINI Rinci v1'!AL70 -> 7 | AM9: ='OPINI Rinci v1'!AM70 -> 13 | AN9: ='OPINI Rinci v1'!AN70 -> 0 | AO9: ='OPINI Rinci v1'!AO70 -> 0 | AP9: =SUM(AL9:AO9) -> 20 | AQ9: ='OPINI Rinci v1'!AQ70 -> 6 | AR9: ='OPINI Rinci v1'!AR70 -> 14 | AS9: ='OPINI Rinci v1'!AS70 -> 0 | AT9: ='OPINI Rinci v1'!AT70 -> 0 | AU9: =SUM(AQ9:AT9) -> 20 | AV9: =F9-AU9 -> 0 | AW9: ='OPINI Rinci v1'!AV70 -> 0 | AX9: ='OPINI Rinci v1'!AW70 -> 19 | AY9: ='OPINI Rinci v1'!AX70 -> 0 | AZ9: ='OPINI Rinci v1'!AY70 -> 1 | BA9: =SUM(AW9:AZ9) -> 20 | BB9: =F9-BA9 -> 0 | BC9: ='OPINI Rinci v1'!BA70 -> 0 | BD9: ='OPINI Rinci v1'!BB70 -> 18 | BE9: ='OPINI Rinci v1'!BC70 -> 0 | BF9: ='OPINI Rinci v1'!BD70 -> 2 | BG9: =SUM(BC9:BF9) -> 20 | BH9: =F9-BG9 -> 0 | BI9: ='OPINI Rinci v1'!BF70 -> 1 | BJ9: ='OPINI Rinci v1'!BG70 -> 16 | BK9: ='OPINI Rinci v1'!BH70 -> 0 | BL9: ='OPINI Rinci v1'!BI70 -> 3 | BM9: ='OPINI Rinci v1'!BJ70 -> 20 | BN9: ='OPINI Rinci v1'!BK70 -> 2 | BO9: ='OPINI Rinci v1'!BL70 -> 16 | BP9: ='OPINI Rinci v1'!BM70 -> 0 | ... CG9: ='OPINI Rinci v1'!CD70 -> 18
B10: 04 | D10: PROV RIAU | F10: 13 | G10: 13 | H10: ='OPINI Rinci v1'!H92 -> 10 | I10: ='OPINI Rinci v1'!I92 -> 0 | J10: ='OPINI Rinci v1'!J92 -> 0 | K10: ='OPINI Rinci v1'!K92 -> 0 | L10: =SUM(H10:K10) -> 10 | M10: ='OPINI Rinci v1'!M92 -> 13 | N10: ='OPINI Rinci v1'!N92 -> 0 | O10: ='OPINI Rinci v1'!O92 -> 0 | P10: ='OPINI Rinci v1'!P92 -> 0 | Q10: =SUM(M10:P10) -> 13 | R10: ='OPINI Rinci v1'!R92 -> 12 | S10: ='OPINI Rinci v1'!S92 -> 1 | T10: ='OPINI Rinci v1'!T92 -> 0 | U10: ='OPINI Rinci v1'!U92 -> 0 | V10: =SUM(R10:U10) -> 13 | W10: ='OPINI Rinci v1'!W92 -> 11 | X10: ='OPINI Rinci v1'!X92 -> 2 | Y10: ='OPINI Rinci v1'!Y92 -> 0 | Z10: ='OPINI Rinci v1'!Z92 -> 0 | AA10: =SUM(W10:Z10) -> 13 | AB10: ='OPINI Rinci v1'!AB92 -> 6 | AC10: ='OPINI Rinci v1'!AC92 -> 7 | AD10: ='OPINI Rinci v1'!AD92 -> 0 | AE10: ='OPINI Rinci v1'!AE92 -> 0 | AF10: =SUM(AB10:AE10) -> 13 | AG10: ='OPINI Rinci v1'!AG92 -> 7 | AH10: ='OPINI Rinci v1'!AH92 -> 6 | AI10: ='OPINI Rinci v1'!AI92 -> 0 | AJ10: ='OPINI Rinci v1'!AJ92 -> 0 | AK10: =SUM(AG10:AJ10) -> 13 | AL10: ='OPINI Rinci v1'!AL92 -> 7 | AM10: ='OPINI Rinci v1'!AM92 -> 6 | AN10: ='OPINI Rinci v1'!AN92 -> 0 | AO10: ='OPINI Rinci v1'!AO92 -> 0 | AP10: =SUM(AL10:AO10) -> 13 | AQ10: ='OPINI Rinci v1'!AQ92 -> 5 | AR10: ='OPINI Rinci v1'!AR92 -> 8 | AS10: ='OPINI Rinci v1'!AS92 -> 0 | AT10: ='OPINI Rinci v1'!AT92 -> 0 | AU10: =SUM(AQ10:AT10) -> 13 | AV10: =F10-AU10 -> 0 | AW10: ='OPINI Rinci v1'!AV92 -> 2 | AX10: ='OPINI Rinci v1'!AW92 -> 10 | AY10: ='OPINI Rinci v1'!AX92 -> 0 | AZ10: ='OPINI Rinci v1'!AY92 -> 1 | BA10: =SUM(AW10:AZ10) -> 13 | BB10: =F10-BA10 -> 0 | BC10: ='OPINI Rinci v1'!BA92 -> 1 | BD10: ='OPINI Rinci v1'!BB92 -> 11 | BE10: ='OPINI Rinci v1'!BC92 -> 1 | BF10: ='OPINI Rinci v1'!BD92 -> 0 | BG10: =SUM(BC10:BF10) -> 13 | BH10: =F10-BG10 -> 0 | BI10: ='OPINI Rinci v1'!BF92 -> 0 | BJ10: ='OPINI Rinci v1'!BG92 -> 11 | BK10: ='OPINI Rinci v1'!BH92 -> 0 | BL10: ='OPINI Rinci v1'!BI92 -> 1 | BM10: ='OPINI Rinci v1'!BJ92 -> 12 | BN10: ='OPINI Rinci v1'!BK92 -> 1 | BO10: ='OPINI Rinci v1'!BL92 -> 10 | BP10: ='OPINI Rinci v1'!BM92 -> 0 | ... CG10: ='OPINI Rinci v1'!CD92 -> 9
B11: 05 | D11: PROV KEP RIAU | F11: 8 | G11: 8 | H11: ='OPINI Rinci v1'!H107 -> 8 | I11: ='OPINI Rinci v1'!I107 -> 0 | J11: ='OPINI Rinci v1'!J107 -> 0 | K11: ='OPINI Rinci v1'!K107 -> 0 | L11: =SUM(H11:K11) -> 8 | M11: ='OPINI Rinci v1'!M107 -> 8 | N11: ='OPINI Rinci v1'!N107 -> 0 | O11: ='OPINI Rinci v1'!O107 -> 0 | P11: ='OPINI Rinci v1'!P107 -> 0 | Q11: =SUM(M11:P11) -> 8 | R11: ='OPINI Rinci v1'!R107 -> 8 | S11: ='OPINI Rinci v1'!S107 -> 0 | T11: ='OPINI Rinci v1'!T107 -> 0 | U11: ='OPINI Rinci v1'!U107 -> 0 | V11: =SUM(R11:U11) -> 8 | W11: ='OPINI Rinci v1'!W107 -> 5 | X11: ='OPINI Rinci v1'!X107 -> 3 | Y11: ='OPINI Rinci v1'!Y107 -> 0 | Z11: ='OPINI Rinci v1'!Z107 -> 0 | AA11: =SUM(W11:Z11) -> 8 | AB11: ='OPINI Rinci v1'!AB107 -> 6 | AC11: ='OPINI Rinci v1'!AC107 -> 2 | AD11: ='OPINI Rinci v1'!AD107 -> 0 | AE11: ='OPINI Rinci v1'!AE107 -> 0 | AF11: =SUM(AB11:AE11) -> 8 | AG11: ='OPINI Rinci v1'!AG107 -> 6 | AH11: ='OPINI Rinci v1'!AH107 -> 2 | AI11: ='OPINI Rinci v1'!AI107 -> 0 | AJ11: ='OPINI Rinci v1'!AJ107 -> 0 | AK11: =SUM(AG11:AJ11) -> 8 | AL11: ='OPINI Rinci v1'!AL107 -> 5 | AM11: ='OPINI Rinci v1'!AM107 -> 3 | AN11: ='OPINI Rinci v1'!AN107 -> 0 | AO11: ='OPINI Rinci v1'!AO107 -> 0 | AP11: =SUM(AL11:AO11) -> 8 | AQ11: ='OPINI Rinci v1'!AQ107 -> 5 | AR11: ='OPINI Rinci v1'!AR107 -> 3 | AS11: ='OPINI Rinci v1'!AS107 -> 0 | AT11: ='OPINI Rinci v1'!AT107 -> 0 | AU11: =SUM(AQ11:AT11) -> 8 | AV11: =F11-AU11 -> 0 | AW11: ='OPINI Rinci v1'!AV107 -> 2 | AX11: ='OPINI Rinci v1'!AW107 -> 6 | AY11: ='OPINI Rinci v1'!AX107 -> 0 | AZ11: ='OPINI Rinci v1'!AY107 -> 0 | BA11: =SUM(AW11:AZ11) -> 8 | BB11: =F11-BA11 -> 0 | BC11: ='OPINI Rinci v1'!BA107 -> 1 | BD11: ='OPINI Rinci v1'!BB107 -> 7 | BE11: ='OPINI Rinci v1'!BC107 -> 0 | BF11: ='OPINI Rinci v1'!BD107 -> 0 | BG11: =SUM(BC11:BF11) -> 8 | BH11: =F11-BG11 -> 0 | BI11: ='OPINI Rinci v1'!BF107 -> 0 | BJ11: ='OPINI Rinci v1'!BG107 -> 7 | BK11: ='OPINI Rinci v1'!BH107 -> 0 | BL11: ='OPINI Rinci v1'!BI107 -> 1 | BM11: ='OPINI Rinci v1'!BJ107 -> 8 | BN11: ='OPINI Rinci v1'!BK107 -> 0 | BO11: ='OPINI Rinci v1'!BL107 -> 7 | BP11: ='OPINI Rinci v1'!BM107 -> 0 | ... CG11: ='OPINI Rinci v1'!CD107 -> 5
B12: 06 | D12: PROV JAMBI | F12: 12 | G12: 12 | H12: ='OPINI Rinci v1'!H117 -> 12 | I12: ='OPINI Rinci v1'!I117 -> 0 | J12: ='OPINI Rinci v1'!J117 -> 0 | K12: ='OPINI Rinci v1'!K117 -> 0 | L12: =SUM(H12:K12) -> 12 | M12: ='OPINI Rinci v1'!M117 -> 12 | N12: ='OPINI Rinci v1'!N117 -> 0 | O12: ='OPINI Rinci v1'!O117 -> 0 | P12: ='OPINI Rinci v1'!P117 -> 0 | Q12: =SUM(M12:P12) -> 12 | R12: ='OPINI Rinci v1'!R117 -> 10 | S12: ='OPINI Rinci v1'!S117 -> 2 | T12: ='OPINI Rinci v1'!T117 -> 0 | U12: ='OPINI Rinci v1'!U117 -> 0 | V12: =SUM(R12:U12) -> 12 | W12: ='OPINI Rinci v1'!W117 -> 9 | X12: ='OPINI Rinci v1'!X117 -> 2 | Y12: ='OPINI Rinci v1'!Y117 -> 0 | Z12: ='OPINI Rinci v1'!Z117 -> 1 | AA12: =SUM(W12:Z12) -> 12 | AB12: ='OPINI Rinci v1'!AB117 -> 5 | AC12: ='OPINI Rinci v1'!AC117 -> 5 | AD12: ='OPINI Rinci v1'!AD117 -> 0 | AE12: ='OPINI Rinci v1'!AE117 -> 2 | AF12: =SUM(AB12:AE12) -> 12 | AG12: ='OPINI Rinci v1'!AG117 -> 3 | AH12: ='OPINI Rinci v1'!AH117 -> 9 | AI12: ='OPINI Rinci v1'!AI117 -> 0 | AJ12: ='OPINI Rinci v1'!AJ117 -> 0 | AK12: =SUM(AG12:AJ12) -> 12 | AL12: ='OPINI Rinci v1'!AL117 -> 4 | AM12: ='OPINI Rinci v1'!AM117 -> 8 | AN12: ='OPINI Rinci v1'!AN117 -> 0 | AO12: ='OPINI Rinci v1'!AO117 -> 0 | AP12: =SUM(AL12:AO12) -> 12 | AQ12: ='OPINI Rinci v1'!AQ117 -> 5 | AR12: ='OPINI Rinci v1'!AR117 -> 7 | AS12: ='OPINI Rinci v1'!AS117 -> 0 | AT12: ='OPINI Rinci v1'!AT117 -> 0 | AU12: =SUM(AQ12:AT12) -> 12 | AV12: =F12-AU12 -> 0 | AW12: ='OPINI Rinci v1'!AV117 -> 0 | AX12: ='OPINI Rinci v1'!AW117 -> 12 | AY12: ='OPINI Rinci v1'!AX117 -> 0 | AZ12: ='OPINI Rinci v1'!AY117 -> 0 | BA12: =SUM(AW12:AZ12) -> 12 | BB12: =F12-BA12 -> 0 | BC12: ='OPINI Rinci v1'!BA117 -> 0 | BD12: ='OPINI Rinci v1'!BB117 -> 12 | BE12: ='OPINI Rinci v1'!BC117 -> 0 | BF12: ='OPINI Rinci v1'!BD117 -> 0 | BG12: =SUM(BC12:BF12) -> 12 | BH12: =F12-BG12 -> 0 | BI12: ='OPINI Rinci v1'!BF117 -> 1 | BJ12: ='OPINI Rinci v1'!BG117 -> 10 | BK12: ='OPINI Rinci v1'!BH117 -> 0 | BL12: ='OPINI Rinci v1'!BI117 -> 1 | BM12: ='OPINI Rinci v1'!BJ117 -> 12 | BN12: ='OPINI Rinci v1'!BK117 -> 0 | BO12: ='OPINI Rinci v1'!BL117 -> 10 | BP12: ='OPINI Rinci v1'!BM117 -> 0 | ... CG12: ='OPINI Rinci v1'!CD117 -> 8
B13: 07 | D13: PROV SUMSEL | F13: 16 | G13: 18 | H13: ='OPINI Rinci v1'!H131 -> 14 | I13: ='OPINI Rinci v1'!I131 -> 0 | J13: ='OPINI Rinci v1'!J131 -> 0 | K13: ='OPINI Rinci v1'!K131 -> 0 | L13: =SUM(H13:K13) -> 14 | M13: ='OPINI Rinci v1'!M131 -> 18 | N13: ='OPINI Rinci v1'!N131 -> 0 | O13: ='OPINI Rinci v1'!O131 -> 0 | P13: ='OPINI Rinci v1'!P131 -> 0 | Q13: =SUM(M13:P13) -> 18 | R13: ='OPINI Rinci v1'!R131 -> 17 | S13: ='OPINI Rinci v1'!S131 -> 1 | T13: ='OPINI Rinci v1'!T131 -> 0 | U13: ='OPINI Rinci v1'!U131 -> 0 | V13: =SUM(R13:U13) -> 18 | W13: ='OPINI Rinci v1'!W131 -> 17 | X13: ='OPINI Rinci v1'!X131 -> 1 | Y13: ='OPINI Rinci v1'!Y131 -> 0 | Z13: ='OPINI Rinci v1'!Z131 -> 0 | AA13: =SUM(W13:Z13) -> 18 | AB13: ='OPINI Rinci v1'!AB131 -> 13 | AC13: ='OPINI Rinci v1'!AC131 -> 5 | AD13: ='OPINI Rinci v1'!AD131 -> 0 | AE13: ='OPINI Rinci v1'!AE131 -> 0 | AF13: =SUM(AB13:AE13) -> 18 | AG13: ='OPINI Rinci v1'!AG131 -> 14 | AH13: ='OPINI Rinci v1'!AH131 -> 2 | AI13: ='OPINI Rinci v1'!AI131 -> 0 | AJ13: ='OPINI Rinci v1'!AJ131 -> 2 | AK13: =SUM(AG13:AJ13) -> 18 | AL13: ='OPINI Rinci v1'!AL131 -> 8 | AM13: ='OPINI Rinci v1'!AM131 -> 8 | AN13: ='OPINI Rinci v1'!AN131 -> 0 | AO13: ='OPINI Rinci v1'!AO131 -> 0 | AP13: =SUM(AL13:AO13) -> 16 | AQ13: ='OPINI Rinci v1'!AQ131 -> 5 | AR13: ='OPINI Rinci v1'!AR131 -> 10 | AS13: ='OPINI Rinci v1'!AS131 -> 0 | AT13: ='OPINI Rinci v1'!AT131 -> 1 | AU13: =SUM(AQ13:AT13) -> 16 | AV13: =F13-AU13 -> 0 | AW13: ='OPINI Rinci v1'!AV131 -> 4 | AX13: ='OPINI Rinci v1'!AW131 -> 12 | AY13: ='OPINI Rinci v1'!AX131 -> 0 | AZ13: ='OPINI Rinci v1'!AY131 -> 0 | BA13: =SUM(AW13:AZ13) -> 16 | BB13: =F13-BA13 -> 0 | BC13: ='OPINI Rinci v1'!BA131 -> 1 | BD13: ='OPINI Rinci v1'!BB131 -> 15 | BE13: ='OPINI Rinci v1'!BC131 -> 0 | BF13: ='OPINI Rinci v1'!BD131 -> 0 | BG13: =SUM(BC13:BF13) -> 16 | BH13: =F13-BG13 -> 0 | BI13: ='OPINI Rinci v1'!BF131 -> 0 | BJ13: ='OPINI Rinci v1'!BG131 -> 13 | BK13: ='OPINI Rinci v1'!BH131 -> 3 | BL13: ='OPINI Rinci v1'!BI131 -> 0 | BM13: ='OPINI Rinci v1'!BJ131 -> 16 | BN13: ='OPINI Rinci v1'!BK131 -> 0 | BO13: ='OPINI Rinci v1'!BL131 -> 15 | BP13: ='OPINI Rinci v1'!BM131 -> 0 | ... CG13: ='OPINI Rinci v1'!CD131 -> 15
B14: 08 | D14: PROV BABEL | F14: 8 | G14: 8 | H14: ='OPINI Rinci v1'!H151 -> 7 | I14: ='OPINI Rinci v1'!I151 -> 1 | J14: ='OPINI Rinci v1'!J151 -> 0 | K14: ='OPINI Rinci v1'!K151 -> 0 | L14: =SUM(H14:K14) -> 8 | M14: ='OPINI Rinci v1'!M151 -> 4 | N14: ='OPINI Rinci v1'!N151 -> 4 | O14: ='OPINI Rinci v1'!O151 -> 0 | P14: ='OPINI Rinci v1'!P151 -> 0 | Q14: =SUM(M14:P14) -> 8 | R14: ='OPINI Rinci v1'!R151 -> 4 | S14: ='OPINI Rinci v1'!S151 -> 4 | T14: ='OPINI Rinci v1'!T151 -> 0 | U14: ='OPINI Rinci v1'!U151 -> 0 | V14: =SUM(R14:U14) -> 8 | W14: ='OPINI Rinci v1'!W151 -> 3 | X14: ='OPINI Rinci v1'!X151 -> 5 | Y14: ='OPINI Rinci v1'!Y151 -> 0 | Z14: ='OPINI Rinci v1'!Z151 -> 0 | AA14: =SUM(W14:Z14) -> 8 | AB14: ='OPINI Rinci v1'!AB151 -> 0 | AC14: ='OPINI Rinci v1'!AC151 -> 8 | AD14: ='OPINI Rinci v1'!AD151 -> 0 | AE14: ='OPINI Rinci v1'!AE151 -> 0 | AF14: =SUM(AB14:AE14) -> 8 | AG14: ='OPINI Rinci v1'!AG151 -> 1 | AH14: ='OPINI Rinci v1'!AH151 -> 5 | AI14: ='OPINI Rinci v1'!AI151 -> 1 | AJ14: ='OPINI Rinci v1'!AJ151 -> 1 | AK14: =SUM(AG14:AJ14) -> 8 | AL14: ='OPINI Rinci v1'!AL151 -> 3 | AM14: ='OPINI Rinci v1'!AM151 -> 5 | AN14: ='OPINI Rinci v1'!AN151 -> 0 | AO14: ='OPINI Rinci v1'!AO151 -> 0 | AP14: =SUM(AL14:AO14) -> 8 | AQ14: ='OPINI Rinci v1'!AQ151 -> 2 | AR14: ='OPINI Rinci v1'!AR151 -> 6 | AS14: ='OPINI Rinci v1'!AS151 -> 0 | AT14: ='OPINI Rinci v1'!AT151 -> 0 | AU14: =SUM(AQ14:AT14) -> 8 | AV14: =F14-AU14 -> 0 | AW14: ='OPINI Rinci v1'!AV151 -> 2 | AX14: ='OPINI Rinci v1'!AW151 -> 6 | AY14: ='OPINI Rinci v1'!AX151 -> 0 | AZ14: ='OPINI Rinci v1'!AY151 -> 0 | BA14: =SUM(AW14:AZ14) -> 8 | BB14: =F14-BA14 -> 0 | BC14: ='OPINI Rinci v1'!BA151 -> 0 | BD14: ='OPINI Rinci v1'!BB151 -> 8 | BE14: ='OPINI Rinci v1'!BC151 -> 0 | BF14: ='OPINI Rinci v1'!BD151 -> 0 | BG14: =SUM(BC14:BF14) -> 8 | BH14: =F14-BG14 -> 0 | BI14: ='OPINI Rinci v1'!BF151 -> 0 | BJ14: ='OPINI Rinci v1'!BG151 -> 8 | BK14: ='OPINI Rinci v1'!BH151 -> 0 | BL14: ='OPINI Rinci v1'!BI151 -> 0 | BM14: ='OPINI Rinci v1'!BJ151 -> 8 | BN14: ='OPINI Rinci v1'!BK151 -> 0 | BO14: ='OPINI Rinci v1'!BL151 -> 7 | BP14: ='OPINI Rinci v1'!BM151 -> 0 | ... CG14: ='OPINI Rinci v1'!CD151 -> 6
B15: 09 | D15: PROV BENGKULU | F15: 11 | G15: 11 | H15: ='OPINI Rinci v1'!H161 -> 10 | I15: ='OPINI Rinci v1'!I161 -> 1 | J15: ='OPINI Rinci v1'!J161 -> 0 | K15: ='OPINI Rinci v1'!K161 -> 0 | L15: =SUM(H15:K15) -> 11 | M15: ='OPINI Rinci v1'!M161 -> 7 | N15: ='OPINI Rinci v1'!N161 -> 4 | O15: ='OPINI Rinci v1'!O161 -> 0 | P15: ='OPINI Rinci v1'!P161 -> 0 | Q15: =SUM(M15:P15) -> 11 | R15: ='OPINI Rinci v1'!R161 -> 4 | S15: ='OPINI Rinci v1'!S161 -> 7 | T15: ='OPINI Rinci v1'!T161 -> 0 | U15: ='OPINI Rinci v1'!U161 -> 0 | V15: =SUM(R15:U15) -> 11 | W15: ='OPINI Rinci v1'!W161 -> 2 | X15: ='OPINI Rinci v1'!X161 -> 9 | Y15: ='OPINI Rinci v1'!Y161 -> 0 | Z15: ='OPINI Rinci v1'!Z161 -> 0 | AA15: =SUM(W15:Z15) -> 11 | AB15: ='OPINI Rinci v1'!AB161 -> 2 | AC15: ='OPINI Rinci v1'!AC161 -> 9 | AD15: ='OPINI Rinci v1'!AD161 -> 0 | AE15: ='OPINI Rinci v1'!AE161 -> 0 | AF15: =SUM(AB15:AE15) -> 11 | AG15: ='OPINI Rinci v1'!AG161 -> 5 | AH15: ='OPINI Rinci v1'!AH161 -> 5 | AI15: ='OPINI Rinci v1'!AI161 -> 1 | AJ15: ='OPINI Rinci v1'!AJ161 -> 0 | AK15: =SUM(AG15:AJ15) -> 11 | AL15: ='OPINI Rinci v1'!AL161 -> 6 | AM15: ='OPINI Rinci v1'!AM161 -> 5 | AN15: ='OPINI Rinci v1'!AN161 -> 0 | AO15: ='OPINI Rinci v1'!AO161 -> 0 | AP15: =SUM(AL15:AO15) -> 11 | AQ15: ='OPINI Rinci v1'!AQ161 -> 6 | AR15: ='OPINI Rinci v1'!AR161 -> 4 | AS15: ='OPINI Rinci v1'!AS161 -> 0 | AT15: ='OPINI Rinci v1'!AT161 -> 1 | AU15: =SUM(AQ15:AT15) -> 11 | AV15: =F15-AU15 -> 0 | AW15: ='OPINI Rinci v1'!AV161 -> 5 | AX15: ='OPINI Rinci v1'!AW161 -> 5 | AY15: ='OPINI Rinci v1'!AX161 -> 1 | AZ15: ='OPINI Rinci v1'!AY161 -> 0 | BA15: =SUM(AW15:AZ15) -> 11 | BB15: =F15-BA15 -> 0 | BC15: ='OPINI Rinci v1'!BA161 -> 3 | BD15: ='OPINI Rinci v1'!BB161 -> 8 | BE15: ='OPINI Rinci v1'!BC161 -> 0 | BF15: ='OPINI Rinci v1'!BD161 -> 0 | BG15: =SUM(BC15:BF15) -> 11 | BH15: =F15-BG15 -> 0 | BI15: ='OPINI Rinci v1'!BF161 -> 2 | BJ15: ='OPINI Rinci v1'!BG161 -> 7 | BK15: ='OPINI Rinci v1'!BH161 -> 0 | BL15: ='OPINI Rinci v1'!BI161 -> 2 | BM15: ='OPINI Rinci v1'!BJ161 -> 11 | BN15: ='OPINI Rinci v1'!BK161 -> 1 | BO15: ='OPINI Rinci v1'!BL161 -> 6 | BP15: ='OPINI Rinci v1'!BM161 -> 0 | ... CG15: ='OPINI Rinci v1'!CD161 -> 6
B16: 10 | D16: PROV LAMPUNG | F16: 15 | G16: 16 | H16: ='OPINI Rinci v1'!H174 -> 14 | I16: ='OPINI Rinci v1'!I174 -> 2 | J16: ='OPINI Rinci v1'!J174 -> 0 | K16: ='OPINI Rinci v1'!K174 -> 0 | L16: =SUM(H16:K16) -> 16 | M16: ='OPINI Rinci v1'!M174 -> 14 | N16: ='OPINI Rinci v1'!N174 -> 2 | O16: ='OPINI Rinci v1'!O174 -> 0 | P16: ='OPINI Rinci v1'!P174 -> 0 | Q16: =SUM(M16:P16) -> 16 | R16: ='OPINI Rinci v1'!R174 -> 14 | S16: ='OPINI Rinci v1'!S174 -> 2 | T16: ='OPINI Rinci v1'!T174 -> 0 | U16: ='OPINI Rinci v1'!U174 -> 0 | V16: =SUM(R16:U16) -> 16 | W16: ='OPINI Rinci v1'!W174 -> 13 | X16: ='OPINI Rinci v1'!X174 -> 3 | Y16: ='OPINI Rinci v1'!Y174 -> 0 | Z16: ='OPINI Rinci v1'!Z174 -> 0 | AA16: =SUM(W16:Z16) -> 16 | AB16: ='OPINI Rinci v1'!AB174 -> 11 | AC16: ='OPINI Rinci v1'!AC174 -> 4 | AD16: ='OPINI Rinci v1'!AD174 -> 0 | AE16: ='OPINI Rinci v1'!AE174 -> 1 | AF16: =SUM(AB16:AE16) -> 16 | AG16: ='OPINI Rinci v1'!AG174 -> 9 | AH16: ='OPINI Rinci v1'!AH174 -> 6 | AI16: ='OPINI Rinci v1'!AI174 -> 0 | AJ16: ='OPINI Rinci v1'!AJ174 -> 1 | AK16: =SUM(AG16:AJ16) -> 16 | AL16: ='OPINI Rinci v1'!AL174 -> 5 | AM16: ='OPINI Rinci v1'!AM174 -> 9 | AN16: ='OPINI Rinci v1'!AN174 -> 1 | AO16: ='OPINI Rinci v1'!AO174 -> 0 | AP16: =SUM(AL16:AO16) -> 15 | AQ16: ='OPINI Rinci v1'!AQ174 -> 7 | AR16: ='OPINI Rinci v1'!AR174 -> 6 | AS16: ='OPINI Rinci v1'!AS174 -> 1 | AT16: ='OPINI Rinci v1'!AT174 -> 1 | AU16: =SUM(AQ16:AT16) -> 15 | AV16: =F16-AU16 -> 0 | AW16: ='OPINI Rinci v1'!AV174 -> 7 | AX16: ='OPINI Rinci v1'!AW174 -> 7 | AY16: ='OPINI Rinci v1'!AX174 -> 0 | AZ16: ='OPINI Rinci v1'!AY174 -> 1 | BA16: =SUM(AW16:AZ16) -> 15 | BB16: =F16-BA16 -> 0 | BC16: ='OPINI Rinci v1'!BA174 -> 5 | BD16: ='OPINI Rinci v1'!BB174 -> 7 | BE16: ='OPINI Rinci v1'!BC174 -> 0 | BF16: ='OPINI Rinci v1'!BD174 -> 3 | BG16: =SUM(BC16:BF16) -> 15 | BH16: =F16-BG16 -> 0 | BI16: ='OPINI Rinci v1'!BF174 -> 0 | BJ16: ='OPINI Rinci v1'!BG174 -> 10 | BK16: ='OPINI Rinci v1'!BH174 -> 0 | BL16: ='OPINI Rinci v1'!BI174 -> 2 | BM16: ='OPINI Rinci v1'!BJ174 -> 12 | BN16: ='OPINI Rinci v1'!BK174 -> 0 | BO16: ='OPINI Rinci v1'!BL174 -> 8 | BP16: ='OPINI Rinci v1'!BM174 -> 0 | ... CG16: ='OPINI Rinci v1'!CD174 -> 11
B17: 11 | D17: PROV DKI JAKARTA | F17: 1 | G17: 1 | H17: ='OPINI Rinci v1'!H192 -> 1 | I17: ='OPINI Rinci v1'!I192 -> 0 | J17: ='OPINI Rinci v1'!J192 -> 0 | K17: ='OPINI Rinci v1'!K192 -> 0 | L17: ='OPINI Rinci v1'!L192 -> 1 | M17: ='OPINI Rinci v1'!M192 -> 1 | N17: ='OPINI Rinci v1'!N192 -> 0 | O17: ='OPINI Rinci v1'!O192 -> 0 | ... AU17: ='OPINI Rinci v1'!AU192 -> 1 | AV17: =F17-AU17 -> 0 | AW17: ='OPINI Rinci v1'!AV192 -> 1 | AX17: ='OPINI Rinci v1'!AW192 -> 0 | AY17: ='OPINI Rinci v1'!AX195 -> 0 | AZ17: ='OPINI Rinci v1'!AY195 -> 0 | BA17: =SUM(AW17:AZ17) -> 1 | BB17: =F17-BA17 -> 0 | BC17: 0 | BD17: 1 | BE17: 0 | BF17: 0 | BG17: =SUM(BC17:BF17) -> 1 | BH17: =F17-BG17 -> 0 | BI17: ='OPINI Rinci v1'!BF192 -> 0 | BJ17: ='OPINI Rinci v1'!BG192 -> 1 | BK17: ='OPINI Rinci v1'!BH192 -> 0 | BL17: ='OPINI Rinci v1'!BI192 -> 0 | BM17: ='OPINI Rinci v1'!BJ192 -> 1 | BN17: ='OPINI Rinci v1'!BK192 -> 0 | BO17: ='OPINI Rinci v1'!BL192 -> 1 | BP17: ='OPINI Rinci v1'!BM192 -> 0 | ... CG17: ='OPINI Rinci v1'!CD192 -> 1
B18: 12 | D18: PROV JABAR | F18: 27 | G18: 28 | H18: ='OPINI Rinci v1'!H195 -> 28 | I18: ='OPINI Rinci v1'!I195 -> 0 | J18: ='OPINI Rinci v1'!J195 -> 0 | K18: ='OPINI Rinci v1'!K195 -> 0 | L18: =SUM(H18:K18) -> 28 | M18: ='OPINI Rinci v1'!M195 -> 25 | N18: ='OPINI Rinci v1'!N195 -> 3 | O18: ='OPINI Rinci v1'!O195 -> 0 | P18: ='OPINI Rinci v1'!P195 -> 0 | Q18: =SUM(M18:P18) -> 28 | R18: ='OPINI Rinci v1'!R195 -> 25 | S18: ='OPINI Rinci v1'!S195 -> 3 | T18: ='OPINI Rinci v1'!T195 -> 0 | U18: ='OPINI Rinci v1'!U195 -> 0 | V18: =SUM(R18:U18) -> 28 | W18: ='OPINI Rinci v1'!W195 -> 25 | X18: ='OPINI Rinci v1'!X195 -> 3 | Y18: ='OPINI Rinci v1'!Y195 -> 0 | Z18: ='OPINI Rinci v1'!Z195 -> 0 | AA18: =SUM(W18:Z18) -> 28 | AB18: ='OPINI Rinci v1'!AB195 -> 20 | AC18: ='OPINI Rinci v1'!AC195 -> 7 | AD18: ='OPINI Rinci v1'!AD195 -> 0 | AE18: ='OPINI Rinci v1'!AE195 -> 1 | AF18: =SUM(AB18:AE18) -> 28 | AG18: ='OPINI Rinci v1'!AG195 -> 13 | AH18: ='OPINI Rinci v1'!AH195 -> 14 | AI18: ='OPINI Rinci v1'!AI195 -> 0 | AJ18: ='OPINI Rinci v1'!AJ195 -> 1 | AK18: =SUM(AG18:AJ18) -> 28 | AL18: ='OPINI Rinci v1'!AL195 -> 6 | AM18: ='OPINI Rinci v1'!AM195 -> 19 | AN18: ='OPINI Rinci v1'!AN195 -> 0 | AO18: ='OPINI Rinci v1'!AO195 -> 2 | AP18: =SUM(AL18:AO18) -> 27 | AQ18: ='OPINI Rinci v1'!AQ195 -> 3 | AR18: ='OPINI Rinci v1'!AR195 -> 24 | AS18: ='OPINI Rinci v1'!AS195 -> 0 | AT18: ='OPINI Rinci v1'!AT195 -> 0 | AU18: =SUM(AQ18:AT18) -> 27 | AV18: =F18-AU18 -> 0 | AW18: ='OPINI Rinci v1'!AV195 -> 3 | AX18: ='OPINI Rinci v1'!AW195 -> 24 | AY18: ='OPINI Rinci v1'!AX195 -> 0 | AZ18: ='OPINI Rinci v1'!AY195 -> 0 | BA18: =SUM(AW18:AZ18) -> 27 | BB18: =F18-BA18 -> 0 | BC18: ='OPINI Rinci v1'!BA195 -> 0 | BD18: ='OPINI Rinci v1'!BB195 -> 26 | BE18: ='OPINI Rinci v1'!BC195 -> 0 | BF18: ='OPINI Rinci v1'!BD195 -> 1 | BG18: =SUM(BC18:BF18) -> 27 | BH18: =F18-BG18 -> 0 | BI18: ='OPINI Rinci v1'!BF195 -> 0 | BJ18: ='OPINI Rinci v1'!BG195 -> 23 | BK18: ='OPINI Rinci v1'!BH195 -> 0 | BL18: ='OPINI Rinci v1'!BI195 -> 4 | BM18: ='OPINI Rinci v1'!BJ195 -> 27 | BN18: ='OPINI Rinci v1'!BK195 -> 0 | BO18: ='OPINI Rinci v1'!BL195 -> 26 | BP18: ='OPINI Rinci v1'!BM195 -> 0 | ... CG18: ='OPINI Rinci v1'!CD195 -> 23
B19: 13 | D19: PROV BANTEN | F19: 9 | G19: 9 | H19: ='OPINI Rinci v1'!H225 -> 9 | I19: ='OPINI Rinci v1'!I225 -> 0 | J19: ='OPINI Rinci v1'!J225 -> 0 | K19: ='OPINI Rinci v1'!K225 -> 0 | L19: =SUM(H19:K19) -> 9 | M19: ='OPINI Rinci v1'!M225 -> 9 | N19: ='OPINI Rinci v1'!N225 -> 0 | O19: ='OPINI Rinci v1'!O225 -> 0 | P19: ='OPINI Rinci v1'!P225 -> 0 | Q19: =SUM(M19:P19) -> 9 | R19: ='OPINI Rinci v1'!R225 -> 9 | S19: ='OPINI Rinci v1'!S225 -> 0 | T19: ='OPINI Rinci v1'!T225 -> 0 | U19: ='OPINI Rinci v1'!U225 -> 0 | V19: =SUM(R19:U19) -> 9 | W19: ='OPINI Rinci v1'!W225 -> 8 | X19: ='OPINI Rinci v1'!X225 -> 1 | Y19: ='OPINI Rinci v1'!Y225 -> 0 | Z19: ='OPINI Rinci v1'!Z225 -> 0 | AA19: =SUM(W19:Z19) -> 9 | AB19: ='OPINI Rinci v1'!AB225 -> 6 | AC19: ='OPINI Rinci v1'!AC225 -> 3 | AD19: ='OPINI Rinci v1'!AD225 -> 0 | AE19: ='OPINI Rinci v1'!AE225 -> 0 | AF19: =SUM(AB19:AE19) -> 9 | AG19: ='OPINI Rinci v1'!AG225 -> 4 | AH19: ='OPINI Rinci v1'!AH225 -> 3 | AI19: ='OPINI Rinci v1'!AI225 -> 0 | AJ19: ='OPINI Rinci v1'!AJ225 -> 2 | AK19: =SUM(AG19:AJ19) -> 9 | AL19: ='OPINI Rinci v1'!AL225 -> 4 | AM19: ='OPINI Rinci v1'!AM225 -> 4 | AN19: ='OPINI Rinci v1'!AN225 -> 0 | AO19: ='OPINI Rinci v1'!AO225 -> 1 | AP19: =SUM(AL19:AO19) -> 9 | AQ19: ='OPINI Rinci v1'!AQ225 -> 4 | AR19: ='OPINI Rinci v1'!AR225 -> 5 | AS19: ='OPINI Rinci v1'!AS225 -> 0 | AT19: ='OPINI Rinci v1'!AT225 -> 0 | AU19: =SUM(AQ19:AT19) -> 9 | AV19: =F19-AU19 -> 0 | AW19: ='OPINI Rinci v1'!AV225 -> 4 | AX19: ='OPINI Rinci v1'!AW225 -> 5 | AY19: ='OPINI Rinci v1'!AX225 -> 0 | AZ19: ='OPINI Rinci v1'!AY225 -> 0 | BA19: =SUM(AW19:AZ19) -> 9 | BB19: =F19-BA19 -> 0 | BC19: ='OPINI Rinci v1'!BA225 -> 3 | BD19: ='OPINI Rinci v1'!BB225 -> 4 | BE19: ='OPINI Rinci v1'!BC225 -> 0 | BF19: ='OPINI Rinci v1'!BD225 -> 2 | BG19: =SUM(BC19:BF19) -> 9 | BH19: =F19-BG19 -> 0 | BI19: ='OPINI Rinci v1'!BF225 -> 2 | BJ19: ='OPINI Rinci v1'!BG225 -> 6 | BK19: ='OPINI Rinci v1'!BH225 -> 0 | BL19: ='OPINI Rinci v1'!BI225 -> 1 | BM19: ='OPINI Rinci v1'!BJ225 -> 9 | BN19: ='OPINI Rinci v1'!BK225 -> 2 | BO19: ='OPINI Rinci v1'!BL225 -> 6 | BP19: ='OPINI Rinci v1'!BM225 -> 0 | ... CG19: ='OPINI Rinci v1'!CD225 -> 7
B20: 14 | D20: PROV JATENG | F20: 36 | G20: 36 | H20: ='OPINI Rinci v1'!H236 -> 36 | I20: ='OPINI Rinci v1'!I236 -> 0 | J20: ='OPINI Rinci v1'!J236 -> 0 | K20: ='OPINI Rinci v1'!K236 -> 0 | L20: =SUM(H20:K20) -> 36 | M20: ='OPINI Rinci v1'!M236 -> 35 | N20: ='OPINI Rinci v1'!N236 -> 1 | O20: ='OPINI Rinci v1'!O236 -> 0 | P20: ='OPINI Rinci v1'!P236 -> 0 | Q20: =SUM(M20:P20) -> 36 | R20: ='OPINI Rinci v1'!R236 -> 33 | S20: ='OPINI Rinci v1'!S236 -> 3 | T20: ='OPINI Rinci v1'!T236 -> 0 | U20: ='OPINI Rinci v1'!U236 -> 0 | V20: =SUM(R20:U20) -> 36 | W20: ='OPINI Rinci v1'!W236 -> 31 | X20: ='OPINI Rinci v1'!X236 -> 5 | Y20: ='OPINI Rinci v1'!Y236 -> 0 | Z20: ='OPINI Rinci v1'!Z236 -> 0 | AA20: =SUM(W20:Z20) -> 36 | AB20: ='OPINI Rinci v1'!AB236 -> 21 | AC20: ='OPINI Rinci v1'!AC236 -> 15 | AD20: ='OPINI Rinci v1'!AD236 -> 0 | AE20: ='OPINI Rinci v1'!AE236 -> 0 | AF20: =SUM(AB20:AE20) -> 36 | AG20: ='OPINI Rinci v1'!AG236 -> 12 | AH20: ='OPINI Rinci v1'!AH236 -> 24 | AI20: ='OPINI Rinci v1'!AI236 -> 0 | AJ20: ='OPINI Rinci v1'!AJ236 -> 0 | AK20: =SUM(AG20:AJ20) -> 36 | AL20: ='OPINI Rinci v1'!AL236 -> 11 | AM20: ='OPINI Rinci v1'!AM236 -> 25 | AN20: ='OPINI Rinci v1'!AN236 -> 0 | AO20: ='OPINI Rinci v1'!AO236 -> 0 | AP20: =SUM(AL20:AO20) -> 36 | AQ20: ='OPINI Rinci v1'!AQ236 -> 11 | AR20: ='OPINI Rinci v1'!AR236 -> 25 | AS20: ='OPINI Rinci v1'!AS236 -> 0 | AT20: ='OPINI Rinci v1'!AT236 -> 0 | AU20: =SUM(AQ20:AT20) -> 36 | AV20: =F20-AU20 -> 0 | AW20: ='OPINI Rinci v1'!AV236 -> 8 | AX20: ='OPINI Rinci v1'!AW236 -> 28 | AY20: ='OPINI Rinci v1'!AX236 -> 0 | AZ20: ='OPINI Rinci v1'!AY236 -> 0 | BA20: =SUM(AW20:AZ20) -> 36 | BB20: =F20-BA20 -> 0 | BC20: ='OPINI Rinci v1'!BA236 -> 2 | BD20: ='OPINI Rinci v1'!BB236 -> 33 | BE20: ='OPINI Rinci v1'!BC236 -> 0 | BF20: ='OPINI Rinci v1'!BD236 -> 1 | BG20: =SUM(BC20:BF20) -> 36 | BH20: =F20-BG20 -> 0 | BI20: ='OPINI Rinci v1'!BF236 -> 0 | BJ20: ='OPINI Rinci v1'!BG236 -> 36 | BK20: ='OPINI Rinci v1'!BH236 -> 0 | BL20: ='OPINI Rinci v1'!BI236 -> 0 | BM20: ='OPINI Rinci v1'!BJ236 -> 36 | BN20: ='OPINI Rinci v1'!BK236 -> 0 | BO20: ='OPINI Rinci v1'!BL236 -> 34 | BP20: ='OPINI Rinci v1'!BM236 -> 0 | ... CG20: ='OPINI Rinci v1'!CD236 -> 36
B21: 15 | D21: PROV DIY | F21: 6 | G21: 6 | H21: ='OPINI Rinci v1'!H274 -> 6 | I21: ='OPINI Rinci v1'!I274 -> 0 | J21: ='OPINI Rinci v1'!J274 -> 0 | K21: ='OPINI Rinci v1'!K274 -> 0 | L21: =SUM(H21:K21) -> 6 | M21: ='OPINI Rinci v1'!M274 -> 6 | N21: ='OPINI Rinci v1'!N274 -> 0 | O21: ='OPINI Rinci v1'!O274 -> 0 | P21: ='OPINI Rinci v1'!P274 -> 0 | Q21: =SUM(M21:P21) -> 6 | R21: ='OPINI Rinci v1'!R274 -> 6 | S21: ='OPINI Rinci v1'!S274 -> 0 | T21: ='OPINI Rinci v1'!T274 -> 0 | U21: ='OPINI Rinci v1'!U274 -> 0 | V21: =SUM(R21:U21) -> 6 | W21: ='OPINI Rinci v1'!W274 -> 6 | X21: ='OPINI Rinci v1'!X274 -> 0 | Y21: ='OPINI Rinci v1'!Y274 -> 0 | Z21: ='OPINI Rinci v1'!Z274 -> 0 | AA21: =SUM(W21:Z21) -> 6 | AB21: ='OPINI Rinci v1'!AB274 -> 6 | AC21: ='OPINI Rinci v1'!AC274 -> 0 | AD21: ='OPINI Rinci v1'!AD274 -> 0 | AE21: ='OPINI Rinci v1'!AE274 -> 0 | AF21: =SUM(AB21:AE21) -> 6 | AG21: ='OPINI Rinci v1'!AG274 -> 5 | AH21: ='OPINI Rinci v1'!AH274 -> 1 | AI21: ='OPINI Rinci v1'!AI274 -> 0 | AJ21: ='OPINI Rinci v1'!AJ274 -> 0 | AK21: =SUM(AG21:AJ21) -> 6 | AL21: ='OPINI Rinci v1'!AL274 -> 5 | AM21: ='OPINI Rinci v1'!AM274 -> 1 | AN21: ='OPINI Rinci v1'!AN274 -> 0 | AO21: ='OPINI Rinci v1'!AO274 -> 0 | AP21: =SUM(AL21:AO21) -> 6 | AQ21: ='OPINI Rinci v1'!AQ274 -> 4 | AR21: ='OPINI Rinci v1'!AR274 -> 2 | AS21: ='OPINI Rinci v1'!AS274 -> 0 | AT21: ='OPINI Rinci v1'!AT274 -> 0 | AU21: =SUM(AQ21:AT21) -> 6 | AV21: =F21-AU21 -> 0 | AW21: ='OPINI Rinci v1'!AV274 -> 3 | AX21: ='OPINI Rinci v1'!AW274 -> 3 | AY21: ='OPINI Rinci v1'!AX274 -> 0 | AZ21: ='OPINI Rinci v1'!AY274 -> 0 | BA21: =SUM(AW21:AZ21) -> 6 | BB21: =F21-BA21 -> 0 | BC21: ='OPINI Rinci v1'!BA274 -> 2 | BD21: ='OPINI Rinci v1'!BB274 -> 4 | BE21: ='OPINI Rinci v1'!BC274 -> 0 | BF21: ='OPINI Rinci v1'!BD274 -> 0 | BG21: =SUM(BC21:BF21) -> 6 | BH21: =F21-BG21 -> 0 | BI21: ='OPINI Rinci v1'!BF274 -> 1 | BJ21: ='OPINI Rinci v1'!BG274 -> 5 | BK21: ='OPINI Rinci v1'!BH274 -> 0 | BL21: ='OPINI Rinci v1'!BI274 -> 0 | BM21: ='OPINI Rinci v1'!BJ274 -> 6 | BN21: ='OPINI Rinci v1'!BK274 -> 0 | BO21: ='OPINI Rinci v1'!BL274 -> 6 | BP21: ='OPINI Rinci v1'!BM274 -> 0 | ... CG21: ='OPINI Rinci v1'!CD274 -> 6
B22: 16 | D22: PROV JATIM | F22: 39 | G22: 39 | H22: ='OPINI Rinci v1'!H282 -> 37 | I22: ='OPINI Rinci v1'!I282 -> 1 | J22: ='OPINI Rinci v1'!J282 -> 0 | K22: ='OPINI Rinci v1'!K282 -> 1 | L22: =SUM(H22:K22) -> 39 | M22: ='OPINI Rinci v1'!M282 -> 36 | N22: ='OPINI Rinci v1'!N282 -> 3 | O22: ='OPINI Rinci v1'!O282 -> 0 | P22: ='OPINI Rinci v1'!P282 -> 0 | Q22: =SUM(M22:P22) -> 39 | R22: ='OPINI Rinci v1'!R282 -> 37 | S22: ='OPINI Rinci v1'!S282 -> 2 | T22: ='OPINI Rinci v1'!T282 -> 0 | U22: ='OPINI Rinci v1'!U282 -> 0 | V22: =SUM(R22:U22) -> 39 | W22: ='OPINI Rinci v1'!W282 -> 31 | X22: ='OPINI Rinci v1'!X282 -> 8 | Y22: ='OPINI Rinci v1'!Y282 -> 0 | Z22: ='OPINI Rinci v1'!Z282 -> 0 | AA22: =SUM(W22:Z22) -> 39 | AB22: ='OPINI Rinci v1'!AB282 -> 29 | AC22: ='OPINI Rinci v1'!AC282 -> 10 | AD22: ='OPINI Rinci v1'!AD282 -> 0 | AE22: ='OPINI Rinci v1'!AE282 -> 0 | AF22: =SUM(AB22:AE22) -> 39 | AG22: ='OPINI Rinci v1'!AG282 -> 25 | AH22: ='OPINI Rinci v1'!AH282 -> 14 | AI22: ='OPINI Rinci v1'!AI282 -> 0 | AJ22: ='OPINI Rinci v1'!AJ282 -> 0 | AK22: =SUM(AG22:AJ22) -> 39 | AL22: ='OPINI Rinci v1'!AL282 -> 17 | AM22: ='OPINI Rinci v1'!AM282 -> 21 | AN22: ='OPINI Rinci v1'!AN282 -> 1 | AO22: ='OPINI Rinci v1'!AO282 -> 0 | AP22: =SUM(AL22:AO22) -> 39 | AQ22: ='OPINI Rinci v1'!AQ282 -> 13 | AR22: ='OPINI Rinci v1'!AR282 -> 26 | AS22: ='OPINI Rinci v1'!AS282 -> 0 | AT22: ='OPINI Rinci v1'!AT282 -> 0 | AU22: =SUM(AQ22:AT22) -> 39 | AV22: =F22-AU22 -> 0 | AW22: ='OPINI Rinci v1'!AV282 -> 11 | AX22: ='OPINI Rinci v1'!AW282 -> 27 | AY22: ='OPINI Rinci v1'!AX282 -> 0 | AZ22: ='OPINI Rinci v1'!AY282 -> 1 | BA22: =SUM(AW22:AZ22) -> 39 | BB22: =F22-BA22 -> 0 | BC22: ='OPINI Rinci v1'!BA282 -> 6 | BD22: ='OPINI Rinci v1'!BB282 -> 32 | BE22: ='OPINI Rinci v1'!BC282 -> 0 | BF22: ='OPINI Rinci v1'!BD282 -> 1 | BG22: =SUM(BC22:BF22) -> 39 | BH22: =F22-BG22 -> 0 | BI22: ='OPINI Rinci v1'!BF282 -> 0 | BJ22: ='OPINI Rinci v1'!BG282 -> 36 | BK22: ='OPINI Rinci v1'!BH282 -> 1 | BL22: ='OPINI Rinci v1'!BI282 -> 2 | BM22: ='OPINI Rinci v1'!BJ282 -> 39 | BN22: ='OPINI Rinci v1'!BK282 -> 0 | BO22: ='OPINI Rinci v1'!BL282 -> 28 | BP22: ='OPINI Rinci v1'!BM282 -> 5 | ... CG22: ='OPINI Rinci v1'!CD282 -> 26
B23: 17 | D23: PROV KALBAR | F23: 15 | G23: 15 | H23: ='OPINI Rinci v1'!H323 -> 12 | I23: ='OPINI Rinci v1'!I323 -> 1 | J23: ='OPINI Rinci v1'!J323 -> 0 | K23: ='OPINI Rinci v1'!K323 -> 0 | L23: =SUM(H23:K23) -> 13 | M23: ='OPINI Rinci v1'!M323 -> 11 | N23: ='OPINI Rinci v1'!N323 -> 4 | O23: ='OPINI Rinci v1'!O323 -> 0 | P23: ='OPINI Rinci v1'!P323 -> 0 | Q23: =SUM(M23:P23) -> 15 | R23: ='OPINI Rinci v1'!R323 -> 11 | S23: ='OPINI Rinci v1'!S323 -> 4 | T23: ='OPINI Rinci v1'!T323 -> 0 | U23: ='OPINI Rinci v1'!U323 -> 0 | V23: =SUM(R23:U23) -> 15 | W23: ='OPINI Rinci v1'!W323 -> 9 | X23: ='OPINI Rinci v1'!X323 -> 6 | Y23: ='OPINI Rinci v1'!Y323 -> 0 | Z23: ='OPINI Rinci v1'!Z323 -> 0 | AA23: =SUM(W23:Z23) -> 15 | AB23: ='OPINI Rinci v1'!AB323 -> 8 | AC23: ='OPINI Rinci v1'!AC323 -> 7 | AD23: ='OPINI Rinci v1'!AD323 -> 0 | AE23: ='OPINI Rinci v1'!AE323 -> 0 | AF23: =SUM(AB23:AE23) -> 15 | AG23: ='OPINI Rinci v1'!AG323 -> 8 | AH23: ='OPINI Rinci v1'!AH323 -> 7 | AI23: ='OPINI Rinci v1'!AI323 -> 0 | AJ23: ='OPINI Rinci v1'!AJ323 -> 0 | AK23: =SUM(AG23:AJ23) -> 15 | AL23: ='OPINI Rinci v1'!AL323 -> 5 | AM23: ='OPINI Rinci v1'!AM323 -> 10 | AN23: ='OPINI Rinci v1'!AN323 -> 0 | AO23: ='OPINI Rinci v1'!AO323 -> 0 | AP23: =SUM(AL23:AO23) -> 15 | AQ23: ='OPINI Rinci v1'!AQ323 -> 4 | AR23: ='OPINI Rinci v1'!AR323 -> 11 | AS23: ='OPINI Rinci v1'!AS323 -> 0 | AT23: ='OPINI Rinci v1'!AT323 -> 0 | AU23: =SUM(AQ23:AT23) -> 15 | AV23: =F23-AU23 -> 0 | AW23: ='OPINI Rinci v1'!AV323 -> 1 | AX23: ='OPINI Rinci v1'!AW323 -> 13 | AY23: ='OPINI Rinci v1'!AX323 -> 1 | AZ23: ='OPINI Rinci v1'!AY323 -> 0 | BA23: =SUM(AW23:AZ23) -> 15 | BB23: =F23-BA23 -> 0 | BC23: ='OPINI Rinci v1'!BA323 -> 0 | BD23: ='OPINI Rinci v1'!BB323 -> 13 | BE23: ='OPINI Rinci v1'!BC323 -> 2 | BF23: ='OPINI Rinci v1'!BD323 -> 0 | BG23: =SUM(BC23:BF23) -> 15 | BH23: =F23-BG23 -> 0 | BI23: ='OPINI Rinci v1'!BF323 -> 0 | BJ23: ='OPINI Rinci v1'!BG323 -> 7 | BK23: ='OPINI Rinci v1'!BH323 -> 4 | BL23: ='OPINI Rinci v1'!BI323 -> 4 | BM23: ='OPINI Rinci v1'!BJ323 -> 15 | BN23: ='OPINI Rinci v1'!BK323 -> 0 | BO23: ='OPINI Rinci v1'!BL323 -> 6 | BP23: ='OPINI Rinci v1'!BM323 -> 3 | ... CG23: ='OPINI Rinci v1'!CD323 -> 11
B24: 18 | D24: PROV KALTENG | F24: 15 | G24: 15 | H24: ='OPINI Rinci v1'!H340 -> 15 | I24: ='OPINI Rinci v1'!I340 -> 0 | J24: ='OPINI Rinci v1'!J340 -> 0 | K24: ='OPINI Rinci v1'!K340 -> 0 | L24: =SUM(H24:K24) -> 15 | M24: ='OPINI Rinci v1'!M340 -> 14 | N24: ='OPINI Rinci v1'!N340 -> 1 | O24: ='OPINI Rinci v1'!O340 -> 0 | P24: ='OPINI Rinci v1'!P340 -> 0 | Q24: =SUM(M24:P24) -> 15 | R24: ='OPINI Rinci v1'!R340 -> 14 | S24: ='OPINI Rinci v1'!S340 -> 1 | T24: ='OPINI Rinci v1'!T340 -> 0 | U24: ='OPINI Rinci v1'!U340 -> 0 | V24: =SUM(R24:U24) -> 15 | W24: ='OPINI Rinci v1'!W340 -> 14 | X24: ='OPINI Rinci v1'!X340 -> 1 | Y24: ='OPINI Rinci v1'!Y340 -> 0 | Z24: ='OPINI Rinci v1'!Z340 -> 0 | AA24: =SUM(W24:Z24) -> 15 | AB24: ='OPINI Rinci v1'!AB340 -> 10 | AC24: ='OPINI Rinci v1'!AC340 -> 4 | AD24: ='OPINI Rinci v1'!AD340 -> 0 | AE24: ='OPINI Rinci v1'!AE340 -> 1 | AF24: =SUM(AB24:AE24) -> 15 | AG24: ='OPINI Rinci v1'!AG340 -> 7 | AH24: ='OPINI Rinci v1'!AH340 -> 8 | AI24: ='OPINI Rinci v1'!AI340 -> 0 | AJ24: ='OPINI Rinci v1'!AJ340 -> 0 | AK24: =SUM(AG24:AJ24) -> 15 | AL24: ='OPINI Rinci v1'!AL340 -> 3 | AM24: ='OPINI Rinci v1'!AM340 -> 8 | AN24: ='OPINI Rinci v1'!AN340 -> 2 | AO24: ='OPINI Rinci v1'!AO340 -> 2 | AP24: =SUM(AL24:AO24) -> 15 | AQ24: ='OPINI Rinci v1'!AQ340 -> 1 | AR24: ='OPINI Rinci v1'!AR340 -> 7 | AS24: ='OPINI Rinci v1'!AS340 -> 0 | AT24: ='OPINI Rinci v1'!AT340 -> 7 | AU24: =SUM(AQ24:AT24) -> 15 | AV24: =F24-AU24 -> 0 | AW24: ='OPINI Rinci v1'!AV340 -> 0 | AX24: ='OPINI Rinci v1'!AW340 -> 11 | AY24: ='OPINI Rinci v1'!AX340 -> 0 | AZ24: ='OPINI Rinci v1'!AY340 -> 4 | BA24: =SUM(AW24:AZ24) -> 15 | BB24: =F24-BA24 -> 0 | BC24: ='OPINI Rinci v1'!BA340 -> 0 | BD24: ='OPINI Rinci v1'!BB340 -> 7 | BE24: ='OPINI Rinci v1'!BC340 -> 4 | BF24: ='OPINI Rinci v1'!BD340 -> 4 | BG24: =SUM(BC24:BF24) -> 15 | BH24: =F24-BG24 -> 0 | BI24: ='OPINI Rinci v1'!BF340 -> 0 | BJ24: ='OPINI Rinci v1'!BG340 -> 2 | BK24: ='OPINI Rinci v1'!BH340 -> 12 | BL24: ='OPINI Rinci v1'!BI340 -> 1 | BM24: ='OPINI Rinci v1'!BJ340 -> 15 | BN24: ='OPINI Rinci v1'!BK340 -> 0 | BO24: ='OPINI Rinci v1'!BL340 -> 5 | BP24: ='OPINI Rinci v1'!BM340 -> 8 | ... CG24: ='OPINI Rinci v1'!CD340 -> 15
B25: 19 | D25: PROV KALSEL | F25: 14 | G25: 14 | H25: ='OPINI Rinci v1'!H357 -> 13 | I25: ='OPINI Rinci v1'!I357 -> 0 | J25: ='OPINI Rinci v1'!J357 -> 0 | K25: ='OPINI Rinci v1'!K357 -> 0 | L25: =SUM(H25:K25) -> 13 | M25: ='OPINI Rinci v1'!M357 -> 14 | N25: ='OPINI Rinci v1'!N357 -> 0 | O25: ='OPINI Rinci v1'!O357 -> 0 | P25: ='OPINI Rinci v1'!P357 -> 0 | Q25: =SUM(M25:P25) -> 14 | R25: ='OPINI Rinci v1'!R357 -> 13 | S25: ='OPINI Rinci v1'!S357 -> 1 | T25: ='OPINI Rinci v1'!T357 -> 0 | U25: ='OPINI Rinci v1'!U357 -> 0 | V25: =SUM(R25:U25) -> 14 | W25: ='OPINI Rinci v1'!W357 -> 14 | X25: ='OPINI Rinci v1'!X357 -> 0 | Y25: ='OPINI Rinci v1'!Y357 -> 0 | Z25: ='OPINI Rinci v1'!Z357 -> 0 | AA25: =SUM(W25:Z25) -> 14 | AB25: ='OPINI Rinci v1'!AB357 -> 14 | AC25: ='OPINI Rinci v1'!AC357 -> 0 | AD25: ='OPINI Rinci v1'!AD357 -> 0 | AE25: ='OPINI Rinci v1'!AE357 -> 0 | AF25: =SUM(AB25:AE25) -> 14 | AG25: ='OPINI Rinci v1'!AG357 -> 10 | AH25: ='OPINI Rinci v1'!AH357 -> 4 | AI25: ='OPINI Rinci v1'!AI357 -> 0 | AJ25: ='OPINI Rinci v1'!AJ357 -> 0 | AK25: =SUM(AG25:AJ25) -> 14 | AL25: ='OPINI Rinci v1'!AL357 -> 8 | AM25: ='OPINI Rinci v1'!AM357 -> 6 | AN25: ='OPINI Rinci v1'!AN357 -> 0 | AO25: ='OPINI Rinci v1'!AO357 -> 0 | AP25: =SUM(AL25:AO25) -> 14 | AQ25: ='OPINI Rinci v1'!AQ357 -> 0 | AR25: ='OPINI Rinci v1'!AR357 -> 13 | AS25: ='OPINI Rinci v1'!AS357 -> 1 | AT25: ='OPINI Rinci v1'!AT357 -> 0 | AU25: =SUM(AQ25:AT25) -> 14 | AV25: =F25-AU25 -> 0 | AW25: ='OPINI Rinci v1'!AV357 -> 0 | AX25: ='OPINI Rinci v1'!AW357 -> 13 | AY25: ='OPINI Rinci v1'!AX357 -> 0 | AZ25: ='OPINI Rinci v1'!AY357 -> 1 | BA25: =SUM(AW25:AZ25) -> 14 | BB25: =F25-BA25 -> 0 | BC25: ='OPINI Rinci v1'!BA357 -> 0 | BD25: ='OPINI Rinci v1'!BB357 -> 13 | BE25: ='OPINI Rinci v1'!BC357 -> 1 | BF25: ='OPINI Rinci v1'!BD357 -> 0 | BG25: =SUM(BC25:BF25) -> 14 | BH25: =F25-BG25 -> 0 | BI25: ='OPINI Rinci v1'!BF357 -> 0 | BJ25: ='OPINI Rinci v1'!BG357 -> 12 | BK25: ='OPINI Rinci v1'!BH357 -> 2 | BL25: ='OPINI Rinci v1'!BI357 -> 0 | BM25: ='OPINI Rinci v1'!BJ357 -> 14 | BN25: ='OPINI Rinci v1'!BK357 -> 0 | BO25: ='OPINI Rinci v1'!BL357 -> 12 | BP25: ='OPINI Rinci v1'!BM357 -> 2 | ... CG25: ='OPINI Rinci v1'!CD357 -> 13
B26: 20 | D26: PROV KALTIM | F26: 15 | G26: 11 | H26: ='OPINI Rinci v1'!H373 -> 11 | I26: ='OPINI Rinci v1'!I373 -> 0 | J26: ='OPINI Rinci v1'!J373 -> 0 | K26: ='OPINI Rinci v1'!K373 -> 0 | L26: =SUM(H26:K26) -> 11 | M26: ='OPINI Rinci v1'!M373 -> 10 | N26: ='OPINI Rinci v1'!N373 -> 1 | O26: ='OPINI Rinci v1'!O373 -> 0 | P26: ='OPINI Rinci v1'!P373 -> 0 | Q26: =SUM(M26:P26) -> 11 | R26: ='OPINI Rinci v1'!R373 -> 9 | S26: ='OPINI Rinci v1'!S373 -> 2 | T26: ='OPINI Rinci v1'!T373 -> 0 | U26: ='OPINI Rinci v1'!U373 -> 0 | V26: =SUM(R26:U26) -> 11 | W26: ='OPINI Rinci v1'!W373 -> 9 | X26: ='OPINI Rinci v1'!X373 -> 2 | Y26: ='OPINI Rinci v1'!Y373 -> 0 | Z26: ='OPINI Rinci v1'!Z373 -> 0 | AA26: =SUM(W26:Z26) -> 11 | AB26: ='OPINI Rinci v1'!AB373 -> 9 | AC26: ='OPINI Rinci v1'!AC373 -> 1 | AD26: ='OPINI Rinci v1'!AD373 -> 0 | AE26: ='OPINI Rinci v1'!AE373 -> 1 | AF26: =SUM(AB26:AE26) -> 11 | AG26: ='OPINI Rinci v1'!AG373 -> 7 | AH26: ='OPINI Rinci v1'!AH373 -> 3 | AI26: ='OPINI Rinci v1'!AI373 -> 0 | AJ26: ='OPINI Rinci v1'!AJ373 -> 1 | AK26: =SUM(AG26:AJ26) -> 11 | AL26: ='OPINI Rinci v1'!AL373 -> 3 | AM26: ='OPINI Rinci v1'!AM373 -> 7 | AN26: ='OPINI Rinci v1'!AN373 -> 0 | AO26: ='OPINI Rinci v1'!AO373 -> 0 | AP26: =SUM(AL26:AO26) -> 10 | AQ26: ='OPINI Rinci v1'!AQ373 -> 2 | AR26: ='OPINI Rinci v1'!AR373 -> 8 | AS26: ='OPINI Rinci v1'!AS373 -> 0 | AT26: ='OPINI Rinci v1'!AT373 -> 0 | AU26: =SUM(AQ26:AT26) -> 10 | AV26: =F26-AU26 -> 5 | AW26: ='OPINI Rinci v1'!AV373 -> 0 | AX26: ='OPINI Rinci v1'!AW373 -> 7 | AY26: ='OPINI Rinci v1'!AX373 -> 1 | AZ26: ='OPINI Rinci v1'!AY373 -> 2 | BA26: =SUM(AW26:AZ26) -> 10 | BB26: =F26-BA26 -> 5 | BC26: ='OPINI Rinci v1'!BA373 -> 0 | BD26: ='OPINI Rinci v1'!BB373 -> 4 | BE26: ='OPINI Rinci v1'!BC373 -> 4 | BF26: ='OPINI Rinci v1'!BD373 -> 2 | BG26: =SUM(BC26:BF26) -> 10 | BH26: =F26-BG26 -> 5 | BI26: ='OPINI Rinci v1'!BF373 -> 0 | BJ26: ='OPINI Rinci v1'!BG373 -> 2 | BK26: ='OPINI Rinci v1'!BH373 -> 6 | BL26: ='OPINI Rinci v1'!BI373 -> 2 | BM26: ='OPINI Rinci v1'!BJ373 -> 10 | BN26: ='OPINI Rinci v1'!BK373 -> 0 | BO26: ='OPINI Rinci v1'!BL373 -> 3 | BP26: ='OPINI Rinci v1'!BM373 -> 4 | ... CG26: ='OPINI Rinci v1'!CD373 -> 8
B27: 21 | D27: PROV KALTARA | F27: 0 | G27: 6 | H27: ='OPINI Rinci v1'!H386 -> 6 | I27: ='OPINI Rinci v1'!I386 -> 0 | J27: ='OPINI Rinci v1'!J386 -> 0 | K27: ='OPINI Rinci v1'!K386 -> 0 | L27: =SUM(H27:K27) -> 6 | M27: ='OPINI Rinci v1'!M386 -> 4 | N27: ='OPINI Rinci v1'!N386 -> 2 | O27: ='OPINI Rinci v1'!O386 -> 0 | P27: ='OPINI Rinci v1'!P386 -> 0 | Q27: =SUM(M27:P27) -> 6 | R27: ='OPINI Rinci v1'!R386 -> 3 | S27: ='OPINI Rinci v1'!S386 -> 3 | T27: ='OPINI Rinci v1'!T386 -> 0 | U27: ='OPINI Rinci v1'!U386 -> 0 | V27: =SUM(R27:U27) -> 6 | W27: ='OPINI Rinci v1'!W386 -> 3 | X27: ='OPINI Rinci v1'!X386 -> 3 | Y27: ='OPINI Rinci v1'!Y386 -> 0 | Z27: ='OPINI Rinci v1'!Z386 -> 0 | AA27: =SUM(W27:Z27) -> 6 | AB27: ='OPINI Rinci v1'!AB386 -> 3 | AC27: ='OPINI Rinci v1'!AC386 -> 3 | AD27: ='OPINI Rinci v1'!AD386 -> 0 | AE27: ='OPINI Rinci v1'!AE386 -> 0 | AF27: =SUM(AB27:AE27) -> 6 | AG27: ='OPINI Rinci v1'!AG386 -> 3 | AH27: ='OPINI Rinci v1'!AH386 -> 3 | AI27: ='OPINI Rinci v1'!AI386 -> 0 | AJ27: ='OPINI Rinci v1'!AJ386 -> 0 | AK27: =SUM(AG27:AJ27) -> 6 | AL27: ='OPINI Rinci v1'!AL386 -> 1 | AM27: ='OPINI Rinci v1'!AM386 -> 4 | AN27: ='OPINI Rinci v1'!AN386 -> 0 | AO27: ='OPINI Rinci v1'!AO386 -> 0 | AP27: =SUM(AL27:AO27) -> 5 | AQ27: ='OPINI Rinci v1'!AQ386 -> 1 | AR27: ='OPINI Rinci v1'!AR386 -> 4 | AS27: ='OPINI Rinci v1'!AS386 -> 0 | AT27: ='OPINI Rinci v1'!AT386 -> 0 | AU27: =SUM(AQ27:AT27) -> 5 | AV27: =F27-AU27 -> -5 | AW27: ='OPINI Rinci v1'!AV386 -> 0 | AX27: ='OPINI Rinci v1'!AW386 -> 4 | AY27: ='OPINI Rinci v1'!AX386 -> 0 | AZ27: ='OPINI Rinci v1'!AY386 -> 1 | BA27: =SUM(AW27:AZ27) -> 5 | BB27: =F27-BA27 -> -5 | BC27: ='OPINI Rinci v1'!BA386 -> 0 | BD27: ='OPINI Rinci v1'!BB386 -> 1 | BE27: ='OPINI Rinci v1'!BC386 -> 3 | BF27: ='OPINI Rinci v1'!BD386 -> 1 | BG27: =SUM(BC27:BF27) -> 5 | BH27: =F27-BG27 -> -5 | BI27: ='OPINI Rinci v1'!BF386 -> 0 | BJ27: ='OPINI Rinci v1'!BG386 -> 2 | BK27: ='OPINI Rinci v1'!BH386 -> 2 | BL27: ='OPINI Rinci v1'!BI386 -> 1 | BM27: ='OPINI Rinci v1'!BJ386 -> 5 | BN27: ='OPINI Rinci v1'!BK386 -> 0 | BO27: ='OPINI Rinci v1'!BL386 -> 2 | BP27: ='OPINI Rinci v1'!BM386 -> 2 | ... CG27: ='OPINI Rinci v1'!CD386 -> 3
B28: 22 | D28: PROV SULUT | F28: 16 | G28: 16 | H28: ='OPINI Rinci v1'!H394 -> 15 | I28: ='OPINI Rinci v1'!I394 -> 1 | J28: ='OPINI Rinci v1'!J394 -> 0 | K28: ='OPINI Rinci v1'!K394 -> 0 | L28: =SUM(H28:K28) -> 16 | M28: ='OPINI Rinci v1'!M394 -> 15 | N28: ='OPINI Rinci v1'!N394 -> 0 | O28: ='OPINI Rinci v1'!O394 -> 0 | P28: ='OPINI Rinci v1'!P394 -> 1 | Q28: =SUM(M28:P28) -> 16 | R28: ='OPINI Rinci v1'!R394 -> 15 | S28: ='OPINI Rinci v1'!S394 -> 0 | T28: ='OPINI Rinci v1'!T394 -> 0 | U28: ='OPINI Rinci v1'!U394 -> 1 | V28: =SUM(R28:U28) -> 16 | W28: ='OPINI Rinci v1'!W394 -> 14 | X28: ='OPINI Rinci v1'!X394 -> 1 | Y28: ='OPINI Rinci v1'!Y394 -> 0 | Z28: ='OPINI Rinci v1'!Z394 -> 1 | AA28: =SUM(W28:Z28) -> 16 | AB28: ='OPINI Rinci v1'!AB394 -> 12 | AC28: ='OPINI Rinci v1'!AC394 -> 4 | AD28: ='OPINI Rinci v1'!AD394 -> 0 | AE28: ='OPINI Rinci v1'!AE394 -> 0 | AF28: =SUM(AB28:AE28) -> 16 | AG28: ='OPINI Rinci v1'!AG394 -> 10 | AH28: ='OPINI Rinci v1'!AH394 -> 6 | AI28: ='OPINI Rinci v1'!AI394 -> 0 | AJ28: ='OPINI Rinci v1'!AJ394 -> 0 | AK28: =SUM(AG28:AJ28) -> 16 | AL28: ='OPINI Rinci v1'!AL394 -> 5 | AM28: ='OPINI Rinci v1'!AM394 -> 7 | AN28: ='OPINI Rinci v1'!AN394 -> 4 | AO28: ='OPINI Rinci v1'!AO394 -> 0 | AP28: =SUM(AL28:AO28) -> 16 | AQ28: ='OPINI Rinci v1'!AQ394 -> 2 | AR28: ='OPINI Rinci v1'!AR394 -> 7 | AS28: ='OPINI Rinci v1'!AS394 -> 2 | AT28: ='OPINI Rinci v1'!AT394 -> 5 | AU28: =SUM(AQ28:AT28) -> 16 | AV28: =F28-AU28 -> 0 | AW28: ='OPINI Rinci v1'!AV394 -> 1 | AX28: ='OPINI Rinci v1'!AW394 -> 3 | AY28: ='OPINI Rinci v1'!AX394 -> 2 | AZ28: ='OPINI Rinci v1'!AY394 -> 10 | BA28: =SUM(AW28:AZ28) -> 16 | BB28: =F28-BA28 -> 0 | BC28: ='OPINI Rinci v1'!BA394 -> 1 | BD28: ='OPINI Rinci v1'!BB394 -> 2 | BE28: ='OPINI Rinci v1'!BC394 -> 6 | BF28: ='OPINI Rinci v1'!BD394 -> 7 | BG28: =SUM(BC28:BF28) -> 16 | BH28: =F28-BG28 -> 0 | BI28: ='OPINI Rinci v1'!BF394 -> 1 | BJ28: ='OPINI Rinci v1'!BG394 -> 9 | BK28: ='OPINI Rinci v1'!BH394 -> 4 | BL28: ='OPINI Rinci v1'!BI394 -> 2 | BM28: ='OPINI Rinci v1'!BJ394 -> 16 | BN28: ='OPINI Rinci v1'!BK394 -> 0 | BO28: ='OPINI Rinci v1'!BL394 -> 10 | BP28: ='OPINI Rinci v1'!BM394 -> 2 | ... CG28: ='OPINI Rinci v1'!CD394 -> 8
B29: 23 | D29: PROV GORONTALO | F29: 7 | G29: 7 | H29: ='OPINI Rinci v1'!H412 -> 6 | I29: ='OPINI Rinci v1'!I412 -> 0 | J29: ='OPINI Rinci v1'!J412 -> 0 | K29: ='OPINI Rinci v1'!K412 -> 0 | L29: =SUM(H29:K29) -> 6 | M29: ='OPINI Rinci v1'!M412 -> 7 | N29: ='OPINI Rinci v1'!N412 -> 0 | O29: ='OPINI Rinci v1'!O412 -> 0 | P29: ='OPINI Rinci v1'!P412 -> 0 | Q29: =SUM(M29:P29) -> 7 | R29: ='OPINI Rinci v1'!R412 -> 7 | S29: ='OPINI Rinci v1'!S412 -> 0 | T29: ='OPINI Rinci v1'!T412 -> 0 | U29: ='OPINI Rinci v1'!U412 -> 0 | V29: =SUM(R29:U29) -> 7 | W29: ='OPINI Rinci v1'!W412 -> 5 | X29: ='OPINI Rinci v1'!X412 -> 2 | Y29: ='OPINI Rinci v1'!Y412 -> 0 | Z29: ='OPINI Rinci v1'!Z412 -> 0 | AA29: =SUM(W29:Z29) -> 7 | AB29: ='OPINI Rinci v1'!AB412 -> 7 | AC29: ='OPINI Rinci v1'!AC412 -> 0 | AD29: ='OPINI Rinci v1'!AD412 -> 0 | AE29: ='OPINI Rinci v1'!AE412 -> 0 | AF29: =SUM(AB29:AE29) -> 7 | AG29: ='OPINI Rinci v1'!AG412 -> 7 | AH29: ='OPINI Rinci v1'!AH412 -> 0 | AI29: ='OPINI Rinci v1'!AI412 -> 0 | AJ29: ='OPINI Rinci v1'!AJ412 -> 0 | AK29: =SUM(AG29:AJ29) -> 7 | AL29: ='OPINI Rinci v1'!AL412 -> 5 | AM29: ='OPINI Rinci v1'!AM412 -> 2 | AN29: ='OPINI Rinci v1'!AN412 -> 0 | AO29: ='OPINI Rinci v1'!AO412 -> 0 | AP29: =SUM(AL29:AO29) -> 7 | AQ29: ='OPINI Rinci v1'!AQ412 -> 1 | AR29: ='OPINI Rinci v1'!AR412 -> 6 | AS29: ='OPINI Rinci v1'!AS412 -> 0 | AT29: ='OPINI Rinci v1'!AT412 -> 0 | AU29: =SUM(AQ29:AT29) -> 7 | AV29: =F29-AU29 -> 0 | AW29: ='OPINI Rinci v1'!AV412 -> 0 | AX29: ='OPINI Rinci v1'!AW412 -> 7 | AY29: ='OPINI Rinci v1'!AX412 -> 0 | AZ29: ='OPINI Rinci v1'!AY412 -> 0 | BA29: =SUM(AW29:AZ29) -> 7 | BB29: =F29-BA29 -> 0 | BC29: ='OPINI Rinci v1'!BA412 -> 1 | BD29: ='OPINI Rinci v1'!BB412 -> 6 | BE29: ='OPINI Rinci v1'!BC412 -> 0 | BF29: ='OPINI Rinci v1'!BD412 -> 0 | BG29: =SUM(BC29:BF29) -> 7 | BH29: =F29-BG29 -> 0 | BI29: ='OPINI Rinci v1'!BF412 -> 1 | BJ29: ='OPINI Rinci v1'!BG412 -> 6 | BK29: ='OPINI Rinci v1'!BH412 -> 0 | BL29: ='OPINI Rinci v1'!BI412 -> 0 | BM29: ='OPINI Rinci v1'!BJ412 -> 7 | BN29: ='OPINI Rinci v1'!BK412 -> 0 | BO29: ='OPINI Rinci v1'!BL412 -> 5 | BP29: ='OPINI Rinci v1'!BM412 -> 0 | ... CG29: ='OPINI Rinci v1'!CD412 -> 6
B30: 24 | D30: PROV SULTENG | F30: 12 | G30: 14 | H30: ='OPINI Rinci v1'!H421 -> 13 | I30: ='OPINI Rinci v1'!I421 -> 0 | J30: ='OPINI Rinci v1'!J421 -> 0 | K30: ='OPINI Rinci v1'!K421 -> 0 | L30: =SUM(H30:K30) -> 13 | M30: ='OPINI Rinci v1'!M421 -> 10 | N30: ='OPINI Rinci v1'!N421 -> 4 | O30: ='OPINI Rinci v1'!O421 -> 0 | P30: ='OPINI Rinci v1'!P421 -> 0 | Q30: =SUM(M30:P30) -> 14 | R30: ='OPINI Rinci v1'!R421 -> 8 | S30: ='OPINI Rinci v1'!S421 -> 6 | T30: ='OPINI Rinci v1'!T421 -> 0 | U30: ='OPINI Rinci v1'!U421 -> 0 | V30: =SUM(R30:U30) -> 14 | W30: ='OPINI Rinci v1'!W421 -> 6 | X30: ='OPINI Rinci v1'!X421 -> 8 | Y30: ='OPINI Rinci v1'!Y421 -> 0 | Z30: ='OPINI Rinci v1'!Z421 -> 0 | AA30: =SUM(W30:Z30) -> 14 | AB30: ='OPINI Rinci v1'!AB421 -> 7 | AC30: ='OPINI Rinci v1'!AC421 -> 5 | AD30: ='OPINI Rinci v1'!AD421 -> 0 | AE30: ='OPINI Rinci v1'!AE421 -> 2 | AF30: =SUM(AB30:AE30) -> 14 | AG30: ='OPINI Rinci v1'!AG421 -> 6 | AH30: ='OPINI Rinci v1'!AH421 -> 6 | AI30: ='OPINI Rinci v1'!AI421 -> 0 | AJ30: ='OPINI Rinci v1'!AJ421 -> 2 | AK30: =SUM(AG30:AJ30) -> 14 | AL30: ='OPINI Rinci v1'!AL421 -> 4 | AM30: ='OPINI Rinci v1'!AM421 -> 8 | AN30: ='OPINI Rinci v1'!AN421 -> 0 | AO30: ='OPINI Rinci v1'!AO421 -> 0 | AP30: =SUM(AL30:AO30) -> 12 | AQ30: ='OPINI Rinci v1'!AQ421 -> 9 | AR30: ='OPINI Rinci v1'!AR421 -> 2 | AS30: ='OPINI Rinci v1'!AS421 -> 0 | AT30: ='OPINI Rinci v1'!AT421 -> 1 | AU30: =SUM(AQ30:AT30) -> 12 | AV30: =F30-AU30 -> 0 | AW30: ='OPINI Rinci v1'!AV421 -> 3 | AX30: ='OPINI Rinci v1'!AW421 -> 9 | AY30: ='OPINI Rinci v1'!AX421 -> 0 | AZ30: ='OPINI Rinci v1'!AY421 -> 0 | BA30: =SUM(AW30:AZ30) -> 12 | BB30: =F30-BA30 -> 0 | BC30: ='OPINI Rinci v1'!BA421 -> 0 | BD30: ='OPINI Rinci v1'!BB421 -> 10 | BE30: ='OPINI Rinci v1'!BC421 -> 0 | BF30: ='OPINI Rinci v1'!BD421 -> 2 | BG30: =SUM(BC30:BF30) -> 12 | BH30: =F30-BG30 -> 0 | BI30: ='OPINI Rinci v1'!BF421 -> 0 | BJ30: ='OPINI Rinci v1'!BG421 -> 4 | BK30: ='OPINI Rinci v1'!BH421 -> 0 | BL30: ='OPINI Rinci v1'!BI421 -> 8 | BM30: ='OPINI Rinci v1'!BJ421 -> 12 | BN30: ='OPINI Rinci v1'!BK421 -> 0 | BO30: ='OPINI Rinci v1'!BL421 -> 5 | BP30: ='OPINI Rinci v1'!BM421 -> 0 | ... CG30: ='OPINI Rinci v1'!CD421 -> 8
B31: 25 | D31: PROV SULSEL | F31: 25 | G31: 25 | H31: ='OPINI Rinci v1'!H437 -> 21 | I31: ='OPINI Rinci v1'!I437 -> 3 | J31: ='OPINI Rinci v1'!J437 -> 0 | K31: ='OPINI Rinci v1'!K437 -> 0 | L31: =SUM(H31:K31) -> 24 | M31: ='OPINI Rinci v1'!M437 -> 21 | N31: ='OPINI Rinci v1'!N437 -> 4 | O31: ='OPINI Rinci v1'!O437 -> 0 | P31: ='OPINI Rinci v1'!P437 -> 0 | Q31: =SUM(M31:P31) -> 25 | R31: ='OPINI Rinci v1'!R437 -> 21 | S31: ='OPINI Rinci v1'!S437 -> 4 | T31: ='OPINI Rinci v1'!T437 -> 0 | U31: ='OPINI Rinci v1'!U437 -> 0 | V31: =SUM(R31:U31) -> 25 | W31: ='OPINI Rinci v1'!W437 -> 22 | X31: ='OPINI Rinci v1'!X437 -> 3 | Y31: ='OPINI Rinci v1'!Y437 -> 0 | Z31: ='OPINI Rinci v1'!Z437 -> 0 | AA31: =SUM(W31:Z31) -> 25 | AB31: ='OPINI Rinci v1'!AB437 -> 17 | AC31: ='OPINI Rinci v1'!AC437 -> 5 | AD31: ='OPINI Rinci v1'!AD437 -> 2 | AE31: ='OPINI Rinci v1'!AE437 -> 1 | AF31: =SUM(AB31:AE31) -> 25 | AG31: ='OPINI Rinci v1'!AG437 -> 10 | AH31: ='OPINI Rinci v1'!AH437 -> 13 | AI31: ='OPINI Rinci v1'!AI437 -> 0 | AJ31: ='OPINI Rinci v1'!AJ437 -> 2 | AK31: =SUM(AG31:AJ31) -> 25 | AL31: ='OPINI Rinci v1'!AL437 -> 8 | AM31: ='OPINI Rinci v1'!AM437 -> 13 | AN31: ='OPINI Rinci v1'!AN437 -> 0 | AO31: ='OPINI Rinci v1'!AO437 -> 4 | AP31: =SUM(AL31:AO31) -> 25 | AQ31: ='OPINI Rinci v1'!AQ437 -> 7 | AR31: ='OPINI Rinci v1'!AR437 -> 12 | AS31: ='OPINI Rinci v1'!AS437 -> 0 | AT31: ='OPINI Rinci v1'!AT437 -> 6 | AU31: =SUM(AQ31:AT31) -> 25 | AV31: =F31-AU31 -> 0 | AW31: ='OPINI Rinci v1'!AV437 -> 3 | AX31: ='OPINI Rinci v1'!AW437 -> 16 | AY31: ='OPINI Rinci v1'!AX437 -> 0 | AZ31: ='OPINI Rinci v1'!AY437 -> 6 | BA31: =SUM(AW31:AZ31) -> 25 | BB31: =F31-BA31 -> 0 | BC31: ='OPINI Rinci v1'!BA437 -> 2 | BD31: ='OPINI Rinci v1'!BB437 -> 18 | BE31: ='OPINI Rinci v1'!BC437 -> 0 | BF31: ='OPINI Rinci v1'!BD437 -> 5 | BG31: =SUM(BC31:BF31) -> 25 | BH31: =F31-BG31 -> 0 | BI31: ='OPINI Rinci v1'!BF437 -> 0 | BJ31: ='OPINI Rinci v1'!BG437 -> 23 | BK31: ='OPINI Rinci v1'!BH437 -> 0 | BL31: ='OPINI Rinci v1'!BI437 -> 2 | BM31: ='OPINI Rinci v1'!BJ437 -> 25 | BN31: ='OPINI Rinci v1'!BK437 -> 0 | BO31: ='OPINI Rinci v1'!BL437 -> 20 | BP31: ='OPINI Rinci v1'!BM437 -> 0 | ... CG31: ='OPINI Rinci v1'!CD437 -> 20
